    BEGIN:VCALENDAR
VERSION:2.0
PRODID:-//The Journal of Antiques and Collectibles - ECPv6.15.20//NONSGML v1.0//EN
CALSCALE:GREGORIAN
METHOD:PUBLISH
X-WR-CALNAME:The Journal of Antiques and Collectibles
X-ORIGINAL-URL:https://journalofantiques.com
X-WR-CALDESC:Events for The Journal of Antiques and Collectibles
REFRESH-INTERVAL;VALUE=DURATION:PT1H
X-Robots-Tag:noindex
X-PUBLISHED-TTL:PT1H
BEGIN:VTIMEZONE
TZID:America/New_York
BEGIN:DAYLIGHT
TZOFFSETFROM:-0500
TZOFFSETTO:-0400
TZNAME:EDT
DTSTART:20250309T070000
END:DAYLIGHT
BEGIN:STANDARD
TZOFFSETFROM:-0400
TZOFFSETTO:-0500
TZNAME:EST
DTSTART:20251102T060000
END:STANDARD
BEGIN:DAYLIGHT
TZOFFSETFROM:-0500
TZOFFSETTO:-0400
TZNAME:EDT
DTSTART:20260308T070000
END:DAYLIGHT
BEGIN:STANDARD
TZOFFSETFROM:-0400
TZOFFSETTO:-0500
TZNAME:EST
DTSTART:20261101T060000
END:STANDARD
BEGIN:DAYLIGHT
TZOFFSETFROM:-0500
TZOFFSETTO:-0400
TZNAME:EDT
DTSTART:20270314T070000
END:DAYLIGHT
BEGIN:STANDARD
TZOFFSETFROM:-0400
TZOFFSETTO:-0500
TZNAME:EST
DTSTART:20271107T060000
END:STANDARD
END:VTIMEZONE
BEGIN:VEVENT
DTSTART;TZID=America/New_York:20260507T100000
DTEND;TZID=America/New_York:20260510T170000
DTSTAMP:20260424T072430
CREATED:20260104T213810Z
LAST-MODIFIED:20260104T213810Z
UID:10005251-1778148000-1778432400@journalofantiques.com
SUMMARY:Scott Antique Markets
DESCRIPTION:May 7-10: Atlanta\, GA \nScott Antique Markets \nAtlanta Expo Center \n3650 & 3850 Jonesboro Road \n10 am-5 pm \n740-569-4112 \nwww.scottantiquemarket.com
URL:https://journalofantiques.com/event/scott-antique-markets-14/
LOCATION:Atlanta Expo Centers\, 3650 & 3850 Jonesboro Road SE\, Atlanta\, GA
CATEGORIES:Antique Shows
END:VEVENT
BEGIN:VEVENT
DTSTART;TZID=America/New_York:20260611T100000
DTEND;TZID=America/New_York:20260614T170000
DTSTAMP:20260424T072430
CREATED:20260104T214058Z
LAST-MODIFIED:20260104T214058Z
UID:10005252-1781172000-1781456400@journalofantiques.com
SUMMARY:Scott Antique Markets
DESCRIPTION:June 11-14: Atlanta\, GA \nScott Antique Markets \nAtlanta Expo Center \n3650 & 3850 Jonesboro Road \n10 am-5 pm \n740-569-4112 \nwww.scottantiquemarket.com
URL:https://journalofantiques.com/event/scott-antique-markets-15/
LOCATION:Atlanta Expo Centers\, 3650 & 3850 Jonesboro Road SE\, Atlanta\, GA
CATEGORIES:Antique Shows
END:VEVENT
BEGIN:VEVENT
DTSTART;TZID=America/New_York:20260709T100000
DTEND;TZID=America/New_York:20260712T170000
DTSTAMP:20260424T072430
CREATED:20260104T214213Z
LAST-MODIFIED:20260104T214213Z
UID:10005253-1783591200-1783875600@journalofantiques.com
SUMMARY:Scott Antique Markets
DESCRIPTION:July 9-12: Atlanta\, GA \nScott Antique Markets \nAtlanta Expo Center \n3650 & 3850 Jonesboro Road \n10 am-5 pm \n740-569-4112 \nwww.scottantiquemarket.com
URL:https://journalofantiques.com/event/scott-antique-markets-16/
LOCATION:Atlanta Expo Centers\, 3650 & 3850 Jonesboro Road SE\, Atlanta\, GA
CATEGORIES:Antique Shows
END:VEVENT
BEGIN:VEVENT
DTSTART;TZID=America/New_York:20260806T100000
DTEND;TZID=America/New_York:20260809T170000
DTSTAMP:20260424T072430
CREATED:20260104T214314Z
LAST-MODIFIED:20260104T214314Z
UID:10005254-1786010400-1786294800@journalofantiques.com
SUMMARY:Scott Antique Markets
DESCRIPTION:August 6-9: Atlanta\, GA \nScott Antique Markets \nAtlanta Expo Center \n3650 & 3850 Jonesboro Road \n10 am-5 pm \n740-569-4112 \nwww.scottantiquemarket.com
URL:https://journalofantiques.com/event/scott-antique-markets-17/
LOCATION:Atlanta Expo Centers\, 3650 & 3850 Jonesboro Road SE\, Atlanta\, GA
CATEGORIES:Antique Shows
END:VEVENT
BEGIN:VEVENT
DTSTART;TZID=America/New_York:20260910T100000
DTEND;TZID=America/New_York:20260913T170000
DTSTAMP:20260424T072430
CREATED:20260104T214435Z
LAST-MODIFIED:20260104T214435Z
UID:10005255-1789034400-1789318800@journalofantiques.com
SUMMARY:Scott Antique Markets
DESCRIPTION:September 10-13: Atlanta\, GA \nScott Antique Markets \nAtlanta Expo Center \n3650 & 3850 Jonesboro Road \n10 am-5 pm \n740-569-4112 \nwww.scottantiquemarket.com
URL:https://journalofantiques.com/event/scott-antique-markets-18/
LOCATION:Atlanta Expo Centers\, 3650 & 3850 Jonesboro Road SE\, Atlanta\, GA
CATEGORIES:Antique Shows
END:VEVENT
BEGIN:VEVENT
DTSTART;TZID=America/New_York:20261008T100000
DTEND;TZID=America/New_York:20261011T170000
DTSTAMP:20260424T072430
CREATED:20260104T214543Z
LAST-MODIFIED:20260104T214543Z
UID:10005256-1791453600-1791738000@journalofantiques.com
SUMMARY:Scott Antique Markets
DESCRIPTION:October 8-11: Atlanta\, GA \nScott Antique Markets \nAtlanta Expo Center \n3650 & 3850 Jonesboro Road \n10 am-5 pm \n740-569-4112 \nwww.scottantiquemarket.com
URL:https://journalofantiques.com/event/scott-antique-markets-19/
LOCATION:Atlanta Expo Centers\, 3650 & 3850 Jonesboro Road SE\, Atlanta\, GA
CATEGORIES:Antique Shows
END:VEVENT
BEGIN:VEVENT
DTSTART;TZID=America/New_York:20261112T100000
DTEND;TZID=America/New_York:20261115T170000
DTSTAMP:20260424T072430
CREATED:20260104T214654Z
LAST-MODIFIED:20260104T214654Z
UID:10005257-1794477600-1794762000@journalofantiques.com
SUMMARY:Scott Antique Markets
DESCRIPTION:November 12-15: Atlanta\, GA \nScott Antique Markets \nAtlanta Expo Center \n3650 & 3850 Jonesboro Road \n10 am-5 pm \n740-569-4112 \nwww.scottantiquemarket.com
URL:https://journalofantiques.com/event/scott-antique-markets-20/
LOCATION:Atlanta Expo Centers\, 3650 & 3850 Jonesboro Road SE\, Atlanta\, GA
CATEGORIES:Antique Shows
END:VEVENT
BEGIN:VEVENT
DTSTART;TZID=America/New_York:20261210T100000
DTEND;TZID=America/New_York:20261213T170000
DTSTAMP:20260424T072430
CREATED:20260104T214822Z
LAST-MODIFIED:20260104T214906Z
UID:10005258-1796896800-1797181200@journalofantiques.com
SUMMARY:Scott Antique Markets
DESCRIPTION:November 12-15: Atlanta\, GA \nScott Antique Markets \nAtlanta Expo Center \n3650 & 3850 Jonesboro Road \n10 am-5 pm \n740-569-4112 \nwww.scottantiquemarket.com
URL:https://journalofantiques.com/event/scott-antique-markets-21/
LOCATION:Atlanta Expo Centers\, 3650 & 3850 Jonesboro Road SE\, Atlanta\, GA
CATEGORIES:Antique Shows
END:VEVENT
END:VCALENDAR