    BEGIN:VCALENDAR
VERSION:2.0
PRODID:-//The Journal of Antiques and Collectibles - ECPv6.15.20//NONSGML v1.0//EN
CALSCALE:GREGORIAN
METHOD:PUBLISH
X-ORIGINAL-URL:https://journalofantiques.com
X-WR-CALDESC:Events for The Journal of Antiques and Collectibles
REFRESH-INTERVAL;VALUE=DURATION:PT1H
X-Robots-Tag:noindex
X-PUBLISHED-TTL:PT1H
BEGIN:VTIMEZONE
TZID:America/New_York
BEGIN:DAYLIGHT
TZOFFSETFROM:-0500
TZOFFSETTO:-0400
TZNAME:EDT
DTSTART:20250309T070000
END:DAYLIGHT
BEGIN:STANDARD
TZOFFSETFROM:-0400
TZOFFSETTO:-0500
TZNAME:EST
DTSTART:20251102T060000
END:STANDARD
BEGIN:DAYLIGHT
TZOFFSETFROM:-0500
TZOFFSETTO:-0400
TZNAME:EDT
DTSTART:20260308T070000
END:DAYLIGHT
BEGIN:STANDARD
TZOFFSETFROM:-0400
TZOFFSETTO:-0500
TZNAME:EST
DTSTART:20261101T060000
END:STANDARD
BEGIN:DAYLIGHT
TZOFFSETFROM:-0500
TZOFFSETTO:-0400
TZNAME:EDT
DTSTART:20270314T070000
END:DAYLIGHT
BEGIN:STANDARD
TZOFFSETFROM:-0400
TZOFFSETTO:-0500
TZNAME:EST
DTSTART:20271107T060000
END:STANDARD
END:VTIMEZONE
BEGIN:VEVENT
DTSTART;TZID=America/New_York:20260412T093000
DTEND;TZID=America/New_York:20260412T143000
DTSTAMP:20260425T074154
CREATED:20260203T221055Z
LAST-MODIFIED:20260203T221055Z
UID:10005701-1775986200-1776004200@journalofantiques.com
SUMMARY:EBW Promotions Monthly Coin Show
DESCRIPTION:April 12: Auburn\, MA \nEBW Promotions Monthly Coin Show \nAuburn-Webster Elks Lodge \n754 Southbridge Street (Rt 12) \n9:30 am-2:30 pm \nEBW Promotions\, LLC\, 978-658-0160 \ninfo@ebwpromotions.com \nwww.ebwpromotions.com
URL:https://journalofantiques.com/event/ebw-promotions-monthly-coin-show-5/
LOCATION:Auburn-Webster Elks Lodge\, 754 Southbridge Street\, Auburn\, MA\, 01501\, United States
CATEGORIES:Antique Shows
END:VEVENT
BEGIN:VEVENT
DTSTART;TZID=America/New_York:20260308T093000
DTEND;TZID=America/New_York:20260308T143000
DTSTAMP:20260425T074154
CREATED:20251217T224427Z
LAST-MODIFIED:20251217T224427Z
UID:10005235-1772962200-1772980200@journalofantiques.com
SUMMARY:EBW Promotions Monthly Coin Show
DESCRIPTION:March 8: Auburn\, MA \nEBW Promotions Monthly Coin Show \nAuburn-Webster Elks Lodge \n754 Southbridge Street (Rt 12) \n9:30 am-2:30 pm \nEBW Promotions\, LLC\, 978-658-0160 \ninfo@ebwpromotions.com \nwww.ebwpromotions.com
URL:https://journalofantiques.com/event/ebw-promotions-monthly-coin-show-3/
LOCATION:Auburn-Webster Elks Lodge\, 754 Southbridge Street\, Auburn\, MA\, 01501\, United States
CATEGORIES:Antique Shows
END:VEVENT
BEGIN:VEVENT
DTSTART;TZID=America/New_York:20260208T093000
DTEND;TZID=America/New_York:20260208T143000
DTSTAMP:20260425T074154
CREATED:20251217T222130Z
LAST-MODIFIED:20251217T222130Z
UID:10005224-1770543000-1770561000@journalofantiques.com
SUMMARY:EBW Promotions Monthly Coin Show
DESCRIPTION:February 8: Auburn\, MA\nEBW Promotions Monthly Coin Show\nAuburn-Webster Elks Lodge\n754 Southbridge Street (Rt 12)\n9:30 am-2:30 pm\nEBW Promotions\, LLC\, 978-658-0160\ninfo@ebwpromotions.com\nwww.ebwpromotions.com
URL:https://journalofantiques.com/event/ebw-promotions-monthly-coin-show/
LOCATION:Auburn-Webster Elks Lodge\, 754 Southbridge Street\, Auburn\, MA\, 01501\, United States
CATEGORIES:Antique Shows
END:VEVENT
END:VCALENDAR