    BEGIN:VCALENDAR
VERSION:2.0
PRODID:-//The Journal of Antiques and Collectibles - ECPv6.15.20//NONSGML v1.0//EN
CALSCALE:GREGORIAN
METHOD:PUBLISH
X-ORIGINAL-URL:https://journalofantiques.com
X-WR-CALDESC:Events for The Journal of Antiques and Collectibles
REFRESH-INTERVAL;VALUE=DURATION:PT1H
X-Robots-Tag:noindex
X-PUBLISHED-TTL:PT1H
BEGIN:VTIMEZONE
TZID:America/New_York
BEGIN:DAYLIGHT
TZOFFSETFROM:-0500
TZOFFSETTO:-0400
TZNAME:EDT
DTSTART:20250309T070000
END:DAYLIGHT
BEGIN:STANDARD
TZOFFSETFROM:-0400
TZOFFSETTO:-0500
TZNAME:EST
DTSTART:20251102T060000
END:STANDARD
BEGIN:DAYLIGHT
TZOFFSETFROM:-0500
TZOFFSETTO:-0400
TZNAME:EDT
DTSTART:20260308T070000
END:DAYLIGHT
BEGIN:STANDARD
TZOFFSETFROM:-0400
TZOFFSETTO:-0500
TZNAME:EST
DTSTART:20261101T060000
END:STANDARD
BEGIN:DAYLIGHT
TZOFFSETFROM:-0500
TZOFFSETTO:-0400
TZNAME:EDT
DTSTART:20270314T070000
END:DAYLIGHT
BEGIN:STANDARD
TZOFFSETFROM:-0400
TZOFFSETTO:-0500
TZNAME:EST
DTSTART:20271107T060000
END:STANDARD
END:VTIMEZONE
BEGIN:VEVENT
DTSTART;TZID=America/New_York:20260809T093000
DTEND;TZID=America/New_York:20260809T143000
DTSTAMP:20260425T061914
CREATED:20260220T210410Z
LAST-MODIFIED:20260220T210410Z
UID:10005775-1786267800-1786285800@journalofantiques.com
SUMMARY:EBW Promotions Monthly Coin Show
DESCRIPTION:August 9: Auburn\, MA \nEBW Promotions Monthly Coin Show \nAuburn-Webster Elks Lodge \n754 Southbridge Street (Rt 12) \n9:30 am-2:30 pm \nEBW Promotions\, LLC\, 978-658-0160 \ninfo@ebwpromotions.com \nwww.ebwpromotions.com
URL:https://journalofantiques.com/event/ebw-promotions-monthly-coin-show-6/
LOCATION:Auburn-Webster Elks Lodge\, 754 Southbridge Street\, Auburn\, MA\, 01501\, United States
CATEGORIES:Antique Shows
END:VEVENT
BEGIN:VEVENT
DTSTART;TZID=America/New_York:20261108T093000
DTEND;TZID=America/New_York:20261108T143000
DTSTAMP:20260425T061914
CREATED:20260220T210516Z
LAST-MODIFIED:20260220T210607Z
UID:10005776-1794130200-1794148200@journalofantiques.com
SUMMARY:EBW Promotions Monthly Coin Show
DESCRIPTION:November 8: Auburn\, MA \nEBW Promotions Monthly Coin Show \nAuburn-Webster Elks Lodge \n754 Southbridge Street (Rt 12) \n9:30 am-2:30 pm \nEBW Promotions\, LLC\, 978-658-0160 \ninfo@ebwpromotions.com \nwww.ebwpromotions.com
URL:https://journalofantiques.com/event/ebw-promotions-monthly-coin-show-7/
LOCATION:Auburn-Webster Elks Lodge\, 754 Southbridge Street\, Auburn\, MA\, 01501\, United States
CATEGORIES:Antique Shows
END:VEVENT
BEGIN:VEVENT
DTSTART;TZID=America/New_York:20261213T093000
DTEND;TZID=America/New_York:20261213T143000
DTSTAMP:20260425T061914
CREATED:20260203T220633Z
LAST-MODIFIED:20260203T220633Z
UID:10005699-1797154200-1797172200@journalofantiques.com
SUMMARY:EBW Promotions Monthly Coin Show
DESCRIPTION:December 13: Auburn\, MA \nEBW Promotions Monthly Coin Show \nAuburn-Webster Elks Lodge \n754 Southbridge Street (Rt 12) \n9:30 am-2:30 pm \nEBW Promotions\, LLC\, 978-658-0160 \ninfo@ebwpromotions.com \nwww.ebwpromotions.com
URL:https://journalofantiques.com/event/ebw-promotions-monthly-coin-show-4/
LOCATION:Auburn-Webster Elks Lodge\, 754 Southbridge Street\, Auburn\, MA\, 01501\, United States
CATEGORIES:Antique Shows
END:VEVENT
END:VCALENDAR