    BEGIN:VCALENDAR
VERSION:2.0
PRODID:-//The Journal of Antiques and Collectibles - ECPv6.15.20//NONSGML v1.0//EN
CALSCALE:GREGORIAN
METHOD:PUBLISH
X-ORIGINAL-URL:https://journalofantiques.com
X-WR-CALDESC:Events for The Journal of Antiques and Collectibles
REFRESH-INTERVAL;VALUE=DURATION:PT1H
X-Robots-Tag:noindex
X-PUBLISHED-TTL:PT1H
BEGIN:VTIMEZONE
TZID:America/New_York
BEGIN:DAYLIGHT
TZOFFSETFROM:-0500
TZOFFSETTO:-0400
TZNAME:EDT
DTSTART:20250309T070000
END:DAYLIGHT
BEGIN:STANDARD
TZOFFSETFROM:-0400
TZOFFSETTO:-0500
TZNAME:EST
DTSTART:20251102T060000
END:STANDARD
BEGIN:DAYLIGHT
TZOFFSETFROM:-0500
TZOFFSETTO:-0400
TZNAME:EDT
DTSTART:20260308T070000
END:DAYLIGHT
BEGIN:STANDARD
TZOFFSETFROM:-0400
TZOFFSETTO:-0500
TZNAME:EST
DTSTART:20261101T060000
END:STANDARD
BEGIN:DAYLIGHT
TZOFFSETFROM:-0500
TZOFFSETTO:-0400
TZNAME:EDT
DTSTART:20270314T070000
END:DAYLIGHT
BEGIN:STANDARD
TZOFFSETFROM:-0400
TZOFFSETTO:-0500
TZNAME:EST
DTSTART:20271107T060000
END:STANDARD
END:VTIMEZONE
BEGIN:VEVENT
DTSTART;TZID=America/New_York:20260620T100000
DTEND;TZID=America/New_York:20260620T150000
DTSTAMP:20260424T145542
CREATED:20260218T031954Z
LAST-MODIFIED:20260218T032700Z
UID:10005758-1781949600-1781967600@journalofantiques.com
SUMMARY:CCADA Late Spring Falmouth MA Antiques Show
DESCRIPTION:June 20: East Falmouth\, MA \nCCADA Late Spring Falmouth MA Antiques Show \nCape Cod Fairgrounds (Home of the Barnstable County Fair) \n1220 Nathan Ellis Highway\, Route 151 \n10 am-3 pm \nCape Cod Antique Dealers Association \n774-722-2108 \ninfo@ccada.com \nccada.com
URL:https://journalofantiques.com/event/ccada-late-spring-falmouth-ma-antiques-show/
LOCATION:Cape Cod Fairgrounds\, 1220 Nathan Ellis Highway\, Route 151\, East Falmouth\, MA\, 02536\, United States
CATEGORIES:Antique Shows
END:VEVENT
END:VCALENDAR