    BEGIN:VCALENDAR
VERSION:2.0
PRODID:-//The Journal of Antiques and Collectibles - ECPv6.15.20//NONSGML v1.0//EN
CALSCALE:GREGORIAN
METHOD:PUBLISH
X-WR-CALNAME:The Journal of Antiques and Collectibles
X-ORIGINAL-URL:https://journalofantiques.com
X-WR-CALDESC:Events for The Journal of Antiques and Collectibles
REFRESH-INTERVAL;VALUE=DURATION:PT1H
X-Robots-Tag:noindex
X-PUBLISHED-TTL:PT1H
BEGIN:VTIMEZONE
TZID:Atlantic/South_Georgia
BEGIN:STANDARD
TZOFFSETFROM:-0200
TZOFFSETTO:-0200
TZNAME:-02
DTSTART:20250101T000000
END:STANDARD
END:VTIMEZONE
BEGIN:VEVENT
DTSTART;VALUE=DATE:20260725
DTEND;VALUE=DATE:20260727
DTSTAMP:20260424T161518
CREATED:20260220T203620Z
LAST-MODIFIED:20260220T203620Z
UID:10005767-1784937600-1785110399@journalofantiques.com
SUMMARY:48th Vintage and Collectible Glass Show
DESCRIPTION:July 25-26: Marietta\, GA \n48th Vintage and Collectible Glass Show \nCobb County Civic Center \n548 S. Marietta Pkwy. \nSat. 8 am-5 pm\, Sun. 9 am-4 pm \nPeach State Depression Glass Club \n678-438-8458 \nshowchair@psdgc.com \nwww.psdgc.com
URL:https://journalofantiques.com/event/48th-vintage-and-collectible-glass-show/
LOCATION:Cobb County Civic Center\, 548 S. Marietta Pkwy.\, Marietta\, GA\, 30060\, United States
CATEGORIES:Antique Shows
END:VEVENT
END:VCALENDAR