    BEGIN:VCALENDAR
VERSION:2.0
PRODID:-//The Journal of Antiques and Collectibles - ECPv6.15.20//NONSGML v1.0//EN
CALSCALE:GREGORIAN
METHOD:PUBLISH
X-WR-CALNAME:The Journal of Antiques and Collectibles
X-ORIGINAL-URL:https://journalofantiques.com
X-WR-CALDESC:Events for The Journal of Antiques and Collectibles
REFRESH-INTERVAL;VALUE=DURATION:PT1H
X-Robots-Tag:noindex
X-PUBLISHED-TTL:PT1H
BEGIN:VTIMEZONE
TZID:America/New_York
BEGIN:DAYLIGHT
TZOFFSETFROM:-0500
TZOFFSETTO:-0400
TZNAME:EDT
DTSTART:20250309T070000
END:DAYLIGHT
BEGIN:STANDARD
TZOFFSETFROM:-0400
TZOFFSETTO:-0500
TZNAME:EST
DTSTART:20251102T060000
END:STANDARD
BEGIN:DAYLIGHT
TZOFFSETFROM:-0500
TZOFFSETTO:-0400
TZNAME:EDT
DTSTART:20260308T070000
END:DAYLIGHT
BEGIN:STANDARD
TZOFFSETFROM:-0400
TZOFFSETTO:-0500
TZNAME:EST
DTSTART:20261101T060000
END:STANDARD
BEGIN:DAYLIGHT
TZOFFSETFROM:-0500
TZOFFSETTO:-0400
TZNAME:EDT
DTSTART:20270314T070000
END:DAYLIGHT
BEGIN:STANDARD
TZOFFSETFROM:-0400
TZOFFSETTO:-0500
TZNAME:EST
DTSTART:20271107T060000
END:STANDARD
END:VTIMEZONE
BEGIN:VEVENT
DTSTART;TZID=America/New_York:20260419T090000
DTEND;TZID=America/New_York:20260419T160000
DTSTAMP:20260424T113933
CREATED:20251217T192905Z
LAST-MODIFIED:20251217T192905Z
UID:10002866-1776589200-1776614400@journalofantiques.com
SUMMARY:College Mart Flea Market
DESCRIPTION:January-December: Jewett City\, CT\nCollege Mart Flea Market\nSlater Mill Mall\, 39 Wedgewood Drive\nSundays 9am-4pm\n860-376-3935\, www.leoneauctioneers.com
URL:https://journalofantiques.com/event/college-mart-flea-market/2026-04-19/
LOCATION:College Mart Flea Market\, 39 Wedgewood Drive\, Jewett City\, CT\, United States
CATEGORIES:Antique Shows
END:VEVENT
BEGIN:VEVENT
DTSTART;TZID=America/New_York:20260412T090000
DTEND;TZID=America/New_York:20260412T160000
DTSTAMP:20260424T113933
CREATED:20251217T192905Z
LAST-MODIFIED:20251217T192905Z
UID:10002865-1775984400-1776009600@journalofantiques.com
SUMMARY:College Mart Flea Market
DESCRIPTION:January-December: Jewett City\, CT\nCollege Mart Flea Market\nSlater Mill Mall\, 39 Wedgewood Drive\nSundays 9am-4pm\n860-376-3935\, www.leoneauctioneers.com
URL:https://journalofantiques.com/event/college-mart-flea-market/2026-04-12/
LOCATION:College Mart Flea Market\, 39 Wedgewood Drive\, Jewett City\, CT\, United States
CATEGORIES:Antique Shows
END:VEVENT
BEGIN:VEVENT
DTSTART;TZID=America/New_York:20260405T090000
DTEND;TZID=America/New_York:20260405T160000
DTSTAMP:20260424T113933
CREATED:20251217T192905Z
LAST-MODIFIED:20251217T192905Z
UID:10002864-1775379600-1775404800@journalofantiques.com
SUMMARY:College Mart Flea Market
DESCRIPTION:January-December: Jewett City\, CT\nCollege Mart Flea Market\nSlater Mill Mall\, 39 Wedgewood Drive\nSundays 9am-4pm\n860-376-3935\, www.leoneauctioneers.com
URL:https://journalofantiques.com/event/college-mart-flea-market/2026-04-05/
LOCATION:College Mart Flea Market\, 39 Wedgewood Drive\, Jewett City\, CT\, United States
CATEGORIES:Antique Shows
END:VEVENT
BEGIN:VEVENT
DTSTART;TZID=America/New_York:20260329T090000
DTEND;TZID=America/New_York:20260329T160000
DTSTAMP:20260424T113933
CREATED:20251217T192905Z
LAST-MODIFIED:20251217T192905Z
UID:10002863-1774774800-1774800000@journalofantiques.com
SUMMARY:College Mart Flea Market
DESCRIPTION:January-December: Jewett City\, CT\nCollege Mart Flea Market\nSlater Mill Mall\, 39 Wedgewood Drive\nSundays 9am-4pm\n860-376-3935\, www.leoneauctioneers.com
URL:https://journalofantiques.com/event/college-mart-flea-market/2026-03-29/
LOCATION:College Mart Flea Market\, 39 Wedgewood Drive\, Jewett City\, CT\, United States
CATEGORIES:Antique Shows
END:VEVENT
BEGIN:VEVENT
DTSTART;TZID=America/New_York:20260322T090000
DTEND;TZID=America/New_York:20260322T160000
DTSTAMP:20260424T113933
CREATED:20251217T192905Z
LAST-MODIFIED:20251217T192905Z
UID:10002862-1774170000-1774195200@journalofantiques.com
SUMMARY:College Mart Flea Market
DESCRIPTION:January-December: Jewett City\, CT\nCollege Mart Flea Market\nSlater Mill Mall\, 39 Wedgewood Drive\nSundays 9am-4pm\n860-376-3935\, www.leoneauctioneers.com
URL:https://journalofantiques.com/event/college-mart-flea-market/2026-03-22/
LOCATION:College Mart Flea Market\, 39 Wedgewood Drive\, Jewett City\, CT\, United States
CATEGORIES:Antique Shows
END:VEVENT
BEGIN:VEVENT
DTSTART;TZID=America/New_York:20260315T090000
DTEND;TZID=America/New_York:20260315T160000
DTSTAMP:20260424T113933
CREATED:20251217T192905Z
LAST-MODIFIED:20251217T192905Z
UID:10002861-1773565200-1773590400@journalofantiques.com
SUMMARY:College Mart Flea Market
DESCRIPTION:January-December: Jewett City\, CT\nCollege Mart Flea Market\nSlater Mill Mall\, 39 Wedgewood Drive\nSundays 9am-4pm\n860-376-3935\, www.leoneauctioneers.com
URL:https://journalofantiques.com/event/college-mart-flea-market/2026-03-15/
LOCATION:College Mart Flea Market\, 39 Wedgewood Drive\, Jewett City\, CT\, United States
CATEGORIES:Antique Shows
END:VEVENT
BEGIN:VEVENT
DTSTART;TZID=America/New_York:20260308T090000
DTEND;TZID=America/New_York:20260308T160000
DTSTAMP:20260424T113933
CREATED:20251217T192905Z
LAST-MODIFIED:20251217T192905Z
UID:10002860-1772960400-1772985600@journalofantiques.com
SUMMARY:College Mart Flea Market
DESCRIPTION:January-December: Jewett City\, CT\nCollege Mart Flea Market\nSlater Mill Mall\, 39 Wedgewood Drive\nSundays 9am-4pm\n860-376-3935\, www.leoneauctioneers.com
URL:https://journalofantiques.com/event/college-mart-flea-market/2026-03-08/
LOCATION:College Mart Flea Market\, 39 Wedgewood Drive\, Jewett City\, CT\, United States
CATEGORIES:Antique Shows
END:VEVENT
BEGIN:VEVENT
DTSTART;TZID=America/New_York:20260301T090000
DTEND;TZID=America/New_York:20260301T160000
DTSTAMP:20260424T113933
CREATED:20251217T192905Z
LAST-MODIFIED:20251217T192905Z
UID:10002859-1772355600-1772380800@journalofantiques.com
SUMMARY:College Mart Flea Market
DESCRIPTION:January-December: Jewett City\, CT\nCollege Mart Flea Market\nSlater Mill Mall\, 39 Wedgewood Drive\nSundays 9am-4pm\n860-376-3935\, www.leoneauctioneers.com
URL:https://journalofantiques.com/event/college-mart-flea-market/2026-03-01/
LOCATION:College Mart Flea Market\, 39 Wedgewood Drive\, Jewett City\, CT\, United States
CATEGORIES:Antique Shows
END:VEVENT
BEGIN:VEVENT
DTSTART;TZID=America/New_York:20260222T090000
DTEND;TZID=America/New_York:20260222T160000
DTSTAMP:20260424T113933
CREATED:20251217T192905Z
LAST-MODIFIED:20251217T192905Z
UID:10002858-1771750800-1771776000@journalofantiques.com
SUMMARY:College Mart Flea Market
DESCRIPTION:January-December: Jewett City\, CT\nCollege Mart Flea Market\nSlater Mill Mall\, 39 Wedgewood Drive\nSundays 9am-4pm\n860-376-3935\, www.leoneauctioneers.com
URL:https://journalofantiques.com/event/college-mart-flea-market/2026-02-22/
LOCATION:College Mart Flea Market\, 39 Wedgewood Drive\, Jewett City\, CT\, United States
CATEGORIES:Antique Shows
END:VEVENT
BEGIN:VEVENT
DTSTART;TZID=America/New_York:20260215T090000
DTEND;TZID=America/New_York:20260215T160000
DTSTAMP:20260424T113933
CREATED:20251217T192905Z
LAST-MODIFIED:20251217T192905Z
UID:10002857-1771146000-1771171200@journalofantiques.com
SUMMARY:College Mart Flea Market
DESCRIPTION:January-December: Jewett City\, CT\nCollege Mart Flea Market\nSlater Mill Mall\, 39 Wedgewood Drive\nSundays 9am-4pm\n860-376-3935\, www.leoneauctioneers.com
URL:https://journalofantiques.com/event/college-mart-flea-market/2026-02-15/
LOCATION:College Mart Flea Market\, 39 Wedgewood Drive\, Jewett City\, CT\, United States
CATEGORIES:Antique Shows
END:VEVENT
BEGIN:VEVENT
DTSTART;TZID=America/New_York:20260208T090000
DTEND;TZID=America/New_York:20260208T160000
DTSTAMP:20260424T113933
CREATED:20251217T192905Z
LAST-MODIFIED:20251217T192905Z
UID:10002856-1770541200-1770566400@journalofantiques.com
SUMMARY:College Mart Flea Market
DESCRIPTION:January-December: Jewett City\, CT\nCollege Mart Flea Market\nSlater Mill Mall\, 39 Wedgewood Drive\nSundays 9am-4pm\n860-376-3935\, www.leoneauctioneers.com
URL:https://journalofantiques.com/event/college-mart-flea-market/2026-02-08/
LOCATION:College Mart Flea Market\, 39 Wedgewood Drive\, Jewett City\, CT\, United States
CATEGORIES:Antique Shows
END:VEVENT
BEGIN:VEVENT
DTSTART;TZID=America/New_York:20260201T090000
DTEND;TZID=America/New_York:20260201T160000
DTSTAMP:20260424T113933
CREATED:20251217T192905Z
LAST-MODIFIED:20251217T192905Z
UID:10002855-1769936400-1769961600@journalofantiques.com
SUMMARY:College Mart Flea Market
DESCRIPTION:January-December: Jewett City\, CT\nCollege Mart Flea Market\nSlater Mill Mall\, 39 Wedgewood Drive\nSundays 9am-4pm\n860-376-3935\, www.leoneauctioneers.com
URL:https://journalofantiques.com/event/college-mart-flea-market/2026-02-01/
LOCATION:College Mart Flea Market\, 39 Wedgewood Drive\, Jewett City\, CT\, United States
CATEGORIES:Antique Shows
END:VEVENT
BEGIN:VEVENT
DTSTART;TZID=America/New_York:20260125T090000
DTEND;TZID=America/New_York:20260125T160000
DTSTAMP:20260424T113933
CREATED:20251217T192905Z
LAST-MODIFIED:20251217T192905Z
UID:10002854-1769331600-1769356800@journalofantiques.com
SUMMARY:College Mart Flea Market
DESCRIPTION:January-December: Jewett City\, CT\nCollege Mart Flea Market\nSlater Mill Mall\, 39 Wedgewood Drive\nSundays 9am-4pm\n860-376-3935\, www.leoneauctioneers.com
URL:https://journalofantiques.com/event/college-mart-flea-market/2026-01-25/
LOCATION:College Mart Flea Market\, 39 Wedgewood Drive\, Jewett City\, CT\, United States
CATEGORIES:Antique Shows
END:VEVENT
END:VCALENDAR