    BEGIN:VCALENDAR
VERSION:2.0
PRODID:-//The Journal of Antiques and Collectibles - ECPv6.15.20//NONSGML v1.0//EN
CALSCALE:GREGORIAN
METHOD:PUBLISH
X-WR-CALNAME:The Journal of Antiques and Collectibles
X-ORIGINAL-URL:https://journalofantiques.com
X-WR-CALDESC:Events for The Journal of Antiques and Collectibles
REFRESH-INTERVAL;VALUE=DURATION:PT1H
X-Robots-Tag:noindex
X-PUBLISHED-TTL:PT1H
BEGIN:VTIMEZONE
TZID:America/New_York
BEGIN:DAYLIGHT
TZOFFSETFROM:-0500
TZOFFSETTO:-0400
TZNAME:EDT
DTSTART:20250309T070000
END:DAYLIGHT
BEGIN:STANDARD
TZOFFSETFROM:-0400
TZOFFSETTO:-0500
TZNAME:EST
DTSTART:20251102T060000
END:STANDARD
BEGIN:DAYLIGHT
TZOFFSETFROM:-0500
TZOFFSETTO:-0400
TZNAME:EDT
DTSTART:20260308T070000
END:DAYLIGHT
BEGIN:STANDARD
TZOFFSETFROM:-0400
TZOFFSETTO:-0500
TZNAME:EST
DTSTART:20261101T060000
END:STANDARD
BEGIN:DAYLIGHT
TZOFFSETFROM:-0500
TZOFFSETTO:-0400
TZNAME:EDT
DTSTART:20270314T070000
END:DAYLIGHT
BEGIN:STANDARD
TZOFFSETFROM:-0400
TZOFFSETTO:-0500
TZNAME:EST
DTSTART:20271107T060000
END:STANDARD
END:VTIMEZONE
BEGIN:VEVENT
DTSTART;TZID=America/New_York:20261122T090000
DTEND;TZID=America/New_York:20261122T160000
DTSTAMP:20260424T142615
CREATED:20251217T192905Z
LAST-MODIFIED:20251217T192905Z
UID:10002897-1795338000-1795363200@journalofantiques.com
SUMMARY:College Mart Flea Market
DESCRIPTION:January-December: Jewett City\, CT\nCollege Mart Flea Market\nSlater Mill Mall\, 39 Wedgewood Drive\nSundays 9am-4pm\n860-376-3935\, www.leoneauctioneers.com
URL:https://journalofantiques.com/event/college-mart-flea-market/2026-11-22/
LOCATION:College Mart Flea Market\, 39 Wedgewood Drive\, Jewett City\, CT\, United States
CATEGORIES:Antique Shows
END:VEVENT
BEGIN:VEVENT
DTSTART;TZID=America/New_York:20261129T090000
DTEND;TZID=America/New_York:20261129T160000
DTSTAMP:20260424T142615
CREATED:20251217T192905Z
LAST-MODIFIED:20251217T192905Z
UID:10002898-1795942800-1795968000@journalofantiques.com
SUMMARY:College Mart Flea Market
DESCRIPTION:January-December: Jewett City\, CT\nCollege Mart Flea Market\nSlater Mill Mall\, 39 Wedgewood Drive\nSundays 9am-4pm\n860-376-3935\, www.leoneauctioneers.com
URL:https://journalofantiques.com/event/college-mart-flea-market/2026-11-29/
LOCATION:College Mart Flea Market\, 39 Wedgewood Drive\, Jewett City\, CT\, United States
CATEGORIES:Antique Shows
END:VEVENT
BEGIN:VEVENT
DTSTART;TZID=America/New_York:20261206T090000
DTEND;TZID=America/New_York:20261206T160000
DTSTAMP:20260424T142615
CREATED:20251217T192905Z
LAST-MODIFIED:20251217T192905Z
UID:10002899-1796547600-1796572800@journalofantiques.com
SUMMARY:College Mart Flea Market
DESCRIPTION:January-December: Jewett City\, CT\nCollege Mart Flea Market\nSlater Mill Mall\, 39 Wedgewood Drive\nSundays 9am-4pm\n860-376-3935\, www.leoneauctioneers.com
URL:https://journalofantiques.com/event/college-mart-flea-market/2026-12-06/
LOCATION:College Mart Flea Market\, 39 Wedgewood Drive\, Jewett City\, CT\, United States
CATEGORIES:Antique Shows
END:VEVENT
BEGIN:VEVENT
DTSTART;TZID=America/New_York:20261213T090000
DTEND;TZID=America/New_York:20261213T160000
DTSTAMP:20260424T142615
CREATED:20251217T192905Z
LAST-MODIFIED:20251217T192905Z
UID:10002900-1797152400-1797177600@journalofantiques.com
SUMMARY:College Mart Flea Market
DESCRIPTION:January-December: Jewett City\, CT\nCollege Mart Flea Market\nSlater Mill Mall\, 39 Wedgewood Drive\nSundays 9am-4pm\n860-376-3935\, www.leoneauctioneers.com
URL:https://journalofantiques.com/event/college-mart-flea-market/2026-12-13/
LOCATION:College Mart Flea Market\, 39 Wedgewood Drive\, Jewett City\, CT\, United States
CATEGORIES:Antique Shows
END:VEVENT
BEGIN:VEVENT
DTSTART;TZID=America/New_York:20261220T090000
DTEND;TZID=America/New_York:20261220T160000
DTSTAMP:20260424T142615
CREATED:20251217T192905Z
LAST-MODIFIED:20251217T192905Z
UID:10002901-1797757200-1797782400@journalofantiques.com
SUMMARY:College Mart Flea Market
DESCRIPTION:January-December: Jewett City\, CT\nCollege Mart Flea Market\nSlater Mill Mall\, 39 Wedgewood Drive\nSundays 9am-4pm\n860-376-3935\, www.leoneauctioneers.com
URL:https://journalofantiques.com/event/college-mart-flea-market/2026-12-20/
LOCATION:College Mart Flea Market\, 39 Wedgewood Drive\, Jewett City\, CT\, United States
CATEGORIES:Antique Shows
END:VEVENT
BEGIN:VEVENT
DTSTART;TZID=America/New_York:20261227T090000
DTEND;TZID=America/New_York:20261227T160000
DTSTAMP:20260424T142615
CREATED:20251217T192905Z
LAST-MODIFIED:20251217T192905Z
UID:10002902-1798362000-1798387200@journalofantiques.com
SUMMARY:College Mart Flea Market
DESCRIPTION:January-December: Jewett City\, CT\nCollege Mart Flea Market\nSlater Mill Mall\, 39 Wedgewood Drive\nSundays 9am-4pm\n860-376-3935\, www.leoneauctioneers.com
URL:https://journalofantiques.com/event/college-mart-flea-market/2026-12-27/
LOCATION:College Mart Flea Market\, 39 Wedgewood Drive\, Jewett City\, CT\, United States
CATEGORIES:Antique Shows
END:VEVENT
END:VCALENDAR