    BEGIN:VCALENDAR
VERSION:2.0
PRODID:-//The Journal of Antiques and Collectibles - ECPv6.15.20//NONSGML v1.0//EN
CALSCALE:GREGORIAN
METHOD:PUBLISH
X-ORIGINAL-URL:https://journalofantiques.com
X-WR-CALDESC:Events for The Journal of Antiques and Collectibles
REFRESH-INTERVAL;VALUE=DURATION:PT1H
X-Robots-Tag:noindex
X-PUBLISHED-TTL:PT1H
BEGIN:VTIMEZONE
TZID:America/New_York
BEGIN:DAYLIGHT
TZOFFSETFROM:-0500
TZOFFSETTO:-0400
TZNAME:EDT
DTSTART:20250309T070000
END:DAYLIGHT
BEGIN:STANDARD
TZOFFSETFROM:-0400
TZOFFSETTO:-0500
TZNAME:EST
DTSTART:20251102T060000
END:STANDARD
BEGIN:DAYLIGHT
TZOFFSETFROM:-0500
TZOFFSETTO:-0400
TZNAME:EDT
DTSTART:20260308T070000
END:DAYLIGHT
BEGIN:STANDARD
TZOFFSETFROM:-0400
TZOFFSETTO:-0500
TZNAME:EST
DTSTART:20261101T060000
END:STANDARD
BEGIN:DAYLIGHT
TZOFFSETFROM:-0500
TZOFFSETTO:-0400
TZNAME:EDT
DTSTART:20270314T070000
END:DAYLIGHT
BEGIN:STANDARD
TZOFFSETFROM:-0400
TZOFFSETTO:-0500
TZNAME:EST
DTSTART:20271107T060000
END:STANDARD
BEGIN:DAYLIGHT
TZOFFSETFROM:-0500
TZOFFSETTO:-0400
TZNAME:EDT
DTSTART:20280312T070000
END:DAYLIGHT
BEGIN:STANDARD
TZOFFSETFROM:-0400
TZOFFSETTO:-0500
TZNAME:EST
DTSTART:20281105T060000
END:STANDARD
END:VTIMEZONE
BEGIN:VEVENT
DTSTART;TZID=America/New_York:20261121T060000
DTEND;TZID=America/New_York:20261121T160000
DTSTAMP:20260424T234627
CREATED:20251217T193310Z
LAST-MODIFIED:20251217T194004Z
UID:10003041-1795240800-1795276800@journalofantiques.com
SUMMARY:Golden Nugget Antique Flea Market
DESCRIPTION:January-December: Lambertville\, NJ\nGolden Nugget Antique Flea Market\n1850 River Road\, Route 29\nWed.\, Sat. & Sun. 6am-4pm\nIndoor Shops open 8am\,\n400 outdoor flea market tables\n609-397-0811\ninfo@gnflea.com\, www.gnflea.com
URL:https://journalofantiques.com/event/golden-nugget-antique-flea-market/2026-11-21/
LOCATION:Golden Nugget Antique Flea Market\, 1850 River Road\, Route 29\, Lambertville\, NJ\, United States
CATEGORIES:Antique Shows
END:VEVENT
BEGIN:VEVENT
DTSTART;TZID=America/New_York:20261122T060000
DTEND;TZID=America/New_York:20261122T160000
DTSTAMP:20260424T234627
CREATED:20251217T193310Z
LAST-MODIFIED:20251217T194004Z
UID:10003042-1795327200-1795363200@journalofantiques.com
SUMMARY:Golden Nugget Antique Flea Market
DESCRIPTION:January-December: Lambertville\, NJ\nGolden Nugget Antique Flea Market\n1850 River Road\, Route 29\nWed.\, Sat. & Sun. 6am-4pm\nIndoor Shops open 8am\,\n400 outdoor flea market tables\n609-397-0811\ninfo@gnflea.com\, www.gnflea.com
URL:https://journalofantiques.com/event/golden-nugget-antique-flea-market/2026-11-22/
LOCATION:Golden Nugget Antique Flea Market\, 1850 River Road\, Route 29\, Lambertville\, NJ\, United States
CATEGORIES:Antique Shows
END:VEVENT
BEGIN:VEVENT
DTSTART;TZID=America/New_York:20261125T060000
DTEND;TZID=America/New_York:20261125T160000
DTSTAMP:20260424T234627
CREATED:20251217T193310Z
LAST-MODIFIED:20251217T194004Z
UID:10003043-1795586400-1795622400@journalofantiques.com
SUMMARY:Golden Nugget Antique Flea Market
DESCRIPTION:January-December: Lambertville\, NJ\nGolden Nugget Antique Flea Market\n1850 River Road\, Route 29\nWed.\, Sat. & Sun. 6am-4pm\nIndoor Shops open 8am\,\n400 outdoor flea market tables\n609-397-0811\ninfo@gnflea.com\, www.gnflea.com
URL:https://journalofantiques.com/event/golden-nugget-antique-flea-market/2026-11-25/
LOCATION:Golden Nugget Antique Flea Market\, 1850 River Road\, Route 29\, Lambertville\, NJ\, United States
CATEGORIES:Antique Shows
END:VEVENT
BEGIN:VEVENT
DTSTART;TZID=America/New_York:20261128T060000
DTEND;TZID=America/New_York:20261128T160000
DTSTAMP:20260424T234627
CREATED:20251217T193310Z
LAST-MODIFIED:20251217T194004Z
UID:10003044-1795845600-1795881600@journalofantiques.com
SUMMARY:Golden Nugget Antique Flea Market
DESCRIPTION:January-December: Lambertville\, NJ\nGolden Nugget Antique Flea Market\n1850 River Road\, Route 29\nWed.\, Sat. & Sun. 6am-4pm\nIndoor Shops open 8am\,\n400 outdoor flea market tables\n609-397-0811\ninfo@gnflea.com\, www.gnflea.com
URL:https://journalofantiques.com/event/golden-nugget-antique-flea-market/2026-11-28/
LOCATION:Golden Nugget Antique Flea Market\, 1850 River Road\, Route 29\, Lambertville\, NJ\, United States
CATEGORIES:Antique Shows
END:VEVENT
BEGIN:VEVENT
DTSTART;TZID=America/New_York:20261129T060000
DTEND;TZID=America/New_York:20261129T160000
DTSTAMP:20260424T234627
CREATED:20251217T193310Z
LAST-MODIFIED:20251217T194004Z
UID:10003045-1795932000-1795968000@journalofantiques.com
SUMMARY:Golden Nugget Antique Flea Market
DESCRIPTION:January-December: Lambertville\, NJ\nGolden Nugget Antique Flea Market\n1850 River Road\, Route 29\nWed.\, Sat. & Sun. 6am-4pm\nIndoor Shops open 8am\,\n400 outdoor flea market tables\n609-397-0811\ninfo@gnflea.com\, www.gnflea.com
URL:https://journalofantiques.com/event/golden-nugget-antique-flea-market/2026-11-29/
LOCATION:Golden Nugget Antique Flea Market\, 1850 River Road\, Route 29\, Lambertville\, NJ\, United States
CATEGORIES:Antique Shows
END:VEVENT
BEGIN:VEVENT
DTSTART;TZID=America/New_York:20261202T060000
DTEND;TZID=America/New_York:20261202T160000
DTSTAMP:20260424T234627
CREATED:20251217T193310Z
LAST-MODIFIED:20251217T194004Z
UID:10003046-1796191200-1796227200@journalofantiques.com
SUMMARY:Golden Nugget Antique Flea Market
DESCRIPTION:January-December: Lambertville\, NJ\nGolden Nugget Antique Flea Market\n1850 River Road\, Route 29\nWed.\, Sat. & Sun. 6am-4pm\nIndoor Shops open 8am\,\n400 outdoor flea market tables\n609-397-0811\ninfo@gnflea.com\, www.gnflea.com
URL:https://journalofantiques.com/event/golden-nugget-antique-flea-market/2026-12-02/
LOCATION:Golden Nugget Antique Flea Market\, 1850 River Road\, Route 29\, Lambertville\, NJ\, United States
CATEGORIES:Antique Shows
END:VEVENT
BEGIN:VEVENT
DTSTART;TZID=America/New_York:20261205T060000
DTEND;TZID=America/New_York:20261205T160000
DTSTAMP:20260424T234627
CREATED:20251217T193310Z
LAST-MODIFIED:20251217T194004Z
UID:10003047-1796450400-1796486400@journalofantiques.com
SUMMARY:Golden Nugget Antique Flea Market
DESCRIPTION:January-December: Lambertville\, NJ\nGolden Nugget Antique Flea Market\n1850 River Road\, Route 29\nWed.\, Sat. & Sun. 6am-4pm\nIndoor Shops open 8am\,\n400 outdoor flea market tables\n609-397-0811\ninfo@gnflea.com\, www.gnflea.com
URL:https://journalofantiques.com/event/golden-nugget-antique-flea-market/2026-12-05/
LOCATION:Golden Nugget Antique Flea Market\, 1850 River Road\, Route 29\, Lambertville\, NJ\, United States
CATEGORIES:Antique Shows
END:VEVENT
BEGIN:VEVENT
DTSTART;TZID=America/New_York:20261206T060000
DTEND;TZID=America/New_York:20261206T160000
DTSTAMP:20260424T234627
CREATED:20251217T193310Z
LAST-MODIFIED:20251217T194004Z
UID:10003048-1796536800-1796572800@journalofantiques.com
SUMMARY:Golden Nugget Antique Flea Market
DESCRIPTION:January-December: Lambertville\, NJ\nGolden Nugget Antique Flea Market\n1850 River Road\, Route 29\nWed.\, Sat. & Sun. 6am-4pm\nIndoor Shops open 8am\,\n400 outdoor flea market tables\n609-397-0811\ninfo@gnflea.com\, www.gnflea.com
URL:https://journalofantiques.com/event/golden-nugget-antique-flea-market/2026-12-06/
LOCATION:Golden Nugget Antique Flea Market\, 1850 River Road\, Route 29\, Lambertville\, NJ\, United States
CATEGORIES:Antique Shows
END:VEVENT
BEGIN:VEVENT
DTSTART;TZID=America/New_York:20261209T060000
DTEND;TZID=America/New_York:20261209T160000
DTSTAMP:20260424T234627
CREATED:20251217T193310Z
LAST-MODIFIED:20251217T194004Z
UID:10003049-1796796000-1796832000@journalofantiques.com
SUMMARY:Golden Nugget Antique Flea Market
DESCRIPTION:January-December: Lambertville\, NJ\nGolden Nugget Antique Flea Market\n1850 River Road\, Route 29\nWed.\, Sat. & Sun. 6am-4pm\nIndoor Shops open 8am\,\n400 outdoor flea market tables\n609-397-0811\ninfo@gnflea.com\, www.gnflea.com
URL:https://journalofantiques.com/event/golden-nugget-antique-flea-market/2026-12-09/
LOCATION:Golden Nugget Antique Flea Market\, 1850 River Road\, Route 29\, Lambertville\, NJ\, United States
CATEGORIES:Antique Shows
END:VEVENT
BEGIN:VEVENT
DTSTART;TZID=America/New_York:20261212T060000
DTEND;TZID=America/New_York:20261212T160000
DTSTAMP:20260424T234627
CREATED:20251217T193310Z
LAST-MODIFIED:20251217T194004Z
UID:10003050-1797055200-1797091200@journalofantiques.com
SUMMARY:Golden Nugget Antique Flea Market
DESCRIPTION:January-December: Lambertville\, NJ\nGolden Nugget Antique Flea Market\n1850 River Road\, Route 29\nWed.\, Sat. & Sun. 6am-4pm\nIndoor Shops open 8am\,\n400 outdoor flea market tables\n609-397-0811\ninfo@gnflea.com\, www.gnflea.com
URL:https://journalofantiques.com/event/golden-nugget-antique-flea-market/2026-12-12/
LOCATION:Golden Nugget Antique Flea Market\, 1850 River Road\, Route 29\, Lambertville\, NJ\, United States
CATEGORIES:Antique Shows
END:VEVENT
BEGIN:VEVENT
DTSTART;TZID=America/New_York:20261213T060000
DTEND;TZID=America/New_York:20261213T160000
DTSTAMP:20260424T234627
CREATED:20251217T193310Z
LAST-MODIFIED:20251217T194004Z
UID:10003051-1797141600-1797177600@journalofantiques.com
SUMMARY:Golden Nugget Antique Flea Market
DESCRIPTION:January-December: Lambertville\, NJ\nGolden Nugget Antique Flea Market\n1850 River Road\, Route 29\nWed.\, Sat. & Sun. 6am-4pm\nIndoor Shops open 8am\,\n400 outdoor flea market tables\n609-397-0811\ninfo@gnflea.com\, www.gnflea.com
URL:https://journalofantiques.com/event/golden-nugget-antique-flea-market/2026-12-13/
LOCATION:Golden Nugget Antique Flea Market\, 1850 River Road\, Route 29\, Lambertville\, NJ\, United States
CATEGORIES:Antique Shows
END:VEVENT
BEGIN:VEVENT
DTSTART;TZID=America/New_York:20261216T060000
DTEND;TZID=America/New_York:20261216T160000
DTSTAMP:20260424T234627
CREATED:20251217T193310Z
LAST-MODIFIED:20251217T194004Z
UID:10003052-1797400800-1797436800@journalofantiques.com
SUMMARY:Golden Nugget Antique Flea Market
DESCRIPTION:January-December: Lambertville\, NJ\nGolden Nugget Antique Flea Market\n1850 River Road\, Route 29\nWed.\, Sat. & Sun. 6am-4pm\nIndoor Shops open 8am\,\n400 outdoor flea market tables\n609-397-0811\ninfo@gnflea.com\, www.gnflea.com
URL:https://journalofantiques.com/event/golden-nugget-antique-flea-market/2026-12-16/
LOCATION:Golden Nugget Antique Flea Market\, 1850 River Road\, Route 29\, Lambertville\, NJ\, United States
CATEGORIES:Antique Shows
END:VEVENT
BEGIN:VEVENT
DTSTART;TZID=America/New_York:20261219T060000
DTEND;TZID=America/New_York:20261219T160000
DTSTAMP:20260424T234627
CREATED:20251217T193310Z
LAST-MODIFIED:20251217T194004Z
UID:10003053-1797660000-1797696000@journalofantiques.com
SUMMARY:Golden Nugget Antique Flea Market
DESCRIPTION:January-December: Lambertville\, NJ\nGolden Nugget Antique Flea Market\n1850 River Road\, Route 29\nWed.\, Sat. & Sun. 6am-4pm\nIndoor Shops open 8am\,\n400 outdoor flea market tables\n609-397-0811\ninfo@gnflea.com\, www.gnflea.com
URL:https://journalofantiques.com/event/golden-nugget-antique-flea-market/2026-12-19/
LOCATION:Golden Nugget Antique Flea Market\, 1850 River Road\, Route 29\, Lambertville\, NJ\, United States
CATEGORIES:Antique Shows
END:VEVENT
BEGIN:VEVENT
DTSTART;TZID=America/New_York:20261220T060000
DTEND;TZID=America/New_York:20261220T160000
DTSTAMP:20260424T234627
CREATED:20251217T193310Z
LAST-MODIFIED:20251217T194004Z
UID:10003054-1797746400-1797782400@journalofantiques.com
SUMMARY:Golden Nugget Antique Flea Market
DESCRIPTION:January-December: Lambertville\, NJ\nGolden Nugget Antique Flea Market\n1850 River Road\, Route 29\nWed.\, Sat. & Sun. 6am-4pm\nIndoor Shops open 8am\,\n400 outdoor flea market tables\n609-397-0811\ninfo@gnflea.com\, www.gnflea.com
URL:https://journalofantiques.com/event/golden-nugget-antique-flea-market/2026-12-20/
LOCATION:Golden Nugget Antique Flea Market\, 1850 River Road\, Route 29\, Lambertville\, NJ\, United States
CATEGORIES:Antique Shows
END:VEVENT
BEGIN:VEVENT
DTSTART;TZID=America/New_York:20261223T060000
DTEND;TZID=America/New_York:20261223T160000
DTSTAMP:20260424T234627
CREATED:20251217T193310Z
LAST-MODIFIED:20251217T194004Z
UID:10003055-1798005600-1798041600@journalofantiques.com
SUMMARY:Golden Nugget Antique Flea Market
DESCRIPTION:January-December: Lambertville\, NJ\nGolden Nugget Antique Flea Market\n1850 River Road\, Route 29\nWed.\, Sat. & Sun. 6am-4pm\nIndoor Shops open 8am\,\n400 outdoor flea market tables\n609-397-0811\ninfo@gnflea.com\, www.gnflea.com
URL:https://journalofantiques.com/event/golden-nugget-antique-flea-market/2026-12-23/
LOCATION:Golden Nugget Antique Flea Market\, 1850 River Road\, Route 29\, Lambertville\, NJ\, United States
CATEGORIES:Antique Shows
END:VEVENT
BEGIN:VEVENT
DTSTART;TZID=America/New_York:20261226T060000
DTEND;TZID=America/New_York:20261226T160000
DTSTAMP:20260424T234627
CREATED:20251217T193310Z
LAST-MODIFIED:20251217T194004Z
UID:10003056-1798264800-1798300800@journalofantiques.com
SUMMARY:Golden Nugget Antique Flea Market
DESCRIPTION:January-December: Lambertville\, NJ\nGolden Nugget Antique Flea Market\n1850 River Road\, Route 29\nWed.\, Sat. & Sun. 6am-4pm\nIndoor Shops open 8am\,\n400 outdoor flea market tables\n609-397-0811\ninfo@gnflea.com\, www.gnflea.com
URL:https://journalofantiques.com/event/golden-nugget-antique-flea-market/2026-12-26/
LOCATION:Golden Nugget Antique Flea Market\, 1850 River Road\, Route 29\, Lambertville\, NJ\, United States
CATEGORIES:Antique Shows
END:VEVENT
BEGIN:VEVENT
DTSTART;TZID=America/New_York:20261227T060000
DTEND;TZID=America/New_York:20261227T160000
DTSTAMP:20260424T234627
CREATED:20251217T193310Z
LAST-MODIFIED:20251217T194004Z
UID:10003057-1798351200-1798387200@journalofantiques.com
SUMMARY:Golden Nugget Antique Flea Market
DESCRIPTION:January-December: Lambertville\, NJ\nGolden Nugget Antique Flea Market\n1850 River Road\, Route 29\nWed.\, Sat. & Sun. 6am-4pm\nIndoor Shops open 8am\,\n400 outdoor flea market tables\n609-397-0811\ninfo@gnflea.com\, www.gnflea.com
URL:https://journalofantiques.com/event/golden-nugget-antique-flea-market/2026-12-27/
LOCATION:Golden Nugget Antique Flea Market\, 1850 River Road\, Route 29\, Lambertville\, NJ\, United States
CATEGORIES:Antique Shows
END:VEVENT
BEGIN:VEVENT
DTSTART;TZID=America/New_York:20261230T060000
DTEND;TZID=America/New_York:20261230T160000
DTSTAMP:20260424T234627
CREATED:20251217T193310Z
LAST-MODIFIED:20251217T194004Z
UID:10003058-1798610400-1798646400@journalofantiques.com
SUMMARY:Golden Nugget Antique Flea Market
DESCRIPTION:January-December: Lambertville\, NJ\nGolden Nugget Antique Flea Market\n1850 River Road\, Route 29\nWed.\, Sat. & Sun. 6am-4pm\nIndoor Shops open 8am\,\n400 outdoor flea market tables\n609-397-0811\ninfo@gnflea.com\, www.gnflea.com
URL:https://journalofantiques.com/event/golden-nugget-antique-flea-market/2026-12-30/
LOCATION:Golden Nugget Antique Flea Market\, 1850 River Road\, Route 29\, Lambertville\, NJ\, United States
CATEGORIES:Antique Shows
END:VEVENT
BEGIN:VEVENT
DTSTART;TZID=America/New_York:20270102T060000
DTEND;TZID=America/New_York:20270102T160000
DTSTAMP:20260424T234627
CREATED:20251217T193310Z
LAST-MODIFIED:20251217T194004Z
UID:10003059-1798869600-1798905600@journalofantiques.com
SUMMARY:Golden Nugget Antique Flea Market
DESCRIPTION:January-December: Lambertville\, NJ\nGolden Nugget Antique Flea Market\n1850 River Road\, Route 29\nWed.\, Sat. & Sun. 6am-4pm\nIndoor Shops open 8am\,\n400 outdoor flea market tables\n609-397-0811\ninfo@gnflea.com\, www.gnflea.com
URL:https://journalofantiques.com/event/golden-nugget-antique-flea-market/2027-01-02/
LOCATION:Golden Nugget Antique Flea Market\, 1850 River Road\, Route 29\, Lambertville\, NJ\, United States
CATEGORIES:Antique Shows
END:VEVENT
BEGIN:VEVENT
DTSTART;TZID=America/New_York:20270103T060000
DTEND;TZID=America/New_York:20270103T160000
DTSTAMP:20260424T234627
CREATED:20251217T193310Z
LAST-MODIFIED:20251217T194004Z
UID:10003060-1798956000-1798992000@journalofantiques.com
SUMMARY:Golden Nugget Antique Flea Market
DESCRIPTION:January-December: Lambertville\, NJ\nGolden Nugget Antique Flea Market\n1850 River Road\, Route 29\nWed.\, Sat. & Sun. 6am-4pm\nIndoor Shops open 8am\,\n400 outdoor flea market tables\n609-397-0811\ninfo@gnflea.com\, www.gnflea.com
URL:https://journalofantiques.com/event/golden-nugget-antique-flea-market/2027-01-03/
LOCATION:Golden Nugget Antique Flea Market\, 1850 River Road\, Route 29\, Lambertville\, NJ\, United States
CATEGORIES:Antique Shows
END:VEVENT
BEGIN:VEVENT
DTSTART;TZID=America/New_York:20270106T060000
DTEND;TZID=America/New_York:20270106T160000
DTSTAMP:20260424T234627
CREATED:20251217T193310Z
LAST-MODIFIED:20251217T194004Z
UID:10003061-1799215200-1799251200@journalofantiques.com
SUMMARY:Golden Nugget Antique Flea Market
DESCRIPTION:January-December: Lambertville\, NJ\nGolden Nugget Antique Flea Market\n1850 River Road\, Route 29\nWed.\, Sat. & Sun. 6am-4pm\nIndoor Shops open 8am\,\n400 outdoor flea market tables\n609-397-0811\ninfo@gnflea.com\, www.gnflea.com
URL:https://journalofantiques.com/event/golden-nugget-antique-flea-market/2027-01-06/
LOCATION:Golden Nugget Antique Flea Market\, 1850 River Road\, Route 29\, Lambertville\, NJ\, United States
CATEGORIES:Antique Shows
END:VEVENT
BEGIN:VEVENT
DTSTART;TZID=America/New_York:20270109T060000
DTEND;TZID=America/New_York:20270109T160000
DTSTAMP:20260424T234627
CREATED:20251217T193310Z
LAST-MODIFIED:20251217T194004Z
UID:10003062-1799474400-1799510400@journalofantiques.com
SUMMARY:Golden Nugget Antique Flea Market
DESCRIPTION:January-December: Lambertville\, NJ\nGolden Nugget Antique Flea Market\n1850 River Road\, Route 29\nWed.\, Sat. & Sun. 6am-4pm\nIndoor Shops open 8am\,\n400 outdoor flea market tables\n609-397-0811\ninfo@gnflea.com\, www.gnflea.com
URL:https://journalofantiques.com/event/golden-nugget-antique-flea-market/2027-01-09/
LOCATION:Golden Nugget Antique Flea Market\, 1850 River Road\, Route 29\, Lambertville\, NJ\, United States
CATEGORIES:Antique Shows
END:VEVENT
BEGIN:VEVENT
DTSTART;TZID=America/New_York:20270110T060000
DTEND;TZID=America/New_York:20270110T160000
DTSTAMP:20260424T234627
CREATED:20251217T193310Z
LAST-MODIFIED:20251217T194004Z
UID:10003063-1799560800-1799596800@journalofantiques.com
SUMMARY:Golden Nugget Antique Flea Market
DESCRIPTION:January-December: Lambertville\, NJ\nGolden Nugget Antique Flea Market\n1850 River Road\, Route 29\nWed.\, Sat. & Sun. 6am-4pm\nIndoor Shops open 8am\,\n400 outdoor flea market tables\n609-397-0811\ninfo@gnflea.com\, www.gnflea.com
URL:https://journalofantiques.com/event/golden-nugget-antique-flea-market/2027-01-10/
LOCATION:Golden Nugget Antique Flea Market\, 1850 River Road\, Route 29\, Lambertville\, NJ\, United States
CATEGORIES:Antique Shows
END:VEVENT
BEGIN:VEVENT
DTSTART;TZID=America/New_York:20270113T060000
DTEND;TZID=America/New_York:20270113T160000
DTSTAMP:20260424T234627
CREATED:20251217T193310Z
LAST-MODIFIED:20251217T194004Z
UID:10003064-1799820000-1799856000@journalofantiques.com
SUMMARY:Golden Nugget Antique Flea Market
DESCRIPTION:January-December: Lambertville\, NJ\nGolden Nugget Antique Flea Market\n1850 River Road\, Route 29\nWed.\, Sat. & Sun. 6am-4pm\nIndoor Shops open 8am\,\n400 outdoor flea market tables\n609-397-0811\ninfo@gnflea.com\, www.gnflea.com
URL:https://journalofantiques.com/event/golden-nugget-antique-flea-market/2027-01-13/
LOCATION:Golden Nugget Antique Flea Market\, 1850 River Road\, Route 29\, Lambertville\, NJ\, United States
CATEGORIES:Antique Shows
END:VEVENT
BEGIN:VEVENT
DTSTART;TZID=America/New_York:20270116T060000
DTEND;TZID=America/New_York:20270116T160000
DTSTAMP:20260424T234627
CREATED:20251217T193310Z
LAST-MODIFIED:20251217T194004Z
UID:10003065-1800079200-1800115200@journalofantiques.com
SUMMARY:Golden Nugget Antique Flea Market
DESCRIPTION:January-December: Lambertville\, NJ\nGolden Nugget Antique Flea Market\n1850 River Road\, Route 29\nWed.\, Sat. & Sun. 6am-4pm\nIndoor Shops open 8am\,\n400 outdoor flea market tables\n609-397-0811\ninfo@gnflea.com\, www.gnflea.com
URL:https://journalofantiques.com/event/golden-nugget-antique-flea-market/2027-01-16/
LOCATION:Golden Nugget Antique Flea Market\, 1850 River Road\, Route 29\, Lambertville\, NJ\, United States
CATEGORIES:Antique Shows
END:VEVENT
BEGIN:VEVENT
DTSTART;TZID=America/New_York:20270117T060000
DTEND;TZID=America/New_York:20270117T160000
DTSTAMP:20260424T234627
CREATED:20251217T193310Z
LAST-MODIFIED:20251217T194004Z
UID:10003066-1800165600-1800201600@journalofantiques.com
SUMMARY:Golden Nugget Antique Flea Market
DESCRIPTION:January-December: Lambertville\, NJ\nGolden Nugget Antique Flea Market\n1850 River Road\, Route 29\nWed.\, Sat. & Sun. 6am-4pm\nIndoor Shops open 8am\,\n400 outdoor flea market tables\n609-397-0811\ninfo@gnflea.com\, www.gnflea.com
URL:https://journalofantiques.com/event/golden-nugget-antique-flea-market/2027-01-17/
LOCATION:Golden Nugget Antique Flea Market\, 1850 River Road\, Route 29\, Lambertville\, NJ\, United States
CATEGORIES:Antique Shows
END:VEVENT
BEGIN:VEVENT
DTSTART;TZID=America/New_York:20270120T060000
DTEND;TZID=America/New_York:20270120T160000
DTSTAMP:20260424T234627
CREATED:20251217T193310Z
LAST-MODIFIED:20251217T194004Z
UID:10003067-1800424800-1800460800@journalofantiques.com
SUMMARY:Golden Nugget Antique Flea Market
DESCRIPTION:January-December: Lambertville\, NJ\nGolden Nugget Antique Flea Market\n1850 River Road\, Route 29\nWed.\, Sat. & Sun. 6am-4pm\nIndoor Shops open 8am\,\n400 outdoor flea market tables\n609-397-0811\ninfo@gnflea.com\, www.gnflea.com
URL:https://journalofantiques.com/event/golden-nugget-antique-flea-market/2027-01-20/
LOCATION:Golden Nugget Antique Flea Market\, 1850 River Road\, Route 29\, Lambertville\, NJ\, United States
CATEGORIES:Antique Shows
END:VEVENT
BEGIN:VEVENT
DTSTART;TZID=America/New_York:20270123T060000
DTEND;TZID=America/New_York:20270123T160000
DTSTAMP:20260424T234627
CREATED:20251217T193310Z
LAST-MODIFIED:20251217T194004Z
UID:10003068-1800684000-1800720000@journalofantiques.com
SUMMARY:Golden Nugget Antique Flea Market
DESCRIPTION:January-December: Lambertville\, NJ\nGolden Nugget Antique Flea Market\n1850 River Road\, Route 29\nWed.\, Sat. & Sun. 6am-4pm\nIndoor Shops open 8am\,\n400 outdoor flea market tables\n609-397-0811\ninfo@gnflea.com\, www.gnflea.com
URL:https://journalofantiques.com/event/golden-nugget-antique-flea-market/2027-01-23/
LOCATION:Golden Nugget Antique Flea Market\, 1850 River Road\, Route 29\, Lambertville\, NJ\, United States
CATEGORIES:Antique Shows
END:VEVENT
BEGIN:VEVENT
DTSTART;TZID=America/New_York:20270124T060000
DTEND;TZID=America/New_York:20270124T160000
DTSTAMP:20260424T234627
CREATED:20251217T193310Z
LAST-MODIFIED:20251217T194004Z
UID:10003069-1800770400-1800806400@journalofantiques.com
SUMMARY:Golden Nugget Antique Flea Market
DESCRIPTION:January-December: Lambertville\, NJ\nGolden Nugget Antique Flea Market\n1850 River Road\, Route 29\nWed.\, Sat. & Sun. 6am-4pm\nIndoor Shops open 8am\,\n400 outdoor flea market tables\n609-397-0811\ninfo@gnflea.com\, www.gnflea.com
URL:https://journalofantiques.com/event/golden-nugget-antique-flea-market/2027-01-24/
LOCATION:Golden Nugget Antique Flea Market\, 1850 River Road\, Route 29\, Lambertville\, NJ\, United States
CATEGORIES:Antique Shows
END:VEVENT
BEGIN:VEVENT
DTSTART;TZID=America/New_York:20270127T060000
DTEND;TZID=America/New_York:20270127T160000
DTSTAMP:20260424T234627
CREATED:20251217T193310Z
LAST-MODIFIED:20251217T194004Z
UID:10003070-1801029600-1801065600@journalofantiques.com
SUMMARY:Golden Nugget Antique Flea Market
DESCRIPTION:January-December: Lambertville\, NJ\nGolden Nugget Antique Flea Market\n1850 River Road\, Route 29\nWed.\, Sat. & Sun. 6am-4pm\nIndoor Shops open 8am\,\n400 outdoor flea market tables\n609-397-0811\ninfo@gnflea.com\, www.gnflea.com
URL:https://journalofantiques.com/event/golden-nugget-antique-flea-market/2027-01-27/
LOCATION:Golden Nugget Antique Flea Market\, 1850 River Road\, Route 29\, Lambertville\, NJ\, United States
CATEGORIES:Antique Shows
END:VEVENT
END:VCALENDAR