    BEGIN:VCALENDAR
VERSION:2.0
PRODID:-//The Journal of Antiques and Collectibles - ECPv6.15.20//NONSGML v1.0//EN
CALSCALE:GREGORIAN
METHOD:PUBLISH
X-WR-CALNAME:The Journal of Antiques and Collectibles
X-ORIGINAL-URL:https://journalofantiques.com
X-WR-CALDESC:Events for The Journal of Antiques and Collectibles
REFRESH-INTERVAL;VALUE=DURATION:PT1H
X-Robots-Tag:noindex
X-PUBLISHED-TTL:PT1H
BEGIN:VTIMEZONE
TZID:America/New_York
BEGIN:DAYLIGHT
TZOFFSETFROM:-0500
TZOFFSETTO:-0400
TZNAME:EDT
DTSTART:20260308T070000
END:DAYLIGHT
BEGIN:STANDARD
TZOFFSETFROM:-0400
TZOFFSETTO:-0500
TZNAME:EST
DTSTART:20261101T060000
END:STANDARD
BEGIN:DAYLIGHT
TZOFFSETFROM:-0500
TZOFFSETTO:-0400
TZNAME:EDT
DTSTART:20270314T070000
END:DAYLIGHT
BEGIN:STANDARD
TZOFFSETFROM:-0400
TZOFFSETTO:-0500
TZNAME:EST
DTSTART:20271107T060000
END:STANDARD
BEGIN:DAYLIGHT
TZOFFSETFROM:-0500
TZOFFSETTO:-0400
TZNAME:EDT
DTSTART:20280312T070000
END:DAYLIGHT
BEGIN:STANDARD
TZOFFSETFROM:-0400
TZOFFSETTO:-0500
TZNAME:EST
DTSTART:20281105T060000
END:STANDARD
BEGIN:DAYLIGHT
TZOFFSETFROM:-0500
TZOFFSETTO:-0400
TZNAME:EDT
DTSTART:20290311T070000
END:DAYLIGHT
BEGIN:STANDARD
TZOFFSETFROM:-0400
TZOFFSETTO:-0500
TZNAME:EST
DTSTART:20291104T060000
END:STANDARD
END:VTIMEZONE
BEGIN:VEVENT
DTSTART;TZID=America/New_York:20271201T060000
DTEND;TZID=America/New_York:20271201T160000
DTSTAMP:20260426T000613
CREATED:20251217T193310Z
LAST-MODIFIED:20251217T194004Z
UID:10003202-1827640800-1827676800@journalofantiques.com
SUMMARY:Golden Nugget Antique Flea Market
DESCRIPTION:January-December: Lambertville\, NJ\nGolden Nugget Antique Flea Market\n1850 River Road\, Route 29\nWed.\, Sat. & Sun. 6am-4pm\nIndoor Shops open 8am\,\n400 outdoor flea market tables\n609-397-0811\ninfo@gnflea.com\, www.gnflea.com
URL:https://journalofantiques.com/event/golden-nugget-antique-flea-market/2027-12-01/
LOCATION:Golden Nugget Antique Flea Market\, 1850 River Road\, Route 29\, Lambertville\, NJ\, United States
CATEGORIES:Antique Shows
END:VEVENT
BEGIN:VEVENT
DTSTART;TZID=America/New_York:20271204T060000
DTEND;TZID=America/New_York:20271204T160000
DTSTAMP:20260426T000613
CREATED:20251217T193310Z
LAST-MODIFIED:20251217T194004Z
UID:10003203-1827900000-1827936000@journalofantiques.com
SUMMARY:Golden Nugget Antique Flea Market
DESCRIPTION:January-December: Lambertville\, NJ\nGolden Nugget Antique Flea Market\n1850 River Road\, Route 29\nWed.\, Sat. & Sun. 6am-4pm\nIndoor Shops open 8am\,\n400 outdoor flea market tables\n609-397-0811\ninfo@gnflea.com\, www.gnflea.com
URL:https://journalofantiques.com/event/golden-nugget-antique-flea-market/2027-12-04/
LOCATION:Golden Nugget Antique Flea Market\, 1850 River Road\, Route 29\, Lambertville\, NJ\, United States
CATEGORIES:Antique Shows
END:VEVENT
BEGIN:VEVENT
DTSTART;TZID=America/New_York:20271205T060000
DTEND;TZID=America/New_York:20271205T160000
DTSTAMP:20260426T000613
CREATED:20251217T193310Z
LAST-MODIFIED:20251217T194004Z
UID:10003204-1827986400-1828022400@journalofantiques.com
SUMMARY:Golden Nugget Antique Flea Market
DESCRIPTION:January-December: Lambertville\, NJ\nGolden Nugget Antique Flea Market\n1850 River Road\, Route 29\nWed.\, Sat. & Sun. 6am-4pm\nIndoor Shops open 8am\,\n400 outdoor flea market tables\n609-397-0811\ninfo@gnflea.com\, www.gnflea.com
URL:https://journalofantiques.com/event/golden-nugget-antique-flea-market/2027-12-05/
LOCATION:Golden Nugget Antique Flea Market\, 1850 River Road\, Route 29\, Lambertville\, NJ\, United States
CATEGORIES:Antique Shows
END:VEVENT
BEGIN:VEVENT
DTSTART;TZID=America/New_York:20271208T060000
DTEND;TZID=America/New_York:20271208T160000
DTSTAMP:20260426T000613
CREATED:20251217T193310Z
LAST-MODIFIED:20251217T194004Z
UID:10003205-1828245600-1828281600@journalofantiques.com
SUMMARY:Golden Nugget Antique Flea Market
DESCRIPTION:January-December: Lambertville\, NJ\nGolden Nugget Antique Flea Market\n1850 River Road\, Route 29\nWed.\, Sat. & Sun. 6am-4pm\nIndoor Shops open 8am\,\n400 outdoor flea market tables\n609-397-0811\ninfo@gnflea.com\, www.gnflea.com
URL:https://journalofantiques.com/event/golden-nugget-antique-flea-market/2027-12-08/
LOCATION:Golden Nugget Antique Flea Market\, 1850 River Road\, Route 29\, Lambertville\, NJ\, United States
CATEGORIES:Antique Shows
END:VEVENT
BEGIN:VEVENT
DTSTART;TZID=America/New_York:20271211T060000
DTEND;TZID=America/New_York:20271211T160000
DTSTAMP:20260426T000613
CREATED:20251217T193310Z
LAST-MODIFIED:20251217T194004Z
UID:10003206-1828504800-1828540800@journalofantiques.com
SUMMARY:Golden Nugget Antique Flea Market
DESCRIPTION:January-December: Lambertville\, NJ\nGolden Nugget Antique Flea Market\n1850 River Road\, Route 29\nWed.\, Sat. & Sun. 6am-4pm\nIndoor Shops open 8am\,\n400 outdoor flea market tables\n609-397-0811\ninfo@gnflea.com\, www.gnflea.com
URL:https://journalofantiques.com/event/golden-nugget-antique-flea-market/2027-12-11/
LOCATION:Golden Nugget Antique Flea Market\, 1850 River Road\, Route 29\, Lambertville\, NJ\, United States
CATEGORIES:Antique Shows
END:VEVENT
BEGIN:VEVENT
DTSTART;TZID=America/New_York:20271212T060000
DTEND;TZID=America/New_York:20271212T160000
DTSTAMP:20260426T000613
CREATED:20251217T193310Z
LAST-MODIFIED:20251217T194004Z
UID:10003207-1828591200-1828627200@journalofantiques.com
SUMMARY:Golden Nugget Antique Flea Market
DESCRIPTION:January-December: Lambertville\, NJ\nGolden Nugget Antique Flea Market\n1850 River Road\, Route 29\nWed.\, Sat. & Sun. 6am-4pm\nIndoor Shops open 8am\,\n400 outdoor flea market tables\n609-397-0811\ninfo@gnflea.com\, www.gnflea.com
URL:https://journalofantiques.com/event/golden-nugget-antique-flea-market/2027-12-12/
LOCATION:Golden Nugget Antique Flea Market\, 1850 River Road\, Route 29\, Lambertville\, NJ\, United States
CATEGORIES:Antique Shows
END:VEVENT
BEGIN:VEVENT
DTSTART;TZID=America/New_York:20271215T060000
DTEND;TZID=America/New_York:20271215T160000
DTSTAMP:20260426T000613
CREATED:20251217T193310Z
LAST-MODIFIED:20251217T194004Z
UID:10003208-1828850400-1828886400@journalofantiques.com
SUMMARY:Golden Nugget Antique Flea Market
DESCRIPTION:January-December: Lambertville\, NJ\nGolden Nugget Antique Flea Market\n1850 River Road\, Route 29\nWed.\, Sat. & Sun. 6am-4pm\nIndoor Shops open 8am\,\n400 outdoor flea market tables\n609-397-0811\ninfo@gnflea.com\, www.gnflea.com
URL:https://journalofantiques.com/event/golden-nugget-antique-flea-market/2027-12-15/
LOCATION:Golden Nugget Antique Flea Market\, 1850 River Road\, Route 29\, Lambertville\, NJ\, United States
CATEGORIES:Antique Shows
END:VEVENT
BEGIN:VEVENT
DTSTART;TZID=America/New_York:20271218T060000
DTEND;TZID=America/New_York:20271218T160000
DTSTAMP:20260426T000613
CREATED:20251217T193310Z
LAST-MODIFIED:20251217T194004Z
UID:10003209-1829109600-1829145600@journalofantiques.com
SUMMARY:Golden Nugget Antique Flea Market
DESCRIPTION:January-December: Lambertville\, NJ\nGolden Nugget Antique Flea Market\n1850 River Road\, Route 29\nWed.\, Sat. & Sun. 6am-4pm\nIndoor Shops open 8am\,\n400 outdoor flea market tables\n609-397-0811\ninfo@gnflea.com\, www.gnflea.com
URL:https://journalofantiques.com/event/golden-nugget-antique-flea-market/2027-12-18/
LOCATION:Golden Nugget Antique Flea Market\, 1850 River Road\, Route 29\, Lambertville\, NJ\, United States
CATEGORIES:Antique Shows
END:VEVENT
BEGIN:VEVENT
DTSTART;TZID=America/New_York:20271219T060000
DTEND;TZID=America/New_York:20271219T160000
DTSTAMP:20260426T000613
CREATED:20251217T193310Z
LAST-MODIFIED:20251217T194004Z
UID:10003210-1829196000-1829232000@journalofantiques.com
SUMMARY:Golden Nugget Antique Flea Market
DESCRIPTION:January-December: Lambertville\, NJ\nGolden Nugget Antique Flea Market\n1850 River Road\, Route 29\nWed.\, Sat. & Sun. 6am-4pm\nIndoor Shops open 8am\,\n400 outdoor flea market tables\n609-397-0811\ninfo@gnflea.com\, www.gnflea.com
URL:https://journalofantiques.com/event/golden-nugget-antique-flea-market/2027-12-19/
LOCATION:Golden Nugget Antique Flea Market\, 1850 River Road\, Route 29\, Lambertville\, NJ\, United States
CATEGORIES:Antique Shows
END:VEVENT
BEGIN:VEVENT
DTSTART;TZID=America/New_York:20271222T060000
DTEND;TZID=America/New_York:20271222T160000
DTSTAMP:20260426T000613
CREATED:20251217T193310Z
LAST-MODIFIED:20251217T194004Z
UID:10003211-1829455200-1829491200@journalofantiques.com
SUMMARY:Golden Nugget Antique Flea Market
DESCRIPTION:January-December: Lambertville\, NJ\nGolden Nugget Antique Flea Market\n1850 River Road\, Route 29\nWed.\, Sat. & Sun. 6am-4pm\nIndoor Shops open 8am\,\n400 outdoor flea market tables\n609-397-0811\ninfo@gnflea.com\, www.gnflea.com
URL:https://journalofantiques.com/event/golden-nugget-antique-flea-market/2027-12-22/
LOCATION:Golden Nugget Antique Flea Market\, 1850 River Road\, Route 29\, Lambertville\, NJ\, United States
CATEGORIES:Antique Shows
END:VEVENT
BEGIN:VEVENT
DTSTART;TZID=America/New_York:20271225T060000
DTEND;TZID=America/New_York:20271225T160000
DTSTAMP:20260426T000613
CREATED:20251217T193310Z
LAST-MODIFIED:20251217T194004Z
UID:10003212-1829714400-1829750400@journalofantiques.com
SUMMARY:Golden Nugget Antique Flea Market
DESCRIPTION:January-December: Lambertville\, NJ\nGolden Nugget Antique Flea Market\n1850 River Road\, Route 29\nWed.\, Sat. & Sun. 6am-4pm\nIndoor Shops open 8am\,\n400 outdoor flea market tables\n609-397-0811\ninfo@gnflea.com\, www.gnflea.com
URL:https://journalofantiques.com/event/golden-nugget-antique-flea-market/2027-12-25/
LOCATION:Golden Nugget Antique Flea Market\, 1850 River Road\, Route 29\, Lambertville\, NJ\, United States
CATEGORIES:Antique Shows
END:VEVENT
BEGIN:VEVENT
DTSTART;TZID=America/New_York:20271226T060000
DTEND;TZID=America/New_York:20271226T160000
DTSTAMP:20260426T000613
CREATED:20251217T193310Z
LAST-MODIFIED:20251217T194004Z
UID:10003213-1829800800-1829836800@journalofantiques.com
SUMMARY:Golden Nugget Antique Flea Market
DESCRIPTION:January-December: Lambertville\, NJ\nGolden Nugget Antique Flea Market\n1850 River Road\, Route 29\nWed.\, Sat. & Sun. 6am-4pm\nIndoor Shops open 8am\,\n400 outdoor flea market tables\n609-397-0811\ninfo@gnflea.com\, www.gnflea.com
URL:https://journalofantiques.com/event/golden-nugget-antique-flea-market/2027-12-26/
LOCATION:Golden Nugget Antique Flea Market\, 1850 River Road\, Route 29\, Lambertville\, NJ\, United States
CATEGORIES:Antique Shows
END:VEVENT
BEGIN:VEVENT
DTSTART;TZID=America/New_York:20271229T060000
DTEND;TZID=America/New_York:20271229T160000
DTSTAMP:20260426T000613
CREATED:20251217T193310Z
LAST-MODIFIED:20251217T194004Z
UID:10003214-1830060000-1830096000@journalofantiques.com
SUMMARY:Golden Nugget Antique Flea Market
DESCRIPTION:January-December: Lambertville\, NJ\nGolden Nugget Antique Flea Market\n1850 River Road\, Route 29\nWed.\, Sat. & Sun. 6am-4pm\nIndoor Shops open 8am\,\n400 outdoor flea market tables\n609-397-0811\ninfo@gnflea.com\, www.gnflea.com
URL:https://journalofantiques.com/event/golden-nugget-antique-flea-market/2027-12-29/
LOCATION:Golden Nugget Antique Flea Market\, 1850 River Road\, Route 29\, Lambertville\, NJ\, United States
CATEGORIES:Antique Shows
END:VEVENT
BEGIN:VEVENT
DTSTART;TZID=America/New_York:20280101T060000
DTEND;TZID=America/New_York:20280101T160000
DTSTAMP:20260426T000613
CREATED:20251217T193310Z
LAST-MODIFIED:20251217T194004Z
UID:10003215-1830319200-1830355200@journalofantiques.com
SUMMARY:Golden Nugget Antique Flea Market
DESCRIPTION:January-December: Lambertville\, NJ\nGolden Nugget Antique Flea Market\n1850 River Road\, Route 29\nWed.\, Sat. & Sun. 6am-4pm\nIndoor Shops open 8am\,\n400 outdoor flea market tables\n609-397-0811\ninfo@gnflea.com\, www.gnflea.com
URL:https://journalofantiques.com/event/golden-nugget-antique-flea-market/2028-01-01/
LOCATION:Golden Nugget Antique Flea Market\, 1850 River Road\, Route 29\, Lambertville\, NJ\, United States
CATEGORIES:Antique Shows
END:VEVENT
BEGIN:VEVENT
DTSTART;TZID=America/New_York:20280102T060000
DTEND;TZID=America/New_York:20280102T160000
DTSTAMP:20260426T000613
CREATED:20251217T193310Z
LAST-MODIFIED:20251217T194004Z
UID:10003216-1830405600-1830441600@journalofantiques.com
SUMMARY:Golden Nugget Antique Flea Market
DESCRIPTION:January-December: Lambertville\, NJ\nGolden Nugget Antique Flea Market\n1850 River Road\, Route 29\nWed.\, Sat. & Sun. 6am-4pm\nIndoor Shops open 8am\,\n400 outdoor flea market tables\n609-397-0811\ninfo@gnflea.com\, www.gnflea.com
URL:https://journalofantiques.com/event/golden-nugget-antique-flea-market/2028-01-02/
LOCATION:Golden Nugget Antique Flea Market\, 1850 River Road\, Route 29\, Lambertville\, NJ\, United States
CATEGORIES:Antique Shows
END:VEVENT
BEGIN:VEVENT
DTSTART;TZID=America/New_York:20280105T060000
DTEND;TZID=America/New_York:20280105T160000
DTSTAMP:20260426T000613
CREATED:20251217T193310Z
LAST-MODIFIED:20251217T194004Z
UID:10003217-1830664800-1830700800@journalofantiques.com
SUMMARY:Golden Nugget Antique Flea Market
DESCRIPTION:January-December: Lambertville\, NJ\nGolden Nugget Antique Flea Market\n1850 River Road\, Route 29\nWed.\, Sat. & Sun. 6am-4pm\nIndoor Shops open 8am\,\n400 outdoor flea market tables\n609-397-0811\ninfo@gnflea.com\, www.gnflea.com
URL:https://journalofantiques.com/event/golden-nugget-antique-flea-market/2028-01-05/
LOCATION:Golden Nugget Antique Flea Market\, 1850 River Road\, Route 29\, Lambertville\, NJ\, United States
CATEGORIES:Antique Shows
END:VEVENT
BEGIN:VEVENT
DTSTART;TZID=America/New_York:20280108T060000
DTEND;TZID=America/New_York:20280108T160000
DTSTAMP:20260426T000613
CREATED:20251217T193310Z
LAST-MODIFIED:20251217T194004Z
UID:10003218-1830924000-1830960000@journalofantiques.com
SUMMARY:Golden Nugget Antique Flea Market
DESCRIPTION:January-December: Lambertville\, NJ\nGolden Nugget Antique Flea Market\n1850 River Road\, Route 29\nWed.\, Sat. & Sun. 6am-4pm\nIndoor Shops open 8am\,\n400 outdoor flea market tables\n609-397-0811\ninfo@gnflea.com\, www.gnflea.com
URL:https://journalofantiques.com/event/golden-nugget-antique-flea-market/2028-01-08/
LOCATION:Golden Nugget Antique Flea Market\, 1850 River Road\, Route 29\, Lambertville\, NJ\, United States
CATEGORIES:Antique Shows
END:VEVENT
BEGIN:VEVENT
DTSTART;TZID=America/New_York:20280109T060000
DTEND;TZID=America/New_York:20280109T160000
DTSTAMP:20260426T000613
CREATED:20251217T193310Z
LAST-MODIFIED:20251217T194004Z
UID:10003219-1831010400-1831046400@journalofantiques.com
SUMMARY:Golden Nugget Antique Flea Market
DESCRIPTION:January-December: Lambertville\, NJ\nGolden Nugget Antique Flea Market\n1850 River Road\, Route 29\nWed.\, Sat. & Sun. 6am-4pm\nIndoor Shops open 8am\,\n400 outdoor flea market tables\n609-397-0811\ninfo@gnflea.com\, www.gnflea.com
URL:https://journalofantiques.com/event/golden-nugget-antique-flea-market/2028-01-09/
LOCATION:Golden Nugget Antique Flea Market\, 1850 River Road\, Route 29\, Lambertville\, NJ\, United States
CATEGORIES:Antique Shows
END:VEVENT
BEGIN:VEVENT
DTSTART;TZID=America/New_York:20280112T060000
DTEND;TZID=America/New_York:20280112T160000
DTSTAMP:20260426T000613
CREATED:20251217T193310Z
LAST-MODIFIED:20251217T194004Z
UID:10003220-1831269600-1831305600@journalofantiques.com
SUMMARY:Golden Nugget Antique Flea Market
DESCRIPTION:January-December: Lambertville\, NJ\nGolden Nugget Antique Flea Market\n1850 River Road\, Route 29\nWed.\, Sat. & Sun. 6am-4pm\nIndoor Shops open 8am\,\n400 outdoor flea market tables\n609-397-0811\ninfo@gnflea.com\, www.gnflea.com
URL:https://journalofantiques.com/event/golden-nugget-antique-flea-market/2028-01-12/
LOCATION:Golden Nugget Antique Flea Market\, 1850 River Road\, Route 29\, Lambertville\, NJ\, United States
CATEGORIES:Antique Shows
END:VEVENT
BEGIN:VEVENT
DTSTART;TZID=America/New_York:20280115T060000
DTEND;TZID=America/New_York:20280115T160000
DTSTAMP:20260426T000613
CREATED:20251217T193310Z
LAST-MODIFIED:20251217T194004Z
UID:10003221-1831528800-1831564800@journalofantiques.com
SUMMARY:Golden Nugget Antique Flea Market
DESCRIPTION:January-December: Lambertville\, NJ\nGolden Nugget Antique Flea Market\n1850 River Road\, Route 29\nWed.\, Sat. & Sun. 6am-4pm\nIndoor Shops open 8am\,\n400 outdoor flea market tables\n609-397-0811\ninfo@gnflea.com\, www.gnflea.com
URL:https://journalofantiques.com/event/golden-nugget-antique-flea-market/2028-01-15/
LOCATION:Golden Nugget Antique Flea Market\, 1850 River Road\, Route 29\, Lambertville\, NJ\, United States
CATEGORIES:Antique Shows
END:VEVENT
BEGIN:VEVENT
DTSTART;TZID=America/New_York:20280116T060000
DTEND;TZID=America/New_York:20280116T160000
DTSTAMP:20260426T000613
CREATED:20251217T193310Z
LAST-MODIFIED:20251217T194004Z
UID:10003222-1831615200-1831651200@journalofantiques.com
SUMMARY:Golden Nugget Antique Flea Market
DESCRIPTION:January-December: Lambertville\, NJ\nGolden Nugget Antique Flea Market\n1850 River Road\, Route 29\nWed.\, Sat. & Sun. 6am-4pm\nIndoor Shops open 8am\,\n400 outdoor flea market tables\n609-397-0811\ninfo@gnflea.com\, www.gnflea.com
URL:https://journalofantiques.com/event/golden-nugget-antique-flea-market/2028-01-16/
LOCATION:Golden Nugget Antique Flea Market\, 1850 River Road\, Route 29\, Lambertville\, NJ\, United States
CATEGORIES:Antique Shows
END:VEVENT
BEGIN:VEVENT
DTSTART;TZID=America/New_York:20280119T060000
DTEND;TZID=America/New_York:20280119T160000
DTSTAMP:20260426T000613
CREATED:20251217T193310Z
LAST-MODIFIED:20251217T194004Z
UID:10003223-1831874400-1831910400@journalofantiques.com
SUMMARY:Golden Nugget Antique Flea Market
DESCRIPTION:January-December: Lambertville\, NJ\nGolden Nugget Antique Flea Market\n1850 River Road\, Route 29\nWed.\, Sat. & Sun. 6am-4pm\nIndoor Shops open 8am\,\n400 outdoor flea market tables\n609-397-0811\ninfo@gnflea.com\, www.gnflea.com
URL:https://journalofantiques.com/event/golden-nugget-antique-flea-market/2028-01-19/
LOCATION:Golden Nugget Antique Flea Market\, 1850 River Road\, Route 29\, Lambertville\, NJ\, United States
CATEGORIES:Antique Shows
END:VEVENT
BEGIN:VEVENT
DTSTART;TZID=America/New_York:20280122T060000
DTEND;TZID=America/New_York:20280122T160000
DTSTAMP:20260426T000613
CREATED:20251217T193310Z
LAST-MODIFIED:20251217T194004Z
UID:10003224-1832133600-1832169600@journalofantiques.com
SUMMARY:Golden Nugget Antique Flea Market
DESCRIPTION:January-December: Lambertville\, NJ\nGolden Nugget Antique Flea Market\n1850 River Road\, Route 29\nWed.\, Sat. & Sun. 6am-4pm\nIndoor Shops open 8am\,\n400 outdoor flea market tables\n609-397-0811\ninfo@gnflea.com\, www.gnflea.com
URL:https://journalofantiques.com/event/golden-nugget-antique-flea-market/2028-01-22/
LOCATION:Golden Nugget Antique Flea Market\, 1850 River Road\, Route 29\, Lambertville\, NJ\, United States
CATEGORIES:Antique Shows
END:VEVENT
BEGIN:VEVENT
DTSTART;TZID=America/New_York:20280123T060000
DTEND;TZID=America/New_York:20280123T160000
DTSTAMP:20260426T000613
CREATED:20251217T193310Z
LAST-MODIFIED:20251217T194004Z
UID:10003225-1832220000-1832256000@journalofantiques.com
SUMMARY:Golden Nugget Antique Flea Market
DESCRIPTION:January-December: Lambertville\, NJ\nGolden Nugget Antique Flea Market\n1850 River Road\, Route 29\nWed.\, Sat. & Sun. 6am-4pm\nIndoor Shops open 8am\,\n400 outdoor flea market tables\n609-397-0811\ninfo@gnflea.com\, www.gnflea.com
URL:https://journalofantiques.com/event/golden-nugget-antique-flea-market/2028-01-23/
LOCATION:Golden Nugget Antique Flea Market\, 1850 River Road\, Route 29\, Lambertville\, NJ\, United States
CATEGORIES:Antique Shows
END:VEVENT
BEGIN:VEVENT
DTSTART;TZID=America/New_York:20280126T060000
DTEND;TZID=America/New_York:20280126T160000
DTSTAMP:20260426T000613
CREATED:20251217T193310Z
LAST-MODIFIED:20251217T194004Z
UID:10003226-1832479200-1832515200@journalofantiques.com
SUMMARY:Golden Nugget Antique Flea Market
DESCRIPTION:January-December: Lambertville\, NJ\nGolden Nugget Antique Flea Market\n1850 River Road\, Route 29\nWed.\, Sat. & Sun. 6am-4pm\nIndoor Shops open 8am\,\n400 outdoor flea market tables\n609-397-0811\ninfo@gnflea.com\, www.gnflea.com
URL:https://journalofantiques.com/event/golden-nugget-antique-flea-market/2028-01-26/
LOCATION:Golden Nugget Antique Flea Market\, 1850 River Road\, Route 29\, Lambertville\, NJ\, United States
CATEGORIES:Antique Shows
END:VEVENT
BEGIN:VEVENT
DTSTART;TZID=America/New_York:20280129T060000
DTEND;TZID=America/New_York:20280129T160000
DTSTAMP:20260426T000613
CREATED:20251217T193310Z
LAST-MODIFIED:20251217T194004Z
UID:10003227-1832738400-1832774400@journalofantiques.com
SUMMARY:Golden Nugget Antique Flea Market
DESCRIPTION:January-December: Lambertville\, NJ\nGolden Nugget Antique Flea Market\n1850 River Road\, Route 29\nWed.\, Sat. & Sun. 6am-4pm\nIndoor Shops open 8am\,\n400 outdoor flea market tables\n609-397-0811\ninfo@gnflea.com\, www.gnflea.com
URL:https://journalofantiques.com/event/golden-nugget-antique-flea-market/2028-01-29/
LOCATION:Golden Nugget Antique Flea Market\, 1850 River Road\, Route 29\, Lambertville\, NJ\, United States
CATEGORIES:Antique Shows
END:VEVENT
BEGIN:VEVENT
DTSTART;TZID=America/New_York:20280130T060000
DTEND;TZID=America/New_York:20280130T160000
DTSTAMP:20260426T000613
CREATED:20251217T193310Z
LAST-MODIFIED:20251217T194004Z
UID:10003228-1832824800-1832860800@journalofantiques.com
SUMMARY:Golden Nugget Antique Flea Market
DESCRIPTION:January-December: Lambertville\, NJ\nGolden Nugget Antique Flea Market\n1850 River Road\, Route 29\nWed.\, Sat. & Sun. 6am-4pm\nIndoor Shops open 8am\,\n400 outdoor flea market tables\n609-397-0811\ninfo@gnflea.com\, www.gnflea.com
URL:https://journalofantiques.com/event/golden-nugget-antique-flea-market/2028-01-30/
LOCATION:Golden Nugget Antique Flea Market\, 1850 River Road\, Route 29\, Lambertville\, NJ\, United States
CATEGORIES:Antique Shows
END:VEVENT
BEGIN:VEVENT
DTSTART;TZID=America/New_York:20280202T060000
DTEND;TZID=America/New_York:20280202T160000
DTSTAMP:20260426T000613
CREATED:20251217T193310Z
LAST-MODIFIED:20251217T194004Z
UID:10003229-1833084000-1833120000@journalofantiques.com
SUMMARY:Golden Nugget Antique Flea Market
DESCRIPTION:January-December: Lambertville\, NJ\nGolden Nugget Antique Flea Market\n1850 River Road\, Route 29\nWed.\, Sat. & Sun. 6am-4pm\nIndoor Shops open 8am\,\n400 outdoor flea market tables\n609-397-0811\ninfo@gnflea.com\, www.gnflea.com
URL:https://journalofantiques.com/event/golden-nugget-antique-flea-market/2028-02-02/
LOCATION:Golden Nugget Antique Flea Market\, 1850 River Road\, Route 29\, Lambertville\, NJ\, United States
CATEGORIES:Antique Shows
END:VEVENT
BEGIN:VEVENT
DTSTART;TZID=America/New_York:20280205T060000
DTEND;TZID=America/New_York:20280205T160000
DTSTAMP:20260426T000613
CREATED:20251217T193310Z
LAST-MODIFIED:20251217T194004Z
UID:10003230-1833343200-1833379200@journalofantiques.com
SUMMARY:Golden Nugget Antique Flea Market
DESCRIPTION:January-December: Lambertville\, NJ\nGolden Nugget Antique Flea Market\n1850 River Road\, Route 29\nWed.\, Sat. & Sun. 6am-4pm\nIndoor Shops open 8am\,\n400 outdoor flea market tables\n609-397-0811\ninfo@gnflea.com\, www.gnflea.com
URL:https://journalofantiques.com/event/golden-nugget-antique-flea-market/2028-02-05/
LOCATION:Golden Nugget Antique Flea Market\, 1850 River Road\, Route 29\, Lambertville\, NJ\, United States
CATEGORIES:Antique Shows
END:VEVENT
BEGIN:VEVENT
DTSTART;TZID=America/New_York:20280206T060000
DTEND;TZID=America/New_York:20280206T160000
DTSTAMP:20260426T000613
CREATED:20251217T193310Z
LAST-MODIFIED:20251217T194004Z
UID:10003231-1833429600-1833465600@journalofantiques.com
SUMMARY:Golden Nugget Antique Flea Market
DESCRIPTION:January-December: Lambertville\, NJ\nGolden Nugget Antique Flea Market\n1850 River Road\, Route 29\nWed.\, Sat. & Sun. 6am-4pm\nIndoor Shops open 8am\,\n400 outdoor flea market tables\n609-397-0811\ninfo@gnflea.com\, www.gnflea.com
URL:https://journalofantiques.com/event/golden-nugget-antique-flea-market/2028-02-06/
LOCATION:Golden Nugget Antique Flea Market\, 1850 River Road\, Route 29\, Lambertville\, NJ\, United States
CATEGORIES:Antique Shows
END:VEVENT
END:VCALENDAR