    BEGIN:VCALENDAR
VERSION:2.0
PRODID:-//The Journal of Antiques and Collectibles - ECPv6.15.20//NONSGML v1.0//EN
CALSCALE:GREGORIAN
METHOD:PUBLISH
X-ORIGINAL-URL:https://journalofantiques.com
X-WR-CALDESC:Events for The Journal of Antiques and Collectibles
REFRESH-INTERVAL;VALUE=DURATION:PT1H
X-Robots-Tag:noindex
X-PUBLISHED-TTL:PT1H
BEGIN:VTIMEZONE
TZID:America/New_York
BEGIN:DAYLIGHT
TZOFFSETFROM:-0500
TZOFFSETTO:-0400
TZNAME:EDT
DTSTART:20250309T070000
END:DAYLIGHT
BEGIN:STANDARD
TZOFFSETFROM:-0400
TZOFFSETTO:-0500
TZNAME:EST
DTSTART:20251102T060000
END:STANDARD
BEGIN:DAYLIGHT
TZOFFSETFROM:-0500
TZOFFSETTO:-0400
TZNAME:EDT
DTSTART:20260308T070000
END:DAYLIGHT
BEGIN:STANDARD
TZOFFSETFROM:-0400
TZOFFSETTO:-0500
TZNAME:EST
DTSTART:20261101T060000
END:STANDARD
BEGIN:DAYLIGHT
TZOFFSETFROM:-0500
TZOFFSETTO:-0400
TZNAME:EDT
DTSTART:20270314T070000
END:DAYLIGHT
BEGIN:STANDARD
TZOFFSETFROM:-0400
TZOFFSETTO:-0500
TZNAME:EST
DTSTART:20271107T060000
END:STANDARD
END:VTIMEZONE
BEGIN:VEVENT
DTSTART;TZID=America/New_York:20260912T060000
DTEND;TZID=America/New_York:20260912T160000
DTSTAMP:20260424T191705
CREATED:20251217T193310Z
LAST-MODIFIED:20251217T194004Z
UID:10003011-1789192800-1789228800@journalofantiques.com
SUMMARY:Golden Nugget Antique Flea Market
DESCRIPTION:January-December: Lambertville\, NJ\nGolden Nugget Antique Flea Market\n1850 River Road\, Route 29\nWed.\, Sat. & Sun. 6am-4pm\nIndoor Shops open 8am\,\n400 outdoor flea market tables\n609-397-0811\ninfo@gnflea.com\, www.gnflea.com
URL:https://journalofantiques.com/event/golden-nugget-antique-flea-market/2026-09-12/
LOCATION:Golden Nugget Antique Flea Market\, 1850 River Road\, Route 29\, Lambertville\, NJ\, United States
CATEGORIES:Antique Shows
END:VEVENT
BEGIN:VEVENT
DTSTART;TZID=America/New_York:20260913T060000
DTEND;TZID=America/New_York:20260913T160000
DTSTAMP:20260424T191705
CREATED:20251217T193310Z
LAST-MODIFIED:20251217T194004Z
UID:10003012-1789279200-1789315200@journalofantiques.com
SUMMARY:Golden Nugget Antique Flea Market
DESCRIPTION:January-December: Lambertville\, NJ\nGolden Nugget Antique Flea Market\n1850 River Road\, Route 29\nWed.\, Sat. & Sun. 6am-4pm\nIndoor Shops open 8am\,\n400 outdoor flea market tables\n609-397-0811\ninfo@gnflea.com\, www.gnflea.com
URL:https://journalofantiques.com/event/golden-nugget-antique-flea-market/2026-09-13/
LOCATION:Golden Nugget Antique Flea Market\, 1850 River Road\, Route 29\, Lambertville\, NJ\, United States
CATEGORIES:Antique Shows
END:VEVENT
BEGIN:VEVENT
DTSTART;TZID=America/New_York:20260916T060000
DTEND;TZID=America/New_York:20260916T160000
DTSTAMP:20260424T191705
CREATED:20251217T193310Z
LAST-MODIFIED:20251217T194004Z
UID:10003013-1789538400-1789574400@journalofantiques.com
SUMMARY:Golden Nugget Antique Flea Market
DESCRIPTION:January-December: Lambertville\, NJ\nGolden Nugget Antique Flea Market\n1850 River Road\, Route 29\nWed.\, Sat. & Sun. 6am-4pm\nIndoor Shops open 8am\,\n400 outdoor flea market tables\n609-397-0811\ninfo@gnflea.com\, www.gnflea.com
URL:https://journalofantiques.com/event/golden-nugget-antique-flea-market/2026-09-16/
LOCATION:Golden Nugget Antique Flea Market\, 1850 River Road\, Route 29\, Lambertville\, NJ\, United States
CATEGORIES:Antique Shows
END:VEVENT
BEGIN:VEVENT
DTSTART;TZID=America/New_York:20260919T060000
DTEND;TZID=America/New_York:20260919T160000
DTSTAMP:20260424T191705
CREATED:20251217T193310Z
LAST-MODIFIED:20251217T194004Z
UID:10003014-1789797600-1789833600@journalofantiques.com
SUMMARY:Golden Nugget Antique Flea Market
DESCRIPTION:January-December: Lambertville\, NJ\nGolden Nugget Antique Flea Market\n1850 River Road\, Route 29\nWed.\, Sat. & Sun. 6am-4pm\nIndoor Shops open 8am\,\n400 outdoor flea market tables\n609-397-0811\ninfo@gnflea.com\, www.gnflea.com
URL:https://journalofantiques.com/event/golden-nugget-antique-flea-market/2026-09-19/
LOCATION:Golden Nugget Antique Flea Market\, 1850 River Road\, Route 29\, Lambertville\, NJ\, United States
CATEGORIES:Antique Shows
END:VEVENT
BEGIN:VEVENT
DTSTART;TZID=America/New_York:20260920T060000
DTEND;TZID=America/New_York:20260920T160000
DTSTAMP:20260424T191705
CREATED:20251217T193310Z
LAST-MODIFIED:20251217T194004Z
UID:10003015-1789884000-1789920000@journalofantiques.com
SUMMARY:Golden Nugget Antique Flea Market
DESCRIPTION:January-December: Lambertville\, NJ\nGolden Nugget Antique Flea Market\n1850 River Road\, Route 29\nWed.\, Sat. & Sun. 6am-4pm\nIndoor Shops open 8am\,\n400 outdoor flea market tables\n609-397-0811\ninfo@gnflea.com\, www.gnflea.com
URL:https://journalofantiques.com/event/golden-nugget-antique-flea-market/2026-09-20/
LOCATION:Golden Nugget Antique Flea Market\, 1850 River Road\, Route 29\, Lambertville\, NJ\, United States
CATEGORIES:Antique Shows
END:VEVENT
BEGIN:VEVENT
DTSTART;TZID=America/New_York:20260923T060000
DTEND;TZID=America/New_York:20260923T160000
DTSTAMP:20260424T191705
CREATED:20251217T193310Z
LAST-MODIFIED:20251217T194004Z
UID:10003016-1790143200-1790179200@journalofantiques.com
SUMMARY:Golden Nugget Antique Flea Market
DESCRIPTION:January-December: Lambertville\, NJ\nGolden Nugget Antique Flea Market\n1850 River Road\, Route 29\nWed.\, Sat. & Sun. 6am-4pm\nIndoor Shops open 8am\,\n400 outdoor flea market tables\n609-397-0811\ninfo@gnflea.com\, www.gnflea.com
URL:https://journalofantiques.com/event/golden-nugget-antique-flea-market/2026-09-23/
LOCATION:Golden Nugget Antique Flea Market\, 1850 River Road\, Route 29\, Lambertville\, NJ\, United States
CATEGORIES:Antique Shows
END:VEVENT
BEGIN:VEVENT
DTSTART;TZID=America/New_York:20260926T060000
DTEND;TZID=America/New_York:20260926T160000
DTSTAMP:20260424T191705
CREATED:20251217T193310Z
LAST-MODIFIED:20251217T194004Z
UID:10003017-1790402400-1790438400@journalofantiques.com
SUMMARY:Golden Nugget Antique Flea Market
DESCRIPTION:January-December: Lambertville\, NJ\nGolden Nugget Antique Flea Market\n1850 River Road\, Route 29\nWed.\, Sat. & Sun. 6am-4pm\nIndoor Shops open 8am\,\n400 outdoor flea market tables\n609-397-0811\ninfo@gnflea.com\, www.gnflea.com
URL:https://journalofantiques.com/event/golden-nugget-antique-flea-market/2026-09-26/
LOCATION:Golden Nugget Antique Flea Market\, 1850 River Road\, Route 29\, Lambertville\, NJ\, United States
CATEGORIES:Antique Shows
END:VEVENT
BEGIN:VEVENT
DTSTART;TZID=America/New_York:20260927T060000
DTEND;TZID=America/New_York:20260927T160000
DTSTAMP:20260424T191705
CREATED:20251217T193310Z
LAST-MODIFIED:20251217T194004Z
UID:10003018-1790488800-1790524800@journalofantiques.com
SUMMARY:Golden Nugget Antique Flea Market
DESCRIPTION:January-December: Lambertville\, NJ\nGolden Nugget Antique Flea Market\n1850 River Road\, Route 29\nWed.\, Sat. & Sun. 6am-4pm\nIndoor Shops open 8am\,\n400 outdoor flea market tables\n609-397-0811\ninfo@gnflea.com\, www.gnflea.com
URL:https://journalofantiques.com/event/golden-nugget-antique-flea-market/2026-09-27/
LOCATION:Golden Nugget Antique Flea Market\, 1850 River Road\, Route 29\, Lambertville\, NJ\, United States
CATEGORIES:Antique Shows
END:VEVENT
BEGIN:VEVENT
DTSTART;TZID=America/New_York:20260930T060000
DTEND;TZID=America/New_York:20260930T160000
DTSTAMP:20260424T191705
CREATED:20251217T193310Z
LAST-MODIFIED:20251217T194004Z
UID:10003019-1790748000-1790784000@journalofantiques.com
SUMMARY:Golden Nugget Antique Flea Market
DESCRIPTION:January-December: Lambertville\, NJ\nGolden Nugget Antique Flea Market\n1850 River Road\, Route 29\nWed.\, Sat. & Sun. 6am-4pm\nIndoor Shops open 8am\,\n400 outdoor flea market tables\n609-397-0811\ninfo@gnflea.com\, www.gnflea.com
URL:https://journalofantiques.com/event/golden-nugget-antique-flea-market/2026-09-30/
LOCATION:Golden Nugget Antique Flea Market\, 1850 River Road\, Route 29\, Lambertville\, NJ\, United States
CATEGORIES:Antique Shows
END:VEVENT
BEGIN:VEVENT
DTSTART;TZID=America/New_York:20261003T060000
DTEND;TZID=America/New_York:20261003T160000
DTSTAMP:20260424T191705
CREATED:20251217T193310Z
LAST-MODIFIED:20251217T194004Z
UID:10003020-1791007200-1791043200@journalofantiques.com
SUMMARY:Golden Nugget Antique Flea Market
DESCRIPTION:January-December: Lambertville\, NJ\nGolden Nugget Antique Flea Market\n1850 River Road\, Route 29\nWed.\, Sat. & Sun. 6am-4pm\nIndoor Shops open 8am\,\n400 outdoor flea market tables\n609-397-0811\ninfo@gnflea.com\, www.gnflea.com
URL:https://journalofantiques.com/event/golden-nugget-antique-flea-market/2026-10-03/
LOCATION:Golden Nugget Antique Flea Market\, 1850 River Road\, Route 29\, Lambertville\, NJ\, United States
CATEGORIES:Antique Shows
END:VEVENT
BEGIN:VEVENT
DTSTART;TZID=America/New_York:20261004T060000
DTEND;TZID=America/New_York:20261004T160000
DTSTAMP:20260424T191705
CREATED:20251217T193310Z
LAST-MODIFIED:20251217T194004Z
UID:10003021-1791093600-1791129600@journalofantiques.com
SUMMARY:Golden Nugget Antique Flea Market
DESCRIPTION:January-December: Lambertville\, NJ\nGolden Nugget Antique Flea Market\n1850 River Road\, Route 29\nWed.\, Sat. & Sun. 6am-4pm\nIndoor Shops open 8am\,\n400 outdoor flea market tables\n609-397-0811\ninfo@gnflea.com\, www.gnflea.com
URL:https://journalofantiques.com/event/golden-nugget-antique-flea-market/2026-10-04/
LOCATION:Golden Nugget Antique Flea Market\, 1850 River Road\, Route 29\, Lambertville\, NJ\, United States
CATEGORIES:Antique Shows
END:VEVENT
BEGIN:VEVENT
DTSTART;TZID=America/New_York:20261007T060000
DTEND;TZID=America/New_York:20261007T160000
DTSTAMP:20260424T191706
CREATED:20251217T193310Z
LAST-MODIFIED:20251217T194004Z
UID:10003022-1791352800-1791388800@journalofantiques.com
SUMMARY:Golden Nugget Antique Flea Market
DESCRIPTION:January-December: Lambertville\, NJ\nGolden Nugget Antique Flea Market\n1850 River Road\, Route 29\nWed.\, Sat. & Sun. 6am-4pm\nIndoor Shops open 8am\,\n400 outdoor flea market tables\n609-397-0811\ninfo@gnflea.com\, www.gnflea.com
URL:https://journalofantiques.com/event/golden-nugget-antique-flea-market/2026-10-07/
LOCATION:Golden Nugget Antique Flea Market\, 1850 River Road\, Route 29\, Lambertville\, NJ\, United States
CATEGORIES:Antique Shows
END:VEVENT
BEGIN:VEVENT
DTSTART;TZID=America/New_York:20261010T060000
DTEND;TZID=America/New_York:20261010T160000
DTSTAMP:20260424T191706
CREATED:20251217T193310Z
LAST-MODIFIED:20251217T194004Z
UID:10003023-1791612000-1791648000@journalofantiques.com
SUMMARY:Golden Nugget Antique Flea Market
DESCRIPTION:January-December: Lambertville\, NJ\nGolden Nugget Antique Flea Market\n1850 River Road\, Route 29\nWed.\, Sat. & Sun. 6am-4pm\nIndoor Shops open 8am\,\n400 outdoor flea market tables\n609-397-0811\ninfo@gnflea.com\, www.gnflea.com
URL:https://journalofantiques.com/event/golden-nugget-antique-flea-market/2026-10-10/
LOCATION:Golden Nugget Antique Flea Market\, 1850 River Road\, Route 29\, Lambertville\, NJ\, United States
CATEGORIES:Antique Shows
END:VEVENT
BEGIN:VEVENT
DTSTART;TZID=America/New_York:20261011T060000
DTEND;TZID=America/New_York:20261011T160000
DTSTAMP:20260424T191706
CREATED:20251217T193310Z
LAST-MODIFIED:20251217T194004Z
UID:10003024-1791698400-1791734400@journalofantiques.com
SUMMARY:Golden Nugget Antique Flea Market
DESCRIPTION:January-December: Lambertville\, NJ\nGolden Nugget Antique Flea Market\n1850 River Road\, Route 29\nWed.\, Sat. & Sun. 6am-4pm\nIndoor Shops open 8am\,\n400 outdoor flea market tables\n609-397-0811\ninfo@gnflea.com\, www.gnflea.com
URL:https://journalofantiques.com/event/golden-nugget-antique-flea-market/2026-10-11/
LOCATION:Golden Nugget Antique Flea Market\, 1850 River Road\, Route 29\, Lambertville\, NJ\, United States
CATEGORIES:Antique Shows
END:VEVENT
BEGIN:VEVENT
DTSTART;TZID=America/New_York:20261014T060000
DTEND;TZID=America/New_York:20261014T160000
DTSTAMP:20260424T191706
CREATED:20251217T193310Z
LAST-MODIFIED:20251217T194004Z
UID:10003025-1791957600-1791993600@journalofantiques.com
SUMMARY:Golden Nugget Antique Flea Market
DESCRIPTION:January-December: Lambertville\, NJ\nGolden Nugget Antique Flea Market\n1850 River Road\, Route 29\nWed.\, Sat. & Sun. 6am-4pm\nIndoor Shops open 8am\,\n400 outdoor flea market tables\n609-397-0811\ninfo@gnflea.com\, www.gnflea.com
URL:https://journalofantiques.com/event/golden-nugget-antique-flea-market/2026-10-14/
LOCATION:Golden Nugget Antique Flea Market\, 1850 River Road\, Route 29\, Lambertville\, NJ\, United States
CATEGORIES:Antique Shows
END:VEVENT
BEGIN:VEVENT
DTSTART;TZID=America/New_York:20261017T060000
DTEND;TZID=America/New_York:20261017T160000
DTSTAMP:20260424T191706
CREATED:20251217T193310Z
LAST-MODIFIED:20251217T194004Z
UID:10003026-1792216800-1792252800@journalofantiques.com
SUMMARY:Golden Nugget Antique Flea Market
DESCRIPTION:January-December: Lambertville\, NJ\nGolden Nugget Antique Flea Market\n1850 River Road\, Route 29\nWed.\, Sat. & Sun. 6am-4pm\nIndoor Shops open 8am\,\n400 outdoor flea market tables\n609-397-0811\ninfo@gnflea.com\, www.gnflea.com
URL:https://journalofantiques.com/event/golden-nugget-antique-flea-market/2026-10-17/
LOCATION:Golden Nugget Antique Flea Market\, 1850 River Road\, Route 29\, Lambertville\, NJ\, United States
CATEGORIES:Antique Shows
END:VEVENT
BEGIN:VEVENT
DTSTART;TZID=America/New_York:20261018T060000
DTEND;TZID=America/New_York:20261018T160000
DTSTAMP:20260424T191706
CREATED:20251217T193310Z
LAST-MODIFIED:20251217T194004Z
UID:10003027-1792303200-1792339200@journalofantiques.com
SUMMARY:Golden Nugget Antique Flea Market
DESCRIPTION:January-December: Lambertville\, NJ\nGolden Nugget Antique Flea Market\n1850 River Road\, Route 29\nWed.\, Sat. & Sun. 6am-4pm\nIndoor Shops open 8am\,\n400 outdoor flea market tables\n609-397-0811\ninfo@gnflea.com\, www.gnflea.com
URL:https://journalofantiques.com/event/golden-nugget-antique-flea-market/2026-10-18/
LOCATION:Golden Nugget Antique Flea Market\, 1850 River Road\, Route 29\, Lambertville\, NJ\, United States
CATEGORIES:Antique Shows
END:VEVENT
BEGIN:VEVENT
DTSTART;TZID=America/New_York:20261021T060000
DTEND;TZID=America/New_York:20261021T160000
DTSTAMP:20260424T191706
CREATED:20251217T193310Z
LAST-MODIFIED:20251217T194004Z
UID:10003028-1792562400-1792598400@journalofantiques.com
SUMMARY:Golden Nugget Antique Flea Market
DESCRIPTION:January-December: Lambertville\, NJ\nGolden Nugget Antique Flea Market\n1850 River Road\, Route 29\nWed.\, Sat. & Sun. 6am-4pm\nIndoor Shops open 8am\,\n400 outdoor flea market tables\n609-397-0811\ninfo@gnflea.com\, www.gnflea.com
URL:https://journalofantiques.com/event/golden-nugget-antique-flea-market/2026-10-21/
LOCATION:Golden Nugget Antique Flea Market\, 1850 River Road\, Route 29\, Lambertville\, NJ\, United States
CATEGORIES:Antique Shows
END:VEVENT
BEGIN:VEVENT
DTSTART;TZID=America/New_York:20261024T060000
DTEND;TZID=America/New_York:20261024T160000
DTSTAMP:20260424T191706
CREATED:20251217T193310Z
LAST-MODIFIED:20251217T194004Z
UID:10003029-1792821600-1792857600@journalofantiques.com
SUMMARY:Golden Nugget Antique Flea Market
DESCRIPTION:January-December: Lambertville\, NJ\nGolden Nugget Antique Flea Market\n1850 River Road\, Route 29\nWed.\, Sat. & Sun. 6am-4pm\nIndoor Shops open 8am\,\n400 outdoor flea market tables\n609-397-0811\ninfo@gnflea.com\, www.gnflea.com
URL:https://journalofantiques.com/event/golden-nugget-antique-flea-market/2026-10-24/
LOCATION:Golden Nugget Antique Flea Market\, 1850 River Road\, Route 29\, Lambertville\, NJ\, United States
CATEGORIES:Antique Shows
END:VEVENT
BEGIN:VEVENT
DTSTART;TZID=America/New_York:20261025T060000
DTEND;TZID=America/New_York:20261025T160000
DTSTAMP:20260424T191706
CREATED:20251217T193310Z
LAST-MODIFIED:20251217T194004Z
UID:10003030-1792908000-1792944000@journalofantiques.com
SUMMARY:Golden Nugget Antique Flea Market
DESCRIPTION:January-December: Lambertville\, NJ\nGolden Nugget Antique Flea Market\n1850 River Road\, Route 29\nWed.\, Sat. & Sun. 6am-4pm\nIndoor Shops open 8am\,\n400 outdoor flea market tables\n609-397-0811\ninfo@gnflea.com\, www.gnflea.com
URL:https://journalofantiques.com/event/golden-nugget-antique-flea-market/2026-10-25/
LOCATION:Golden Nugget Antique Flea Market\, 1850 River Road\, Route 29\, Lambertville\, NJ\, United States
CATEGORIES:Antique Shows
END:VEVENT
BEGIN:VEVENT
DTSTART;TZID=America/New_York:20261028T060000
DTEND;TZID=America/New_York:20261028T160000
DTSTAMP:20260424T191706
CREATED:20251217T193310Z
LAST-MODIFIED:20251217T194004Z
UID:10003031-1793167200-1793203200@journalofantiques.com
SUMMARY:Golden Nugget Antique Flea Market
DESCRIPTION:January-December: Lambertville\, NJ\nGolden Nugget Antique Flea Market\n1850 River Road\, Route 29\nWed.\, Sat. & Sun. 6am-4pm\nIndoor Shops open 8am\,\n400 outdoor flea market tables\n609-397-0811\ninfo@gnflea.com\, www.gnflea.com
URL:https://journalofantiques.com/event/golden-nugget-antique-flea-market/2026-10-28/
LOCATION:Golden Nugget Antique Flea Market\, 1850 River Road\, Route 29\, Lambertville\, NJ\, United States
CATEGORIES:Antique Shows
END:VEVENT
BEGIN:VEVENT
DTSTART;TZID=America/New_York:20261031T060000
DTEND;TZID=America/New_York:20261031T160000
DTSTAMP:20260424T191706
CREATED:20251217T193310Z
LAST-MODIFIED:20251217T194004Z
UID:10003032-1793426400-1793462400@journalofantiques.com
SUMMARY:Golden Nugget Antique Flea Market
DESCRIPTION:January-December: Lambertville\, NJ\nGolden Nugget Antique Flea Market\n1850 River Road\, Route 29\nWed.\, Sat. & Sun. 6am-4pm\nIndoor Shops open 8am\,\n400 outdoor flea market tables\n609-397-0811\ninfo@gnflea.com\, www.gnflea.com
URL:https://journalofantiques.com/event/golden-nugget-antique-flea-market/2026-10-31/
LOCATION:Golden Nugget Antique Flea Market\, 1850 River Road\, Route 29\, Lambertville\, NJ\, United States
CATEGORIES:Antique Shows
END:VEVENT
BEGIN:VEVENT
DTSTART;TZID=America/New_York:20261101T060000
DTEND;TZID=America/New_York:20261101T160000
DTSTAMP:20260424T191706
CREATED:20251217T193310Z
LAST-MODIFIED:20251217T194004Z
UID:10003033-1793512800-1793548800@journalofantiques.com
SUMMARY:Golden Nugget Antique Flea Market
DESCRIPTION:January-December: Lambertville\, NJ\nGolden Nugget Antique Flea Market\n1850 River Road\, Route 29\nWed.\, Sat. & Sun. 6am-4pm\nIndoor Shops open 8am\,\n400 outdoor flea market tables\n609-397-0811\ninfo@gnflea.com\, www.gnflea.com
URL:https://journalofantiques.com/event/golden-nugget-antique-flea-market/2026-11-01/
LOCATION:Golden Nugget Antique Flea Market\, 1850 River Road\, Route 29\, Lambertville\, NJ\, United States
CATEGORIES:Antique Shows
END:VEVENT
BEGIN:VEVENT
DTSTART;TZID=America/New_York:20261104T060000
DTEND;TZID=America/New_York:20261104T160000
DTSTAMP:20260424T191706
CREATED:20251217T193310Z
LAST-MODIFIED:20251217T194004Z
UID:10003034-1793772000-1793808000@journalofantiques.com
SUMMARY:Golden Nugget Antique Flea Market
DESCRIPTION:January-December: Lambertville\, NJ\nGolden Nugget Antique Flea Market\n1850 River Road\, Route 29\nWed.\, Sat. & Sun. 6am-4pm\nIndoor Shops open 8am\,\n400 outdoor flea market tables\n609-397-0811\ninfo@gnflea.com\, www.gnflea.com
URL:https://journalofantiques.com/event/golden-nugget-antique-flea-market/2026-11-04/
LOCATION:Golden Nugget Antique Flea Market\, 1850 River Road\, Route 29\, Lambertville\, NJ\, United States
CATEGORIES:Antique Shows
END:VEVENT
BEGIN:VEVENT
DTSTART;TZID=America/New_York:20261107T060000
DTEND;TZID=America/New_York:20261107T160000
DTSTAMP:20260424T191706
CREATED:20251217T193310Z
LAST-MODIFIED:20251217T194004Z
UID:10003035-1794031200-1794067200@journalofantiques.com
SUMMARY:Golden Nugget Antique Flea Market
DESCRIPTION:January-December: Lambertville\, NJ\nGolden Nugget Antique Flea Market\n1850 River Road\, Route 29\nWed.\, Sat. & Sun. 6am-4pm\nIndoor Shops open 8am\,\n400 outdoor flea market tables\n609-397-0811\ninfo@gnflea.com\, www.gnflea.com
URL:https://journalofantiques.com/event/golden-nugget-antique-flea-market/2026-11-07/
LOCATION:Golden Nugget Antique Flea Market\, 1850 River Road\, Route 29\, Lambertville\, NJ\, United States
CATEGORIES:Antique Shows
END:VEVENT
BEGIN:VEVENT
DTSTART;TZID=America/New_York:20261108T060000
DTEND;TZID=America/New_York:20261108T160000
DTSTAMP:20260424T191706
CREATED:20251217T193310Z
LAST-MODIFIED:20251217T194004Z
UID:10003036-1794117600-1794153600@journalofantiques.com
SUMMARY:Golden Nugget Antique Flea Market
DESCRIPTION:January-December: Lambertville\, NJ\nGolden Nugget Antique Flea Market\n1850 River Road\, Route 29\nWed.\, Sat. & Sun. 6am-4pm\nIndoor Shops open 8am\,\n400 outdoor flea market tables\n609-397-0811\ninfo@gnflea.com\, www.gnflea.com
URL:https://journalofantiques.com/event/golden-nugget-antique-flea-market/2026-11-08/
LOCATION:Golden Nugget Antique Flea Market\, 1850 River Road\, Route 29\, Lambertville\, NJ\, United States
CATEGORIES:Antique Shows
END:VEVENT
BEGIN:VEVENT
DTSTART;TZID=America/New_York:20261111T060000
DTEND;TZID=America/New_York:20261111T160000
DTSTAMP:20260424T191706
CREATED:20251217T193310Z
LAST-MODIFIED:20251217T194004Z
UID:10003037-1794376800-1794412800@journalofantiques.com
SUMMARY:Golden Nugget Antique Flea Market
DESCRIPTION:January-December: Lambertville\, NJ\nGolden Nugget Antique Flea Market\n1850 River Road\, Route 29\nWed.\, Sat. & Sun. 6am-4pm\nIndoor Shops open 8am\,\n400 outdoor flea market tables\n609-397-0811\ninfo@gnflea.com\, www.gnflea.com
URL:https://journalofantiques.com/event/golden-nugget-antique-flea-market/2026-11-11/
LOCATION:Golden Nugget Antique Flea Market\, 1850 River Road\, Route 29\, Lambertville\, NJ\, United States
CATEGORIES:Antique Shows
END:VEVENT
BEGIN:VEVENT
DTSTART;TZID=America/New_York:20261114T060000
DTEND;TZID=America/New_York:20261114T160000
DTSTAMP:20260424T191706
CREATED:20251217T193310Z
LAST-MODIFIED:20251217T194004Z
UID:10003038-1794636000-1794672000@journalofantiques.com
SUMMARY:Golden Nugget Antique Flea Market
DESCRIPTION:January-December: Lambertville\, NJ\nGolden Nugget Antique Flea Market\n1850 River Road\, Route 29\nWed.\, Sat. & Sun. 6am-4pm\nIndoor Shops open 8am\,\n400 outdoor flea market tables\n609-397-0811\ninfo@gnflea.com\, www.gnflea.com
URL:https://journalofantiques.com/event/golden-nugget-antique-flea-market/2026-11-14/
LOCATION:Golden Nugget Antique Flea Market\, 1850 River Road\, Route 29\, Lambertville\, NJ\, United States
CATEGORIES:Antique Shows
END:VEVENT
BEGIN:VEVENT
DTSTART;TZID=America/New_York:20261115T060000
DTEND;TZID=America/New_York:20261115T160000
DTSTAMP:20260424T191706
CREATED:20251217T193310Z
LAST-MODIFIED:20251217T194004Z
UID:10003039-1794722400-1794758400@journalofantiques.com
SUMMARY:Golden Nugget Antique Flea Market
DESCRIPTION:January-December: Lambertville\, NJ\nGolden Nugget Antique Flea Market\n1850 River Road\, Route 29\nWed.\, Sat. & Sun. 6am-4pm\nIndoor Shops open 8am\,\n400 outdoor flea market tables\n609-397-0811\ninfo@gnflea.com\, www.gnflea.com
URL:https://journalofantiques.com/event/golden-nugget-antique-flea-market/2026-11-15/
LOCATION:Golden Nugget Antique Flea Market\, 1850 River Road\, Route 29\, Lambertville\, NJ\, United States
CATEGORIES:Antique Shows
END:VEVENT
BEGIN:VEVENT
DTSTART;TZID=America/New_York:20261118T060000
DTEND;TZID=America/New_York:20261118T160000
DTSTAMP:20260424T191706
CREATED:20251217T193310Z
LAST-MODIFIED:20251217T194004Z
UID:10003040-1794981600-1795017600@journalofantiques.com
SUMMARY:Golden Nugget Antique Flea Market
DESCRIPTION:January-December: Lambertville\, NJ\nGolden Nugget Antique Flea Market\n1850 River Road\, Route 29\nWed.\, Sat. & Sun. 6am-4pm\nIndoor Shops open 8am\,\n400 outdoor flea market tables\n609-397-0811\ninfo@gnflea.com\, www.gnflea.com
URL:https://journalofantiques.com/event/golden-nugget-antique-flea-market/2026-11-18/
LOCATION:Golden Nugget Antique Flea Market\, 1850 River Road\, Route 29\, Lambertville\, NJ\, United States
CATEGORIES:Antique Shows
END:VEVENT
END:VCALENDAR