    BEGIN:VCALENDAR
VERSION:2.0
PRODID:-//The Journal of Antiques and Collectibles - ECPv6.15.20//NONSGML v1.0//EN
CALSCALE:GREGORIAN
METHOD:PUBLISH
X-WR-CALNAME:The Journal of Antiques and Collectibles
X-ORIGINAL-URL:https://journalofantiques.com
X-WR-CALDESC:Events for The Journal of Antiques and Collectibles
REFRESH-INTERVAL;VALUE=DURATION:PT1H
X-Robots-Tag:noindex
X-PUBLISHED-TTL:PT1H
BEGIN:VTIMEZONE
TZID:America/New_York
BEGIN:DAYLIGHT
TZOFFSETFROM:-0500
TZOFFSETTO:-0400
TZNAME:EDT
DTSTART:20250309T070000
END:DAYLIGHT
BEGIN:STANDARD
TZOFFSETFROM:-0400
TZOFFSETTO:-0500
TZNAME:EST
DTSTART:20251102T060000
END:STANDARD
BEGIN:DAYLIGHT
TZOFFSETFROM:-0500
TZOFFSETTO:-0400
TZNAME:EDT
DTSTART:20260308T070000
END:DAYLIGHT
BEGIN:STANDARD
TZOFFSETFROM:-0400
TZOFFSETTO:-0500
TZNAME:EST
DTSTART:20261101T060000
END:STANDARD
BEGIN:DAYLIGHT
TZOFFSETFROM:-0500
TZOFFSETTO:-0400
TZNAME:EDT
DTSTART:20270314T070000
END:DAYLIGHT
BEGIN:STANDARD
TZOFFSETFROM:-0400
TZOFFSETTO:-0500
TZNAME:EST
DTSTART:20271107T060000
END:STANDARD
END:VTIMEZONE
BEGIN:VEVENT
DTSTART;TZID=America/New_York:20260620T090000
DTEND;TZID=America/New_York:20260620T170000
DTSTAMP:20260424T131207
CREATED:20251217T202443Z
LAST-MODIFIED:20251217T202443Z
UID:10005181-1781946000-1781974800@journalofantiques.com
SUMMARY:Mower's Saturday & Sunday Flea Market
DESCRIPTION:May-October: Woodstock\, NY\nMower’s Saturday & Sunday Flea Market\n11 Maple Lane\n9am-5pm\n845-679-6744\, woodstockfleamarket@hcc.rr.com\nwww.mowerssaturdayfleamarket.com
URL:https://journalofantiques.com/event/mowers-saturday-sunday-flea-market/2026-06-20/
LOCATION:Mower’s Flea Market\, 11 Maple Lane\, Woodstock\, NY\, United States
CATEGORIES:Antique Shows
END:VEVENT
BEGIN:VEVENT
DTSTART;TZID=America/New_York:20260621T090000
DTEND;TZID=America/New_York:20260621T170000
DTSTAMP:20260424T131207
CREATED:20251217T202443Z
LAST-MODIFIED:20251217T202443Z
UID:10005182-1782032400-1782061200@journalofantiques.com
SUMMARY:Mower's Saturday & Sunday Flea Market
DESCRIPTION:May-October: Woodstock\, NY\nMower’s Saturday & Sunday Flea Market\n11 Maple Lane\n9am-5pm\n845-679-6744\, woodstockfleamarket@hcc.rr.com\nwww.mowerssaturdayfleamarket.com
URL:https://journalofantiques.com/event/mowers-saturday-sunday-flea-market/2026-06-21/
LOCATION:Mower’s Flea Market\, 11 Maple Lane\, Woodstock\, NY\, United States
CATEGORIES:Antique Shows
END:VEVENT
BEGIN:VEVENT
DTSTART;TZID=America/New_York:20260627T090000
DTEND;TZID=America/New_York:20260627T170000
DTSTAMP:20260424T131207
CREATED:20251217T202443Z
LAST-MODIFIED:20251217T202443Z
UID:10005183-1782550800-1782579600@journalofantiques.com
SUMMARY:Mower's Saturday & Sunday Flea Market
DESCRIPTION:May-October: Woodstock\, NY\nMower’s Saturday & Sunday Flea Market\n11 Maple Lane\n9am-5pm\n845-679-6744\, woodstockfleamarket@hcc.rr.com\nwww.mowerssaturdayfleamarket.com
URL:https://journalofantiques.com/event/mowers-saturday-sunday-flea-market/2026-06-27/
LOCATION:Mower’s Flea Market\, 11 Maple Lane\, Woodstock\, NY\, United States
CATEGORIES:Antique Shows
END:VEVENT
BEGIN:VEVENT
DTSTART;TZID=America/New_York:20260628T090000
DTEND;TZID=America/New_York:20260628T170000
DTSTAMP:20260424T131207
CREATED:20251217T202443Z
LAST-MODIFIED:20251217T202443Z
UID:10005184-1782637200-1782666000@journalofantiques.com
SUMMARY:Mower's Saturday & Sunday Flea Market
DESCRIPTION:May-October: Woodstock\, NY\nMower’s Saturday & Sunday Flea Market\n11 Maple Lane\n9am-5pm\n845-679-6744\, woodstockfleamarket@hcc.rr.com\nwww.mowerssaturdayfleamarket.com
URL:https://journalofantiques.com/event/mowers-saturday-sunday-flea-market/2026-06-28/
LOCATION:Mower’s Flea Market\, 11 Maple Lane\, Woodstock\, NY\, United States
CATEGORIES:Antique Shows
END:VEVENT
BEGIN:VEVENT
DTSTART;TZID=America/New_York:20260704T090000
DTEND;TZID=America/New_York:20260704T170000
DTSTAMP:20260424T131207
CREATED:20251217T202443Z
LAST-MODIFIED:20251217T202443Z
UID:10005185-1783155600-1783184400@journalofantiques.com
SUMMARY:Mower's Saturday & Sunday Flea Market
DESCRIPTION:May-October: Woodstock\, NY\nMower’s Saturday & Sunday Flea Market\n11 Maple Lane\n9am-5pm\n845-679-6744\, woodstockfleamarket@hcc.rr.com\nwww.mowerssaturdayfleamarket.com
URL:https://journalofantiques.com/event/mowers-saturday-sunday-flea-market/2026-07-04/
LOCATION:Mower’s Flea Market\, 11 Maple Lane\, Woodstock\, NY\, United States
CATEGORIES:Antique Shows
END:VEVENT
BEGIN:VEVENT
DTSTART;TZID=America/New_York:20260705T090000
DTEND;TZID=America/New_York:20260705T170000
DTSTAMP:20260424T131207
CREATED:20251217T202443Z
LAST-MODIFIED:20251217T202443Z
UID:10005186-1783242000-1783270800@journalofantiques.com
SUMMARY:Mower's Saturday & Sunday Flea Market
DESCRIPTION:May-October: Woodstock\, NY\nMower’s Saturday & Sunday Flea Market\n11 Maple Lane\n9am-5pm\n845-679-6744\, woodstockfleamarket@hcc.rr.com\nwww.mowerssaturdayfleamarket.com
URL:https://journalofantiques.com/event/mowers-saturday-sunday-flea-market/2026-07-05/
LOCATION:Mower’s Flea Market\, 11 Maple Lane\, Woodstock\, NY\, United States
CATEGORIES:Antique Shows
END:VEVENT
BEGIN:VEVENT
DTSTART;TZID=America/New_York:20260711T090000
DTEND;TZID=America/New_York:20260711T170000
DTSTAMP:20260424T131207
CREATED:20251217T202443Z
LAST-MODIFIED:20251217T202443Z
UID:10005187-1783760400-1783789200@journalofantiques.com
SUMMARY:Mower's Saturday & Sunday Flea Market
DESCRIPTION:May-October: Woodstock\, NY\nMower’s Saturday & Sunday Flea Market\n11 Maple Lane\n9am-5pm\n845-679-6744\, woodstockfleamarket@hcc.rr.com\nwww.mowerssaturdayfleamarket.com
URL:https://journalofantiques.com/event/mowers-saturday-sunday-flea-market/2026-07-11/
LOCATION:Mower’s Flea Market\, 11 Maple Lane\, Woodstock\, NY\, United States
CATEGORIES:Antique Shows
END:VEVENT
BEGIN:VEVENT
DTSTART;TZID=America/New_York:20260712T090000
DTEND;TZID=America/New_York:20260712T170000
DTSTAMP:20260424T131207
CREATED:20251217T202443Z
LAST-MODIFIED:20251217T202443Z
UID:10005188-1783846800-1783875600@journalofantiques.com
SUMMARY:Mower's Saturday & Sunday Flea Market
DESCRIPTION:May-October: Woodstock\, NY\nMower’s Saturday & Sunday Flea Market\n11 Maple Lane\n9am-5pm\n845-679-6744\, woodstockfleamarket@hcc.rr.com\nwww.mowerssaturdayfleamarket.com
URL:https://journalofantiques.com/event/mowers-saturday-sunday-flea-market/2026-07-12/
LOCATION:Mower’s Flea Market\, 11 Maple Lane\, Woodstock\, NY\, United States
CATEGORIES:Antique Shows
END:VEVENT
BEGIN:VEVENT
DTSTART;TZID=America/New_York:20260718T090000
DTEND;TZID=America/New_York:20260718T170000
DTSTAMP:20260424T131207
CREATED:20251217T202443Z
LAST-MODIFIED:20251217T202443Z
UID:10005189-1784365200-1784394000@journalofantiques.com
SUMMARY:Mower's Saturday & Sunday Flea Market
DESCRIPTION:May-October: Woodstock\, NY\nMower’s Saturday & Sunday Flea Market\n11 Maple Lane\n9am-5pm\n845-679-6744\, woodstockfleamarket@hcc.rr.com\nwww.mowerssaturdayfleamarket.com
URL:https://journalofantiques.com/event/mowers-saturday-sunday-flea-market/2026-07-18/
LOCATION:Mower’s Flea Market\, 11 Maple Lane\, Woodstock\, NY\, United States
CATEGORIES:Antique Shows
END:VEVENT
BEGIN:VEVENT
DTSTART;TZID=America/New_York:20260719T090000
DTEND;TZID=America/New_York:20260719T170000
DTSTAMP:20260424T131207
CREATED:20251217T202443Z
LAST-MODIFIED:20251217T202443Z
UID:10005190-1784451600-1784480400@journalofantiques.com
SUMMARY:Mower's Saturday & Sunday Flea Market
DESCRIPTION:May-October: Woodstock\, NY\nMower’s Saturday & Sunday Flea Market\n11 Maple Lane\n9am-5pm\n845-679-6744\, woodstockfleamarket@hcc.rr.com\nwww.mowerssaturdayfleamarket.com
URL:https://journalofantiques.com/event/mowers-saturday-sunday-flea-market/2026-07-19/
LOCATION:Mower’s Flea Market\, 11 Maple Lane\, Woodstock\, NY\, United States
CATEGORIES:Antique Shows
END:VEVENT
BEGIN:VEVENT
DTSTART;TZID=America/New_York:20260725T090000
DTEND;TZID=America/New_York:20260725T170000
DTSTAMP:20260424T131207
CREATED:20251217T202443Z
LAST-MODIFIED:20251217T202443Z
UID:10005191-1784970000-1784998800@journalofantiques.com
SUMMARY:Mower's Saturday & Sunday Flea Market
DESCRIPTION:May-October: Woodstock\, NY\nMower’s Saturday & Sunday Flea Market\n11 Maple Lane\n9am-5pm\n845-679-6744\, woodstockfleamarket@hcc.rr.com\nwww.mowerssaturdayfleamarket.com
URL:https://journalofantiques.com/event/mowers-saturday-sunday-flea-market/2026-07-25/
LOCATION:Mower’s Flea Market\, 11 Maple Lane\, Woodstock\, NY\, United States
CATEGORIES:Antique Shows
END:VEVENT
BEGIN:VEVENT
DTSTART;TZID=America/New_York:20260726T090000
DTEND;TZID=America/New_York:20260726T170000
DTSTAMP:20260424T131207
CREATED:20251217T202443Z
LAST-MODIFIED:20251217T202443Z
UID:10005192-1785056400-1785085200@journalofantiques.com
SUMMARY:Mower's Saturday & Sunday Flea Market
DESCRIPTION:May-October: Woodstock\, NY\nMower’s Saturday & Sunday Flea Market\n11 Maple Lane\n9am-5pm\n845-679-6744\, woodstockfleamarket@hcc.rr.com\nwww.mowerssaturdayfleamarket.com
URL:https://journalofantiques.com/event/mowers-saturday-sunday-flea-market/2026-07-26/
LOCATION:Mower’s Flea Market\, 11 Maple Lane\, Woodstock\, NY\, United States
CATEGORIES:Antique Shows
END:VEVENT
BEGIN:VEVENT
DTSTART;TZID=America/New_York:20260801T090000
DTEND;TZID=America/New_York:20260801T170000
DTSTAMP:20260424T131207
CREATED:20251217T202443Z
LAST-MODIFIED:20251217T202443Z
UID:10005193-1785574800-1785603600@journalofantiques.com
SUMMARY:Mower's Saturday & Sunday Flea Market
DESCRIPTION:May-October: Woodstock\, NY\nMower’s Saturday & Sunday Flea Market\n11 Maple Lane\n9am-5pm\n845-679-6744\, woodstockfleamarket@hcc.rr.com\nwww.mowerssaturdayfleamarket.com
URL:https://journalofantiques.com/event/mowers-saturday-sunday-flea-market/2026-08-01/
LOCATION:Mower’s Flea Market\, 11 Maple Lane\, Woodstock\, NY\, United States
CATEGORIES:Antique Shows
END:VEVENT
BEGIN:VEVENT
DTSTART;TZID=America/New_York:20260802T090000
DTEND;TZID=America/New_York:20260802T170000
DTSTAMP:20260424T131207
CREATED:20251217T202443Z
LAST-MODIFIED:20251217T202443Z
UID:10005194-1785661200-1785690000@journalofantiques.com
SUMMARY:Mower's Saturday & Sunday Flea Market
DESCRIPTION:May-October: Woodstock\, NY\nMower’s Saturday & Sunday Flea Market\n11 Maple Lane\n9am-5pm\n845-679-6744\, woodstockfleamarket@hcc.rr.com\nwww.mowerssaturdayfleamarket.com
URL:https://journalofantiques.com/event/mowers-saturday-sunday-flea-market/2026-08-02/
LOCATION:Mower’s Flea Market\, 11 Maple Lane\, Woodstock\, NY\, United States
CATEGORIES:Antique Shows
END:VEVENT
BEGIN:VEVENT
DTSTART;TZID=America/New_York:20260808T090000
DTEND;TZID=America/New_York:20260808T170000
DTSTAMP:20260424T131207
CREATED:20251217T202443Z
LAST-MODIFIED:20251217T202443Z
UID:10005195-1786179600-1786208400@journalofantiques.com
SUMMARY:Mower's Saturday & Sunday Flea Market
DESCRIPTION:May-October: Woodstock\, NY\nMower’s Saturday & Sunday Flea Market\n11 Maple Lane\n9am-5pm\n845-679-6744\, woodstockfleamarket@hcc.rr.com\nwww.mowerssaturdayfleamarket.com
URL:https://journalofantiques.com/event/mowers-saturday-sunday-flea-market/2026-08-08/
LOCATION:Mower’s Flea Market\, 11 Maple Lane\, Woodstock\, NY\, United States
CATEGORIES:Antique Shows
END:VEVENT
BEGIN:VEVENT
DTSTART;TZID=America/New_York:20260809T090000
DTEND;TZID=America/New_York:20260809T170000
DTSTAMP:20260424T131207
CREATED:20251217T202443Z
LAST-MODIFIED:20251217T202443Z
UID:10005196-1786266000-1786294800@journalofantiques.com
SUMMARY:Mower's Saturday & Sunday Flea Market
DESCRIPTION:May-October: Woodstock\, NY\nMower’s Saturday & Sunday Flea Market\n11 Maple Lane\n9am-5pm\n845-679-6744\, woodstockfleamarket@hcc.rr.com\nwww.mowerssaturdayfleamarket.com
URL:https://journalofantiques.com/event/mowers-saturday-sunday-flea-market/2026-08-09/
LOCATION:Mower’s Flea Market\, 11 Maple Lane\, Woodstock\, NY\, United States
CATEGORIES:Antique Shows
END:VEVENT
BEGIN:VEVENT
DTSTART;TZID=America/New_York:20260815T090000
DTEND;TZID=America/New_York:20260815T170000
DTSTAMP:20260424T131207
CREATED:20251217T202443Z
LAST-MODIFIED:20251217T202443Z
UID:10005197-1786784400-1786813200@journalofantiques.com
SUMMARY:Mower's Saturday & Sunday Flea Market
DESCRIPTION:May-October: Woodstock\, NY\nMower’s Saturday & Sunday Flea Market\n11 Maple Lane\n9am-5pm\n845-679-6744\, woodstockfleamarket@hcc.rr.com\nwww.mowerssaturdayfleamarket.com
URL:https://journalofantiques.com/event/mowers-saturday-sunday-flea-market/2026-08-15/
LOCATION:Mower’s Flea Market\, 11 Maple Lane\, Woodstock\, NY\, United States
CATEGORIES:Antique Shows
END:VEVENT
BEGIN:VEVENT
DTSTART;TZID=America/New_York:20260816T090000
DTEND;TZID=America/New_York:20260816T170000
DTSTAMP:20260424T131207
CREATED:20251217T202443Z
LAST-MODIFIED:20251217T202443Z
UID:10005198-1786870800-1786899600@journalofantiques.com
SUMMARY:Mower's Saturday & Sunday Flea Market
DESCRIPTION:May-October: Woodstock\, NY\nMower’s Saturday & Sunday Flea Market\n11 Maple Lane\n9am-5pm\n845-679-6744\, woodstockfleamarket@hcc.rr.com\nwww.mowerssaturdayfleamarket.com
URL:https://journalofantiques.com/event/mowers-saturday-sunday-flea-market/2026-08-16/
LOCATION:Mower’s Flea Market\, 11 Maple Lane\, Woodstock\, NY\, United States
CATEGORIES:Antique Shows
END:VEVENT
BEGIN:VEVENT
DTSTART;TZID=America/New_York:20260822T090000
DTEND;TZID=America/New_York:20260822T170000
DTSTAMP:20260424T131207
CREATED:20251217T202443Z
LAST-MODIFIED:20251217T202443Z
UID:10005199-1787389200-1787418000@journalofantiques.com
SUMMARY:Mower's Saturday & Sunday Flea Market
DESCRIPTION:May-October: Woodstock\, NY\nMower’s Saturday & Sunday Flea Market\n11 Maple Lane\n9am-5pm\n845-679-6744\, woodstockfleamarket@hcc.rr.com\nwww.mowerssaturdayfleamarket.com
URL:https://journalofantiques.com/event/mowers-saturday-sunday-flea-market/2026-08-22/
LOCATION:Mower’s Flea Market\, 11 Maple Lane\, Woodstock\, NY\, United States
CATEGORIES:Antique Shows
END:VEVENT
BEGIN:VEVENT
DTSTART;TZID=America/New_York:20260823T090000
DTEND;TZID=America/New_York:20260823T170000
DTSTAMP:20260424T131207
CREATED:20251217T202443Z
LAST-MODIFIED:20251217T202443Z
UID:10005200-1787475600-1787504400@journalofantiques.com
SUMMARY:Mower's Saturday & Sunday Flea Market
DESCRIPTION:May-October: Woodstock\, NY\nMower’s Saturday & Sunday Flea Market\n11 Maple Lane\n9am-5pm\n845-679-6744\, woodstockfleamarket@hcc.rr.com\nwww.mowerssaturdayfleamarket.com
URL:https://journalofantiques.com/event/mowers-saturday-sunday-flea-market/2026-08-23/
LOCATION:Mower’s Flea Market\, 11 Maple Lane\, Woodstock\, NY\, United States
CATEGORIES:Antique Shows
END:VEVENT
BEGIN:VEVENT
DTSTART;TZID=America/New_York:20260829T090000
DTEND;TZID=America/New_York:20260829T170000
DTSTAMP:20260424T131207
CREATED:20251217T202443Z
LAST-MODIFIED:20251217T202443Z
UID:10005201-1787994000-1788022800@journalofantiques.com
SUMMARY:Mower's Saturday & Sunday Flea Market
DESCRIPTION:May-October: Woodstock\, NY\nMower’s Saturday & Sunday Flea Market\n11 Maple Lane\n9am-5pm\n845-679-6744\, woodstockfleamarket@hcc.rr.com\nwww.mowerssaturdayfleamarket.com
URL:https://journalofantiques.com/event/mowers-saturday-sunday-flea-market/2026-08-29/
LOCATION:Mower’s Flea Market\, 11 Maple Lane\, Woodstock\, NY\, United States
CATEGORIES:Antique Shows
END:VEVENT
BEGIN:VEVENT
DTSTART;TZID=America/New_York:20260830T090000
DTEND;TZID=America/New_York:20260830T170000
DTSTAMP:20260424T131207
CREATED:20251217T202443Z
LAST-MODIFIED:20251217T202443Z
UID:10005202-1788080400-1788109200@journalofantiques.com
SUMMARY:Mower's Saturday & Sunday Flea Market
DESCRIPTION:May-October: Woodstock\, NY\nMower’s Saturday & Sunday Flea Market\n11 Maple Lane\n9am-5pm\n845-679-6744\, woodstockfleamarket@hcc.rr.com\nwww.mowerssaturdayfleamarket.com
URL:https://journalofantiques.com/event/mowers-saturday-sunday-flea-market/2026-08-30/
LOCATION:Mower’s Flea Market\, 11 Maple Lane\, Woodstock\, NY\, United States
CATEGORIES:Antique Shows
END:VEVENT
BEGIN:VEVENT
DTSTART;TZID=America/New_York:20260905T090000
DTEND;TZID=America/New_York:20260905T170000
DTSTAMP:20260424T131207
CREATED:20251217T202443Z
LAST-MODIFIED:20251217T202443Z
UID:10005203-1788598800-1788627600@journalofantiques.com
SUMMARY:Mower's Saturday & Sunday Flea Market
DESCRIPTION:May-October: Woodstock\, NY\nMower’s Saturday & Sunday Flea Market\n11 Maple Lane\n9am-5pm\n845-679-6744\, woodstockfleamarket@hcc.rr.com\nwww.mowerssaturdayfleamarket.com
URL:https://journalofantiques.com/event/mowers-saturday-sunday-flea-market/2026-09-05/
LOCATION:Mower’s Flea Market\, 11 Maple Lane\, Woodstock\, NY\, United States
CATEGORIES:Antique Shows
END:VEVENT
BEGIN:VEVENT
DTSTART;TZID=America/New_York:20260906T090000
DTEND;TZID=America/New_York:20260906T170000
DTSTAMP:20260424T131207
CREATED:20251217T202443Z
LAST-MODIFIED:20251217T202443Z
UID:10005204-1788685200-1788714000@journalofantiques.com
SUMMARY:Mower's Saturday & Sunday Flea Market
DESCRIPTION:May-October: Woodstock\, NY\nMower’s Saturday & Sunday Flea Market\n11 Maple Lane\n9am-5pm\n845-679-6744\, woodstockfleamarket@hcc.rr.com\nwww.mowerssaturdayfleamarket.com
URL:https://journalofantiques.com/event/mowers-saturday-sunday-flea-market/2026-09-06/
LOCATION:Mower’s Flea Market\, 11 Maple Lane\, Woodstock\, NY\, United States
CATEGORIES:Antique Shows
END:VEVENT
BEGIN:VEVENT
DTSTART;TZID=America/New_York:20260912T090000
DTEND;TZID=America/New_York:20260912T170000
DTSTAMP:20260424T131207
CREATED:20251217T202443Z
LAST-MODIFIED:20251217T202443Z
UID:10005205-1789203600-1789232400@journalofantiques.com
SUMMARY:Mower's Saturday & Sunday Flea Market
DESCRIPTION:May-October: Woodstock\, NY\nMower’s Saturday & Sunday Flea Market\n11 Maple Lane\n9am-5pm\n845-679-6744\, woodstockfleamarket@hcc.rr.com\nwww.mowerssaturdayfleamarket.com
URL:https://journalofantiques.com/event/mowers-saturday-sunday-flea-market/2026-09-12/
LOCATION:Mower’s Flea Market\, 11 Maple Lane\, Woodstock\, NY\, United States
CATEGORIES:Antique Shows
END:VEVENT
BEGIN:VEVENT
DTSTART;TZID=America/New_York:20260913T090000
DTEND;TZID=America/New_York:20260913T170000
DTSTAMP:20260424T131207
CREATED:20251217T202443Z
LAST-MODIFIED:20251217T202443Z
UID:10005206-1789290000-1789318800@journalofantiques.com
SUMMARY:Mower's Saturday & Sunday Flea Market
DESCRIPTION:May-October: Woodstock\, NY\nMower’s Saturday & Sunday Flea Market\n11 Maple Lane\n9am-5pm\n845-679-6744\, woodstockfleamarket@hcc.rr.com\nwww.mowerssaturdayfleamarket.com
URL:https://journalofantiques.com/event/mowers-saturday-sunday-flea-market/2026-09-13/
LOCATION:Mower’s Flea Market\, 11 Maple Lane\, Woodstock\, NY\, United States
CATEGORIES:Antique Shows
END:VEVENT
BEGIN:VEVENT
DTSTART;TZID=America/New_York:20260919T090000
DTEND;TZID=America/New_York:20260919T170000
DTSTAMP:20260424T131207
CREATED:20251217T202443Z
LAST-MODIFIED:20251217T202443Z
UID:10005207-1789808400-1789837200@journalofantiques.com
SUMMARY:Mower's Saturday & Sunday Flea Market
DESCRIPTION:May-October: Woodstock\, NY\nMower’s Saturday & Sunday Flea Market\n11 Maple Lane\n9am-5pm\n845-679-6744\, woodstockfleamarket@hcc.rr.com\nwww.mowerssaturdayfleamarket.com
URL:https://journalofantiques.com/event/mowers-saturday-sunday-flea-market/2026-09-19/
LOCATION:Mower’s Flea Market\, 11 Maple Lane\, Woodstock\, NY\, United States
CATEGORIES:Antique Shows
END:VEVENT
BEGIN:VEVENT
DTSTART;TZID=America/New_York:20260920T090000
DTEND;TZID=America/New_York:20260920T170000
DTSTAMP:20260424T131207
CREATED:20251217T202443Z
LAST-MODIFIED:20251217T202443Z
UID:10005208-1789894800-1789923600@journalofantiques.com
SUMMARY:Mower's Saturday & Sunday Flea Market
DESCRIPTION:May-October: Woodstock\, NY\nMower’s Saturday & Sunday Flea Market\n11 Maple Lane\n9am-5pm\n845-679-6744\, woodstockfleamarket@hcc.rr.com\nwww.mowerssaturdayfleamarket.com
URL:https://journalofantiques.com/event/mowers-saturday-sunday-flea-market/2026-09-20/
LOCATION:Mower’s Flea Market\, 11 Maple Lane\, Woodstock\, NY\, United States
CATEGORIES:Antique Shows
END:VEVENT
BEGIN:VEVENT
DTSTART;TZID=America/New_York:20260926T090000
DTEND;TZID=America/New_York:20260926T170000
DTSTAMP:20260424T131207
CREATED:20251217T202443Z
LAST-MODIFIED:20251217T202443Z
UID:10005209-1790413200-1790442000@journalofantiques.com
SUMMARY:Mower's Saturday & Sunday Flea Market
DESCRIPTION:May-October: Woodstock\, NY\nMower’s Saturday & Sunday Flea Market\n11 Maple Lane\n9am-5pm\n845-679-6744\, woodstockfleamarket@hcc.rr.com\nwww.mowerssaturdayfleamarket.com
URL:https://journalofantiques.com/event/mowers-saturday-sunday-flea-market/2026-09-26/
LOCATION:Mower’s Flea Market\, 11 Maple Lane\, Woodstock\, NY\, United States
CATEGORIES:Antique Shows
END:VEVENT
BEGIN:VEVENT
DTSTART;TZID=America/New_York:20260927T090000
DTEND;TZID=America/New_York:20260927T170000
DTSTAMP:20260424T131207
CREATED:20251217T202443Z
LAST-MODIFIED:20251217T202443Z
UID:10005210-1790499600-1790528400@journalofantiques.com
SUMMARY:Mower's Saturday & Sunday Flea Market
DESCRIPTION:May-October: Woodstock\, NY\nMower’s Saturday & Sunday Flea Market\n11 Maple Lane\n9am-5pm\n845-679-6744\, woodstockfleamarket@hcc.rr.com\nwww.mowerssaturdayfleamarket.com
URL:https://journalofantiques.com/event/mowers-saturday-sunday-flea-market/2026-09-27/
LOCATION:Mower’s Flea Market\, 11 Maple Lane\, Woodstock\, NY\, United States
CATEGORIES:Antique Shows
END:VEVENT
END:VCALENDAR