    BEGIN:VCALENDAR
VERSION:2.0
PRODID:-//The Journal of Antiques and Collectibles - ECPv6.15.20//NONSGML v1.0//EN
CALSCALE:GREGORIAN
METHOD:PUBLISH
X-WR-CALNAME:The Journal of Antiques and Collectibles
X-ORIGINAL-URL:https://journalofantiques.com
X-WR-CALDESC:Events for The Journal of Antiques and Collectibles
REFRESH-INTERVAL;VALUE=DURATION:PT1H
X-Robots-Tag:noindex
X-PUBLISHED-TTL:PT1H
BEGIN:VTIMEZONE
TZID:America/New_York
BEGIN:DAYLIGHT
TZOFFSETFROM:-0500
TZOFFSETTO:-0400
TZNAME:EDT
DTSTART:20250309T070000
END:DAYLIGHT
BEGIN:STANDARD
TZOFFSETFROM:-0400
TZOFFSETTO:-0500
TZNAME:EST
DTSTART:20251102T060000
END:STANDARD
BEGIN:DAYLIGHT
TZOFFSETFROM:-0500
TZOFFSETTO:-0400
TZNAME:EDT
DTSTART:20260308T070000
END:DAYLIGHT
BEGIN:STANDARD
TZOFFSETFROM:-0400
TZOFFSETTO:-0500
TZNAME:EST
DTSTART:20261101T060000
END:STANDARD
BEGIN:DAYLIGHT
TZOFFSETFROM:-0500
TZOFFSETTO:-0400
TZNAME:EDT
DTSTART:20270314T070000
END:DAYLIGHT
BEGIN:STANDARD
TZOFFSETFROM:-0400
TZOFFSETTO:-0500
TZNAME:EST
DTSTART:20271107T060000
END:STANDARD
END:VTIMEZONE
BEGIN:VEVENT
DTSTART;VALUE=DATE:20260606
DTEND;VALUE=DATE:20260608
DTSTAMP:20260424T155602
CREATED:20260218T030508Z
LAST-MODIFIED:20260218T030508Z
UID:10005757-1780704000-1780876799@journalofantiques.com
SUMMARY:Old North State Antique Gun & Military Antiques Show
DESCRIPTION:June 6-7: Raleigh\, NC \nOld North State Antique Gun & Military Antiques Show \nNorth Carolina Fairgrounds\, 4285 Trinity Road \nSat. 9 am-5 pm\, Sun. 10 am-4 pm \nCarolina Trader Promotions \n704-254-6181\, richard@thecarolinatrader.com \nwww.thecarolinatrader.com
URL:https://journalofantiques.com/event/old-north-state-antique-gun-military-antiques-show-2/
LOCATION:North Carolina Fairgrounds\, 4285 Trinity Road\, Raleigh\, NC\, 27607\, United States
CATEGORIES:Antique Shows
END:VEVENT
BEGIN:VEVENT
DTSTART;VALUE=DATE:20260829
DTEND;VALUE=DATE:20260831
DTSTAMP:20260424T155602
CREATED:20260220T211930Z
LAST-MODIFIED:20260220T211930Z
UID:10005780-1787961600-1788134399@journalofantiques.com
SUMMARY:Old North State Antique Gun & Military Antiques Show
DESCRIPTION:August 29-30: Raleigh\, NC \nOld North State Antique Gun & Military Antiques Show \nNorth Carolina Fairgrounds\, 4285 Trinity Road \nSat. 9 am-5 pm\, Sun. 10 am-4 pm \nCarolina Trader Promotions \n704-254-6181\, richard@thecarolinatrader.com \nwww.thecarolinatrader.com
URL:https://journalofantiques.com/event/old-north-state-antique-gun-military-antiques-show-3/
LOCATION:North Carolina Fairgrounds\, 4285 Trinity Road\, Raleigh\, NC\, 27607\, United States
CATEGORIES:Antique Shows
END:VEVENT
END:VCALENDAR