    BEGIN:VCALENDAR
VERSION:2.0
PRODID:-//The Journal of Antiques and Collectibles - ECPv6.15.20//NONSGML v1.0//EN
CALSCALE:GREGORIAN
METHOD:PUBLISH
X-ORIGINAL-URL:https://journalofantiques.com
X-WR-CALDESC:Events for The Journal of Antiques and Collectibles
REFRESH-INTERVAL;VALUE=DURATION:PT1H
X-Robots-Tag:noindex
X-PUBLISHED-TTL:PT1H
BEGIN:VTIMEZONE
TZID:America/New_York
BEGIN:DAYLIGHT
TZOFFSETFROM:-0500
TZOFFSETTO:-0400
TZNAME:EDT
DTSTART:20250309T070000
END:DAYLIGHT
BEGIN:STANDARD
TZOFFSETFROM:-0400
TZOFFSETTO:-0500
TZNAME:EST
DTSTART:20251102T060000
END:STANDARD
BEGIN:DAYLIGHT
TZOFFSETFROM:-0500
TZOFFSETTO:-0400
TZNAME:EDT
DTSTART:20260308T070000
END:DAYLIGHT
BEGIN:STANDARD
TZOFFSETFROM:-0400
TZOFFSETTO:-0500
TZNAME:EST
DTSTART:20261101T060000
END:STANDARD
BEGIN:DAYLIGHT
TZOFFSETFROM:-0500
TZOFFSETTO:-0400
TZNAME:EDT
DTSTART:20270314T070000
END:DAYLIGHT
BEGIN:STANDARD
TZOFFSETFROM:-0400
TZOFFSETTO:-0500
TZNAME:EST
DTSTART:20271107T060000
END:STANDARD
END:VTIMEZONE
BEGIN:VEVENT
DTSTART;VALUE=DATE:20261128
DTEND;VALUE=DATE:20261129
DTSTAMP:20260424T102237
CREATED:20260220T210719Z
LAST-MODIFIED:20260220T210719Z
UID:10005777-1795824000-1795910399@journalofantiques.com
SUMMARY:Scott Antique Markets
DESCRIPTION:November 28-29: Columbus\, OH \nScott Antique Markets \nOhio Expo Center\, 717 East 17th Avenue \nSat. 9 am-6 pm\, Sun. 10 am-4 pm \n740-569-2800 \nwww.scottantiquemarket.com
URL:https://journalofantiques.com/event/scott-antique-markets-3/
LOCATION:Ohio Expo Center\, 717 East 17th Avenue\, Columbus\, OH\, United States
CATEGORIES:Antique Shows
END:VEVENT
BEGIN:VEVENT
DTSTART;VALUE=DATE:20261219
DTEND;VALUE=DATE:20261221
DTSTAMP:20260424T102237
CREATED:20260203T220251Z
LAST-MODIFIED:20260203T220251Z
UID:10005697-1797638400-1797811199@journalofantiques.com
SUMMARY:Scott Antique Markets
DESCRIPTION:December 19-20: Columbus\, OH \nScott Antique Markets \nOhio Expo Center\, 717 East 17th Avenue \nSat. 9 am-6 pm\, Sun. 10 am-4 pm \n740-569-2800 \nwww.scottantiquemarket.com
URL:https://journalofantiques.com/event/scott-antique-markets-2/
LOCATION:Ohio Expo Center\, 717 East 17th Avenue\, Columbus\, OH\, United States
CATEGORIES:Antique Shows
END:VEVENT
END:VCALENDAR