    BEGIN:VCALENDAR
VERSION:2.0
PRODID:-//The Journal of Antiques and Collectibles - ECPv6.15.20//NONSGML v1.0//EN
CALSCALE:GREGORIAN
METHOD:PUBLISH
X-WR-CALNAME:The Journal of Antiques and Collectibles
X-ORIGINAL-URL:https://journalofantiques.com
X-WR-CALDESC:Events for The Journal of Antiques and Collectibles
REFRESH-INTERVAL;VALUE=DURATION:PT1H
X-Robots-Tag:noindex
X-PUBLISHED-TTL:PT1H
BEGIN:VTIMEZONE
TZID:America/New_York
BEGIN:DAYLIGHT
TZOFFSETFROM:-0500
TZOFFSETTO:-0400
TZNAME:EDT
DTSTART:20250309T070000
END:DAYLIGHT
BEGIN:STANDARD
TZOFFSETFROM:-0400
TZOFFSETTO:-0500
TZNAME:EST
DTSTART:20251102T060000
END:STANDARD
BEGIN:DAYLIGHT
TZOFFSETFROM:-0500
TZOFFSETTO:-0400
TZNAME:EDT
DTSTART:20260308T070000
END:DAYLIGHT
BEGIN:STANDARD
TZOFFSETFROM:-0400
TZOFFSETTO:-0500
TZNAME:EST
DTSTART:20261101T060000
END:STANDARD
BEGIN:DAYLIGHT
TZOFFSETFROM:-0500
TZOFFSETTO:-0400
TZNAME:EDT
DTSTART:20270314T070000
END:DAYLIGHT
BEGIN:STANDARD
TZOFFSETFROM:-0400
TZOFFSETTO:-0500
TZNAME:EST
DTSTART:20271107T060000
END:STANDARD
END:VTIMEZONE
BEGIN:VEVENT
DTSTART;TZID=America/New_York:20260516T060000
DTEND;TZID=America/New_York:20260516T150000
DTSTAMP:20260424T102347
CREATED:20251217T194517Z
LAST-MODIFIED:20260402T024522Z
UID:10003976-1778911200-1778943600@journalofantiques.com
SUMMARY:Redwood Country Flea Market
DESCRIPTION:January-December: Wallingford\, CT\nRedwood Country Flea Market\n170 South Turnpike Road\nOpen Every Friday\, Saturday\, Sunday\nFri. 6am-1pm\, Sat./Sun. 6am-3pm\n203-269-3500\nwww.facebook.com/redwoodcountryfleamarket
URL:https://journalofantiques.com/event/redwood-country-flea-market-2/2026-05-16/
LOCATION:Redwood Country Flea Market\, 170 South Turnpike Road\, Wallingford\, CT\, United States
CATEGORIES:Antique Shows
END:VEVENT
BEGIN:VEVENT
DTSTART;TZID=America/New_York:20260517T060000
DTEND;TZID=America/New_York:20260517T150000
DTSTAMP:20260424T102347
CREATED:20251217T194517Z
LAST-MODIFIED:20260402T024522Z
UID:10003977-1778997600-1779030000@journalofantiques.com
SUMMARY:Redwood Country Flea Market
DESCRIPTION:January-December: Wallingford\, CT\nRedwood Country Flea Market\n170 South Turnpike Road\nOpen Every Friday\, Saturday\, Sunday\nFri. 6am-1pm\, Sat./Sun. 6am-3pm\n203-269-3500\nwww.facebook.com/redwoodcountryfleamarket
URL:https://journalofantiques.com/event/redwood-country-flea-market-2/2026-05-17/
LOCATION:Redwood Country Flea Market\, 170 South Turnpike Road\, Wallingford\, CT\, United States
CATEGORIES:Antique Shows
END:VEVENT
BEGIN:VEVENT
DTSTART;TZID=America/New_York:20260522T060000
DTEND;TZID=America/New_York:20260522T130000
DTSTAMP:20260424T102347
CREATED:20251217T194342Z
LAST-MODIFIED:20260402T024403Z
UID:10003699-1779429600-1779454800@journalofantiques.com
SUMMARY:Redwood Country Flea Market
DESCRIPTION:January-December: Wallingford\, CT\nRedwood Country Flea Market\n170 South Turnpike Road\nOpen Every Friday\, Saturday\, Sunday\nFri. 6am-1pm\, Sat./Sun. 6am-3pm\n203-269-3500\nwww.facebook.com/redwoodcountryfleamarket
URL:https://journalofantiques.com/event/redwood-country-flea-market/2026-05-22/
LOCATION:Redwood Country Flea Market\, 170 South Turnpike Road\, Wallingford\, CT\, United States
CATEGORIES:Antique Shows
END:VEVENT
BEGIN:VEVENT
DTSTART;TZID=America/New_York:20260523T060000
DTEND;TZID=America/New_York:20260523T150000
DTSTAMP:20260424T102347
CREATED:20251217T194517Z
LAST-MODIFIED:20260402T024522Z
UID:10003978-1779516000-1779548400@journalofantiques.com
SUMMARY:Redwood Country Flea Market
DESCRIPTION:January-December: Wallingford\, CT\nRedwood Country Flea Market\n170 South Turnpike Road\nOpen Every Friday\, Saturday\, Sunday\nFri. 6am-1pm\, Sat./Sun. 6am-3pm\n203-269-3500\nwww.facebook.com/redwoodcountryfleamarket
URL:https://journalofantiques.com/event/redwood-country-flea-market-2/2026-05-23/
LOCATION:Redwood Country Flea Market\, 170 South Turnpike Road\, Wallingford\, CT\, United States
CATEGORIES:Antique Shows
END:VEVENT
BEGIN:VEVENT
DTSTART;TZID=America/New_York:20260524T060000
DTEND;TZID=America/New_York:20260524T150000
DTSTAMP:20260424T102347
CREATED:20251217T194517Z
LAST-MODIFIED:20260402T024522Z
UID:10003979-1779602400-1779634800@journalofantiques.com
SUMMARY:Redwood Country Flea Market
DESCRIPTION:January-December: Wallingford\, CT\nRedwood Country Flea Market\n170 South Turnpike Road\nOpen Every Friday\, Saturday\, Sunday\nFri. 6am-1pm\, Sat./Sun. 6am-3pm\n203-269-3500\nwww.facebook.com/redwoodcountryfleamarket
URL:https://journalofantiques.com/event/redwood-country-flea-market-2/2026-05-24/
LOCATION:Redwood Country Flea Market\, 170 South Turnpike Road\, Wallingford\, CT\, United States
CATEGORIES:Antique Shows
END:VEVENT
BEGIN:VEVENT
DTSTART;TZID=America/New_York:20260529T060000
DTEND;TZID=America/New_York:20260529T130000
DTSTAMP:20260424T102347
CREATED:20251217T194342Z
LAST-MODIFIED:20260402T024403Z
UID:10003700-1780034400-1780059600@journalofantiques.com
SUMMARY:Redwood Country Flea Market
DESCRIPTION:January-December: Wallingford\, CT\nRedwood Country Flea Market\n170 South Turnpike Road\nOpen Every Friday\, Saturday\, Sunday\nFri. 6am-1pm\, Sat./Sun. 6am-3pm\n203-269-3500\nwww.facebook.com/redwoodcountryfleamarket
URL:https://journalofantiques.com/event/redwood-country-flea-market/2026-05-29/
LOCATION:Redwood Country Flea Market\, 170 South Turnpike Road\, Wallingford\, CT\, United States
CATEGORIES:Antique Shows
END:VEVENT
BEGIN:VEVENT
DTSTART;TZID=America/New_York:20260530T060000
DTEND;TZID=America/New_York:20260530T150000
DTSTAMP:20260424T102347
CREATED:20251217T194517Z
LAST-MODIFIED:20260402T024522Z
UID:10003980-1780120800-1780153200@journalofantiques.com
SUMMARY:Redwood Country Flea Market
DESCRIPTION:January-December: Wallingford\, CT\nRedwood Country Flea Market\n170 South Turnpike Road\nOpen Every Friday\, Saturday\, Sunday\nFri. 6am-1pm\, Sat./Sun. 6am-3pm\n203-269-3500\nwww.facebook.com/redwoodcountryfleamarket
URL:https://journalofantiques.com/event/redwood-country-flea-market-2/2026-05-30/
LOCATION:Redwood Country Flea Market\, 170 South Turnpike Road\, Wallingford\, CT\, United States
CATEGORIES:Antique Shows
END:VEVENT
BEGIN:VEVENT
DTSTART;TZID=America/New_York:20260531T060000
DTEND;TZID=America/New_York:20260531T150000
DTSTAMP:20260424T102347
CREATED:20251217T194517Z
LAST-MODIFIED:20260402T024522Z
UID:10003981-1780207200-1780239600@journalofantiques.com
SUMMARY:Redwood Country Flea Market
DESCRIPTION:January-December: Wallingford\, CT\nRedwood Country Flea Market\n170 South Turnpike Road\nOpen Every Friday\, Saturday\, Sunday\nFri. 6am-1pm\, Sat./Sun. 6am-3pm\n203-269-3500\nwww.facebook.com/redwoodcountryfleamarket
URL:https://journalofantiques.com/event/redwood-country-flea-market-2/2026-05-31/
LOCATION:Redwood Country Flea Market\, 170 South Turnpike Road\, Wallingford\, CT\, United States
CATEGORIES:Antique Shows
END:VEVENT
BEGIN:VEVENT
DTSTART;TZID=America/New_York:20260605T060000
DTEND;TZID=America/New_York:20260605T130000
DTSTAMP:20260424T102347
CREATED:20251217T194342Z
LAST-MODIFIED:20260402T024403Z
UID:10003701-1780639200-1780664400@journalofantiques.com
SUMMARY:Redwood Country Flea Market
DESCRIPTION:January-December: Wallingford\, CT\nRedwood Country Flea Market\n170 South Turnpike Road\nOpen Every Friday\, Saturday\, Sunday\nFri. 6am-1pm\, Sat./Sun. 6am-3pm\n203-269-3500\nwww.facebook.com/redwoodcountryfleamarket
URL:https://journalofantiques.com/event/redwood-country-flea-market/2026-06-05/
LOCATION:Redwood Country Flea Market\, 170 South Turnpike Road\, Wallingford\, CT\, United States
CATEGORIES:Antique Shows
END:VEVENT
BEGIN:VEVENT
DTSTART;TZID=America/New_York:20260606T060000
DTEND;TZID=America/New_York:20260606T150000
DTSTAMP:20260424T102347
CREATED:20251217T194517Z
LAST-MODIFIED:20260402T024522Z
UID:10003982-1780725600-1780758000@journalofantiques.com
SUMMARY:Redwood Country Flea Market
DESCRIPTION:January-December: Wallingford\, CT\nRedwood Country Flea Market\n170 South Turnpike Road\nOpen Every Friday\, Saturday\, Sunday\nFri. 6am-1pm\, Sat./Sun. 6am-3pm\n203-269-3500\nwww.facebook.com/redwoodcountryfleamarket
URL:https://journalofantiques.com/event/redwood-country-flea-market-2/2026-06-06/
LOCATION:Redwood Country Flea Market\, 170 South Turnpike Road\, Wallingford\, CT\, United States
CATEGORIES:Antique Shows
END:VEVENT
BEGIN:VEVENT
DTSTART;TZID=America/New_York:20260607T060000
DTEND;TZID=America/New_York:20260607T150000
DTSTAMP:20260424T102347
CREATED:20251217T194517Z
LAST-MODIFIED:20260402T024522Z
UID:10003983-1780812000-1780844400@journalofantiques.com
SUMMARY:Redwood Country Flea Market
DESCRIPTION:January-December: Wallingford\, CT\nRedwood Country Flea Market\n170 South Turnpike Road\nOpen Every Friday\, Saturday\, Sunday\nFri. 6am-1pm\, Sat./Sun. 6am-3pm\n203-269-3500\nwww.facebook.com/redwoodcountryfleamarket
URL:https://journalofantiques.com/event/redwood-country-flea-market-2/2026-06-07/
LOCATION:Redwood Country Flea Market\, 170 South Turnpike Road\, Wallingford\, CT\, United States
CATEGORIES:Antique Shows
END:VEVENT
BEGIN:VEVENT
DTSTART;TZID=America/New_York:20260612T060000
DTEND;TZID=America/New_York:20260612T130000
DTSTAMP:20260424T102347
CREATED:20251217T194342Z
LAST-MODIFIED:20260402T024403Z
UID:10003702-1781244000-1781269200@journalofantiques.com
SUMMARY:Redwood Country Flea Market
DESCRIPTION:January-December: Wallingford\, CT\nRedwood Country Flea Market\n170 South Turnpike Road\nOpen Every Friday\, Saturday\, Sunday\nFri. 6am-1pm\, Sat./Sun. 6am-3pm\n203-269-3500\nwww.facebook.com/redwoodcountryfleamarket
URL:https://journalofantiques.com/event/redwood-country-flea-market/2026-06-12/
LOCATION:Redwood Country Flea Market\, 170 South Turnpike Road\, Wallingford\, CT\, United States
CATEGORIES:Antique Shows
END:VEVENT
BEGIN:VEVENT
DTSTART;TZID=America/New_York:20260613T060000
DTEND;TZID=America/New_York:20260613T150000
DTSTAMP:20260424T102347
CREATED:20251217T194517Z
LAST-MODIFIED:20260402T024522Z
UID:10003984-1781330400-1781362800@journalofantiques.com
SUMMARY:Redwood Country Flea Market
DESCRIPTION:January-December: Wallingford\, CT\nRedwood Country Flea Market\n170 South Turnpike Road\nOpen Every Friday\, Saturday\, Sunday\nFri. 6am-1pm\, Sat./Sun. 6am-3pm\n203-269-3500\nwww.facebook.com/redwoodcountryfleamarket
URL:https://journalofantiques.com/event/redwood-country-flea-market-2/2026-06-13/
LOCATION:Redwood Country Flea Market\, 170 South Turnpike Road\, Wallingford\, CT\, United States
CATEGORIES:Antique Shows
END:VEVENT
BEGIN:VEVENT
DTSTART;TZID=America/New_York:20260614T060000
DTEND;TZID=America/New_York:20260614T150000
DTSTAMP:20260424T102347
CREATED:20251217T194517Z
LAST-MODIFIED:20260402T024522Z
UID:10003985-1781416800-1781449200@journalofantiques.com
SUMMARY:Redwood Country Flea Market
DESCRIPTION:January-December: Wallingford\, CT\nRedwood Country Flea Market\n170 South Turnpike Road\nOpen Every Friday\, Saturday\, Sunday\nFri. 6am-1pm\, Sat./Sun. 6am-3pm\n203-269-3500\nwww.facebook.com/redwoodcountryfleamarket
URL:https://journalofantiques.com/event/redwood-country-flea-market-2/2026-06-14/
LOCATION:Redwood Country Flea Market\, 170 South Turnpike Road\, Wallingford\, CT\, United States
CATEGORIES:Antique Shows
END:VEVENT
BEGIN:VEVENT
DTSTART;TZID=America/New_York:20260619T060000
DTEND;TZID=America/New_York:20260619T130000
DTSTAMP:20260424T102347
CREATED:20251217T194342Z
LAST-MODIFIED:20260402T024403Z
UID:10003703-1781848800-1781874000@journalofantiques.com
SUMMARY:Redwood Country Flea Market
DESCRIPTION:January-December: Wallingford\, CT\nRedwood Country Flea Market\n170 South Turnpike Road\nOpen Every Friday\, Saturday\, Sunday\nFri. 6am-1pm\, Sat./Sun. 6am-3pm\n203-269-3500\nwww.facebook.com/redwoodcountryfleamarket
URL:https://journalofantiques.com/event/redwood-country-flea-market/2026-06-19/
LOCATION:Redwood Country Flea Market\, 170 South Turnpike Road\, Wallingford\, CT\, United States
CATEGORIES:Antique Shows
END:VEVENT
BEGIN:VEVENT
DTSTART;TZID=America/New_York:20260620T060000
DTEND;TZID=America/New_York:20260620T150000
DTSTAMP:20260424T102347
CREATED:20251217T194517Z
LAST-MODIFIED:20260402T024522Z
UID:10003986-1781935200-1781967600@journalofantiques.com
SUMMARY:Redwood Country Flea Market
DESCRIPTION:January-December: Wallingford\, CT\nRedwood Country Flea Market\n170 South Turnpike Road\nOpen Every Friday\, Saturday\, Sunday\nFri. 6am-1pm\, Sat./Sun. 6am-3pm\n203-269-3500\nwww.facebook.com/redwoodcountryfleamarket
URL:https://journalofantiques.com/event/redwood-country-flea-market-2/2026-06-20/
LOCATION:Redwood Country Flea Market\, 170 South Turnpike Road\, Wallingford\, CT\, United States
CATEGORIES:Antique Shows
END:VEVENT
BEGIN:VEVENT
DTSTART;TZID=America/New_York:20260621T060000
DTEND;TZID=America/New_York:20260621T150000
DTSTAMP:20260424T102347
CREATED:20251217T194517Z
LAST-MODIFIED:20260402T024522Z
UID:10003987-1782021600-1782054000@journalofantiques.com
SUMMARY:Redwood Country Flea Market
DESCRIPTION:January-December: Wallingford\, CT\nRedwood Country Flea Market\n170 South Turnpike Road\nOpen Every Friday\, Saturday\, Sunday\nFri. 6am-1pm\, Sat./Sun. 6am-3pm\n203-269-3500\nwww.facebook.com/redwoodcountryfleamarket
URL:https://journalofantiques.com/event/redwood-country-flea-market-2/2026-06-21/
LOCATION:Redwood Country Flea Market\, 170 South Turnpike Road\, Wallingford\, CT\, United States
CATEGORIES:Antique Shows
END:VEVENT
BEGIN:VEVENT
DTSTART;TZID=America/New_York:20260626T060000
DTEND;TZID=America/New_York:20260626T130000
DTSTAMP:20260424T102347
CREATED:20251217T194342Z
LAST-MODIFIED:20260402T024403Z
UID:10003704-1782453600-1782478800@journalofantiques.com
SUMMARY:Redwood Country Flea Market
DESCRIPTION:January-December: Wallingford\, CT\nRedwood Country Flea Market\n170 South Turnpike Road\nOpen Every Friday\, Saturday\, Sunday\nFri. 6am-1pm\, Sat./Sun. 6am-3pm\n203-269-3500\nwww.facebook.com/redwoodcountryfleamarket
URL:https://journalofantiques.com/event/redwood-country-flea-market/2026-06-26/
LOCATION:Redwood Country Flea Market\, 170 South Turnpike Road\, Wallingford\, CT\, United States
CATEGORIES:Antique Shows
END:VEVENT
BEGIN:VEVENT
DTSTART;TZID=America/New_York:20260627T060000
DTEND;TZID=America/New_York:20260627T150000
DTSTAMP:20260424T102347
CREATED:20251217T194517Z
LAST-MODIFIED:20260402T024522Z
UID:10003988-1782540000-1782572400@journalofantiques.com
SUMMARY:Redwood Country Flea Market
DESCRIPTION:January-December: Wallingford\, CT\nRedwood Country Flea Market\n170 South Turnpike Road\nOpen Every Friday\, Saturday\, Sunday\nFri. 6am-1pm\, Sat./Sun. 6am-3pm\n203-269-3500\nwww.facebook.com/redwoodcountryfleamarket
URL:https://journalofantiques.com/event/redwood-country-flea-market-2/2026-06-27/
LOCATION:Redwood Country Flea Market\, 170 South Turnpike Road\, Wallingford\, CT\, United States
CATEGORIES:Antique Shows
END:VEVENT
BEGIN:VEVENT
DTSTART;TZID=America/New_York:20260628T060000
DTEND;TZID=America/New_York:20260628T150000
DTSTAMP:20260424T102347
CREATED:20251217T194517Z
LAST-MODIFIED:20260402T024522Z
UID:10003989-1782626400-1782658800@journalofantiques.com
SUMMARY:Redwood Country Flea Market
DESCRIPTION:January-December: Wallingford\, CT\nRedwood Country Flea Market\n170 South Turnpike Road\nOpen Every Friday\, Saturday\, Sunday\nFri. 6am-1pm\, Sat./Sun. 6am-3pm\n203-269-3500\nwww.facebook.com/redwoodcountryfleamarket
URL:https://journalofantiques.com/event/redwood-country-flea-market-2/2026-06-28/
LOCATION:Redwood Country Flea Market\, 170 South Turnpike Road\, Wallingford\, CT\, United States
CATEGORIES:Antique Shows
END:VEVENT
BEGIN:VEVENT
DTSTART;TZID=America/New_York:20260703T060000
DTEND;TZID=America/New_York:20260703T130000
DTSTAMP:20260424T102347
CREATED:20251217T194342Z
LAST-MODIFIED:20260402T024403Z
UID:10003705-1783058400-1783083600@journalofantiques.com
SUMMARY:Redwood Country Flea Market
DESCRIPTION:January-December: Wallingford\, CT\nRedwood Country Flea Market\n170 South Turnpike Road\nOpen Every Friday\, Saturday\, Sunday\nFri. 6am-1pm\, Sat./Sun. 6am-3pm\n203-269-3500\nwww.facebook.com/redwoodcountryfleamarket
URL:https://journalofantiques.com/event/redwood-country-flea-market/2026-07-03/
LOCATION:Redwood Country Flea Market\, 170 South Turnpike Road\, Wallingford\, CT\, United States
CATEGORIES:Antique Shows
END:VEVENT
BEGIN:VEVENT
DTSTART;TZID=America/New_York:20260704T060000
DTEND;TZID=America/New_York:20260704T150000
DTSTAMP:20260424T102347
CREATED:20251217T194517Z
LAST-MODIFIED:20260402T024522Z
UID:10003990-1783144800-1783177200@journalofantiques.com
SUMMARY:Redwood Country Flea Market
DESCRIPTION:January-December: Wallingford\, CT\nRedwood Country Flea Market\n170 South Turnpike Road\nOpen Every Friday\, Saturday\, Sunday\nFri. 6am-1pm\, Sat./Sun. 6am-3pm\n203-269-3500\nwww.facebook.com/redwoodcountryfleamarket
URL:https://journalofantiques.com/event/redwood-country-flea-market-2/2026-07-04/
LOCATION:Redwood Country Flea Market\, 170 South Turnpike Road\, Wallingford\, CT\, United States
CATEGORIES:Antique Shows
END:VEVENT
BEGIN:VEVENT
DTSTART;TZID=America/New_York:20260705T060000
DTEND;TZID=America/New_York:20260705T150000
DTSTAMP:20260424T102347
CREATED:20251217T194517Z
LAST-MODIFIED:20260402T024522Z
UID:10003991-1783231200-1783263600@journalofantiques.com
SUMMARY:Redwood Country Flea Market
DESCRIPTION:January-December: Wallingford\, CT\nRedwood Country Flea Market\n170 South Turnpike Road\nOpen Every Friday\, Saturday\, Sunday\nFri. 6am-1pm\, Sat./Sun. 6am-3pm\n203-269-3500\nwww.facebook.com/redwoodcountryfleamarket
URL:https://journalofantiques.com/event/redwood-country-flea-market-2/2026-07-05/
LOCATION:Redwood Country Flea Market\, 170 South Turnpike Road\, Wallingford\, CT\, United States
CATEGORIES:Antique Shows
END:VEVENT
BEGIN:VEVENT
DTSTART;TZID=America/New_York:20260710T060000
DTEND;TZID=America/New_York:20260710T130000
DTSTAMP:20260424T102347
CREATED:20251217T194342Z
LAST-MODIFIED:20260402T024403Z
UID:10003706-1783663200-1783688400@journalofantiques.com
SUMMARY:Redwood Country Flea Market
DESCRIPTION:January-December: Wallingford\, CT\nRedwood Country Flea Market\n170 South Turnpike Road\nOpen Every Friday\, Saturday\, Sunday\nFri. 6am-1pm\, Sat./Sun. 6am-3pm\n203-269-3500\nwww.facebook.com/redwoodcountryfleamarket
URL:https://journalofantiques.com/event/redwood-country-flea-market/2026-07-10/
LOCATION:Redwood Country Flea Market\, 170 South Turnpike Road\, Wallingford\, CT\, United States
CATEGORIES:Antique Shows
END:VEVENT
BEGIN:VEVENT
DTSTART;TZID=America/New_York:20260711T060000
DTEND;TZID=America/New_York:20260711T150000
DTSTAMP:20260424T102347
CREATED:20251217T194517Z
LAST-MODIFIED:20260402T024522Z
UID:10003992-1783749600-1783782000@journalofantiques.com
SUMMARY:Redwood Country Flea Market
DESCRIPTION:January-December: Wallingford\, CT\nRedwood Country Flea Market\n170 South Turnpike Road\nOpen Every Friday\, Saturday\, Sunday\nFri. 6am-1pm\, Sat./Sun. 6am-3pm\n203-269-3500\nwww.facebook.com/redwoodcountryfleamarket
URL:https://journalofantiques.com/event/redwood-country-flea-market-2/2026-07-11/
LOCATION:Redwood Country Flea Market\, 170 South Turnpike Road\, Wallingford\, CT\, United States
CATEGORIES:Antique Shows
END:VEVENT
BEGIN:VEVENT
DTSTART;TZID=America/New_York:20260712T060000
DTEND;TZID=America/New_York:20260712T150000
DTSTAMP:20260424T102347
CREATED:20251217T194517Z
LAST-MODIFIED:20260402T024522Z
UID:10003993-1783836000-1783868400@journalofantiques.com
SUMMARY:Redwood Country Flea Market
DESCRIPTION:January-December: Wallingford\, CT\nRedwood Country Flea Market\n170 South Turnpike Road\nOpen Every Friday\, Saturday\, Sunday\nFri. 6am-1pm\, Sat./Sun. 6am-3pm\n203-269-3500\nwww.facebook.com/redwoodcountryfleamarket
URL:https://journalofantiques.com/event/redwood-country-flea-market-2/2026-07-12/
LOCATION:Redwood Country Flea Market\, 170 South Turnpike Road\, Wallingford\, CT\, United States
CATEGORIES:Antique Shows
END:VEVENT
BEGIN:VEVENT
DTSTART;TZID=America/New_York:20260717T060000
DTEND;TZID=America/New_York:20260717T130000
DTSTAMP:20260424T102347
CREATED:20251217T194342Z
LAST-MODIFIED:20260402T024403Z
UID:10003707-1784268000-1784293200@journalofantiques.com
SUMMARY:Redwood Country Flea Market
DESCRIPTION:January-December: Wallingford\, CT\nRedwood Country Flea Market\n170 South Turnpike Road\nOpen Every Friday\, Saturday\, Sunday\nFri. 6am-1pm\, Sat./Sun. 6am-3pm\n203-269-3500\nwww.facebook.com/redwoodcountryfleamarket
URL:https://journalofantiques.com/event/redwood-country-flea-market/2026-07-17/
LOCATION:Redwood Country Flea Market\, 170 South Turnpike Road\, Wallingford\, CT\, United States
CATEGORIES:Antique Shows
END:VEVENT
BEGIN:VEVENT
DTSTART;TZID=America/New_York:20260718T060000
DTEND;TZID=America/New_York:20260718T150000
DTSTAMP:20260424T102347
CREATED:20251217T194517Z
LAST-MODIFIED:20260402T024522Z
UID:10003994-1784354400-1784386800@journalofantiques.com
SUMMARY:Redwood Country Flea Market
DESCRIPTION:January-December: Wallingford\, CT\nRedwood Country Flea Market\n170 South Turnpike Road\nOpen Every Friday\, Saturday\, Sunday\nFri. 6am-1pm\, Sat./Sun. 6am-3pm\n203-269-3500\nwww.facebook.com/redwoodcountryfleamarket
URL:https://journalofantiques.com/event/redwood-country-flea-market-2/2026-07-18/
LOCATION:Redwood Country Flea Market\, 170 South Turnpike Road\, Wallingford\, CT\, United States
CATEGORIES:Antique Shows
END:VEVENT
BEGIN:VEVENT
DTSTART;TZID=America/New_York:20260719T060000
DTEND;TZID=America/New_York:20260719T150000
DTSTAMP:20260424T102347
CREATED:20251217T194517Z
LAST-MODIFIED:20260402T024522Z
UID:10003995-1784440800-1784473200@journalofantiques.com
SUMMARY:Redwood Country Flea Market
DESCRIPTION:January-December: Wallingford\, CT\nRedwood Country Flea Market\n170 South Turnpike Road\nOpen Every Friday\, Saturday\, Sunday\nFri. 6am-1pm\, Sat./Sun. 6am-3pm\n203-269-3500\nwww.facebook.com/redwoodcountryfleamarket
URL:https://journalofantiques.com/event/redwood-country-flea-market-2/2026-07-19/
LOCATION:Redwood Country Flea Market\, 170 South Turnpike Road\, Wallingford\, CT\, United States
CATEGORIES:Antique Shows
END:VEVENT
BEGIN:VEVENT
DTSTART;TZID=America/New_York:20260724T060000
DTEND;TZID=America/New_York:20260724T130000
DTSTAMP:20260424T102347
CREATED:20251217T194342Z
LAST-MODIFIED:20260402T024403Z
UID:10003708-1784872800-1784898000@journalofantiques.com
SUMMARY:Redwood Country Flea Market
DESCRIPTION:January-December: Wallingford\, CT\nRedwood Country Flea Market\n170 South Turnpike Road\nOpen Every Friday\, Saturday\, Sunday\nFri. 6am-1pm\, Sat./Sun. 6am-3pm\n203-269-3500\nwww.facebook.com/redwoodcountryfleamarket
URL:https://journalofantiques.com/event/redwood-country-flea-market/2026-07-24/
LOCATION:Redwood Country Flea Market\, 170 South Turnpike Road\, Wallingford\, CT\, United States
CATEGORIES:Antique Shows
END:VEVENT
END:VCALENDAR