    BEGIN:VCALENDAR
VERSION:2.0
PRODID:-//The Journal of Antiques and Collectibles - ECPv6.15.20//NONSGML v1.0//EN
CALSCALE:GREGORIAN
METHOD:PUBLISH
X-WR-CALNAME:The Journal of Antiques and Collectibles
X-ORIGINAL-URL:https://journalofantiques.com
X-WR-CALDESC:Events for The Journal of Antiques and Collectibles
REFRESH-INTERVAL;VALUE=DURATION:PT1H
X-Robots-Tag:noindex
X-PUBLISHED-TTL:PT1H
BEGIN:VTIMEZONE
TZID:America/New_York
BEGIN:DAYLIGHT
TZOFFSETFROM:-0500
TZOFFSETTO:-0400
TZNAME:EDT
DTSTART:20250309T070000
END:DAYLIGHT
BEGIN:STANDARD
TZOFFSETFROM:-0400
TZOFFSETTO:-0500
TZNAME:EST
DTSTART:20251102T060000
END:STANDARD
BEGIN:DAYLIGHT
TZOFFSETFROM:-0500
TZOFFSETTO:-0400
TZNAME:EDT
DTSTART:20260308T070000
END:DAYLIGHT
BEGIN:STANDARD
TZOFFSETFROM:-0400
TZOFFSETTO:-0500
TZNAME:EST
DTSTART:20261101T060000
END:STANDARD
BEGIN:DAYLIGHT
TZOFFSETFROM:-0500
TZOFFSETTO:-0400
TZNAME:EDT
DTSTART:20270314T070000
END:DAYLIGHT
BEGIN:STANDARD
TZOFFSETFROM:-0400
TZOFFSETTO:-0500
TZNAME:EST
DTSTART:20271107T060000
END:STANDARD
END:VTIMEZONE
BEGIN:VEVENT
DTSTART;TZID=America/New_York:20260704T060000
DTEND;TZID=America/New_York:20260704T150000
DTSTAMP:20260424T133642
CREATED:20251217T194517Z
LAST-MODIFIED:20260402T024522Z
UID:10003990-1783144800-1783177200@journalofantiques.com
SUMMARY:Redwood Country Flea Market
DESCRIPTION:January-December: Wallingford\, CT\nRedwood Country Flea Market\n170 South Turnpike Road\nOpen Every Friday\, Saturday\, Sunday\nFri. 6am-1pm\, Sat./Sun. 6am-3pm\n203-269-3500\nwww.facebook.com/redwoodcountryfleamarket
URL:https://journalofantiques.com/event/redwood-country-flea-market-2/2026-07-04/
LOCATION:Redwood Country Flea Market\, 170 South Turnpike Road\, Wallingford\, CT\, United States
CATEGORIES:Antique Shows
END:VEVENT
BEGIN:VEVENT
DTSTART;TZID=America/New_York:20260705T060000
DTEND;TZID=America/New_York:20260705T150000
DTSTAMP:20260424T133642
CREATED:20251217T194517Z
LAST-MODIFIED:20260402T024522Z
UID:10003991-1783231200-1783263600@journalofantiques.com
SUMMARY:Redwood Country Flea Market
DESCRIPTION:January-December: Wallingford\, CT\nRedwood Country Flea Market\n170 South Turnpike Road\nOpen Every Friday\, Saturday\, Sunday\nFri. 6am-1pm\, Sat./Sun. 6am-3pm\n203-269-3500\nwww.facebook.com/redwoodcountryfleamarket
URL:https://journalofantiques.com/event/redwood-country-flea-market-2/2026-07-05/
LOCATION:Redwood Country Flea Market\, 170 South Turnpike Road\, Wallingford\, CT\, United States
CATEGORIES:Antique Shows
END:VEVENT
BEGIN:VEVENT
DTSTART;TZID=America/New_York:20260710T060000
DTEND;TZID=America/New_York:20260710T130000
DTSTAMP:20260424T133642
CREATED:20251217T194342Z
LAST-MODIFIED:20260402T024403Z
UID:10003706-1783663200-1783688400@journalofantiques.com
SUMMARY:Redwood Country Flea Market
DESCRIPTION:January-December: Wallingford\, CT\nRedwood Country Flea Market\n170 South Turnpike Road\nOpen Every Friday\, Saturday\, Sunday\nFri. 6am-1pm\, Sat./Sun. 6am-3pm\n203-269-3500\nwww.facebook.com/redwoodcountryfleamarket
URL:https://journalofantiques.com/event/redwood-country-flea-market/2026-07-10/
LOCATION:Redwood Country Flea Market\, 170 South Turnpike Road\, Wallingford\, CT\, United States
CATEGORIES:Antique Shows
END:VEVENT
BEGIN:VEVENT
DTSTART;TZID=America/New_York:20260711T060000
DTEND;TZID=America/New_York:20260711T150000
DTSTAMP:20260424T133642
CREATED:20251217T194517Z
LAST-MODIFIED:20260402T024522Z
UID:10003992-1783749600-1783782000@journalofantiques.com
SUMMARY:Redwood Country Flea Market
DESCRIPTION:January-December: Wallingford\, CT\nRedwood Country Flea Market\n170 South Turnpike Road\nOpen Every Friday\, Saturday\, Sunday\nFri. 6am-1pm\, Sat./Sun. 6am-3pm\n203-269-3500\nwww.facebook.com/redwoodcountryfleamarket
URL:https://journalofantiques.com/event/redwood-country-flea-market-2/2026-07-11/
LOCATION:Redwood Country Flea Market\, 170 South Turnpike Road\, Wallingford\, CT\, United States
CATEGORIES:Antique Shows
END:VEVENT
BEGIN:VEVENT
DTSTART;TZID=America/New_York:20260712T060000
DTEND;TZID=America/New_York:20260712T150000
DTSTAMP:20260424T133642
CREATED:20251217T194517Z
LAST-MODIFIED:20260402T024522Z
UID:10003993-1783836000-1783868400@journalofantiques.com
SUMMARY:Redwood Country Flea Market
DESCRIPTION:January-December: Wallingford\, CT\nRedwood Country Flea Market\n170 South Turnpike Road\nOpen Every Friday\, Saturday\, Sunday\nFri. 6am-1pm\, Sat./Sun. 6am-3pm\n203-269-3500\nwww.facebook.com/redwoodcountryfleamarket
URL:https://journalofantiques.com/event/redwood-country-flea-market-2/2026-07-12/
LOCATION:Redwood Country Flea Market\, 170 South Turnpike Road\, Wallingford\, CT\, United States
CATEGORIES:Antique Shows
END:VEVENT
BEGIN:VEVENT
DTSTART;TZID=America/New_York:20260717T060000
DTEND;TZID=America/New_York:20260717T130000
DTSTAMP:20260424T133642
CREATED:20251217T194342Z
LAST-MODIFIED:20260402T024403Z
UID:10003707-1784268000-1784293200@journalofantiques.com
SUMMARY:Redwood Country Flea Market
DESCRIPTION:January-December: Wallingford\, CT\nRedwood Country Flea Market\n170 South Turnpike Road\nOpen Every Friday\, Saturday\, Sunday\nFri. 6am-1pm\, Sat./Sun. 6am-3pm\n203-269-3500\nwww.facebook.com/redwoodcountryfleamarket
URL:https://journalofantiques.com/event/redwood-country-flea-market/2026-07-17/
LOCATION:Redwood Country Flea Market\, 170 South Turnpike Road\, Wallingford\, CT\, United States
CATEGORIES:Antique Shows
END:VEVENT
BEGIN:VEVENT
DTSTART;TZID=America/New_York:20260718T060000
DTEND;TZID=America/New_York:20260718T150000
DTSTAMP:20260424T133642
CREATED:20251217T194517Z
LAST-MODIFIED:20260402T024522Z
UID:10003994-1784354400-1784386800@journalofantiques.com
SUMMARY:Redwood Country Flea Market
DESCRIPTION:January-December: Wallingford\, CT\nRedwood Country Flea Market\n170 South Turnpike Road\nOpen Every Friday\, Saturday\, Sunday\nFri. 6am-1pm\, Sat./Sun. 6am-3pm\n203-269-3500\nwww.facebook.com/redwoodcountryfleamarket
URL:https://journalofantiques.com/event/redwood-country-flea-market-2/2026-07-18/
LOCATION:Redwood Country Flea Market\, 170 South Turnpike Road\, Wallingford\, CT\, United States
CATEGORIES:Antique Shows
END:VEVENT
BEGIN:VEVENT
DTSTART;TZID=America/New_York:20260719T060000
DTEND;TZID=America/New_York:20260719T150000
DTSTAMP:20260424T133642
CREATED:20251217T194517Z
LAST-MODIFIED:20260402T024522Z
UID:10003995-1784440800-1784473200@journalofantiques.com
SUMMARY:Redwood Country Flea Market
DESCRIPTION:January-December: Wallingford\, CT\nRedwood Country Flea Market\n170 South Turnpike Road\nOpen Every Friday\, Saturday\, Sunday\nFri. 6am-1pm\, Sat./Sun. 6am-3pm\n203-269-3500\nwww.facebook.com/redwoodcountryfleamarket
URL:https://journalofantiques.com/event/redwood-country-flea-market-2/2026-07-19/
LOCATION:Redwood Country Flea Market\, 170 South Turnpike Road\, Wallingford\, CT\, United States
CATEGORIES:Antique Shows
END:VEVENT
BEGIN:VEVENT
DTSTART;TZID=America/New_York:20260724T060000
DTEND;TZID=America/New_York:20260724T130000
DTSTAMP:20260424T133642
CREATED:20251217T194342Z
LAST-MODIFIED:20260402T024403Z
UID:10003708-1784872800-1784898000@journalofantiques.com
SUMMARY:Redwood Country Flea Market
DESCRIPTION:January-December: Wallingford\, CT\nRedwood Country Flea Market\n170 South Turnpike Road\nOpen Every Friday\, Saturday\, Sunday\nFri. 6am-1pm\, Sat./Sun. 6am-3pm\n203-269-3500\nwww.facebook.com/redwoodcountryfleamarket
URL:https://journalofantiques.com/event/redwood-country-flea-market/2026-07-24/
LOCATION:Redwood Country Flea Market\, 170 South Turnpike Road\, Wallingford\, CT\, United States
CATEGORIES:Antique Shows
END:VEVENT
BEGIN:VEVENT
DTSTART;TZID=America/New_York:20260725T060000
DTEND;TZID=America/New_York:20260725T150000
DTSTAMP:20260424T133642
CREATED:20251217T194517Z
LAST-MODIFIED:20260402T024522Z
UID:10003996-1784959200-1784991600@journalofantiques.com
SUMMARY:Redwood Country Flea Market
DESCRIPTION:January-December: Wallingford\, CT\nRedwood Country Flea Market\n170 South Turnpike Road\nOpen Every Friday\, Saturday\, Sunday\nFri. 6am-1pm\, Sat./Sun. 6am-3pm\n203-269-3500\nwww.facebook.com/redwoodcountryfleamarket
URL:https://journalofantiques.com/event/redwood-country-flea-market-2/2026-07-25/
LOCATION:Redwood Country Flea Market\, 170 South Turnpike Road\, Wallingford\, CT\, United States
CATEGORIES:Antique Shows
END:VEVENT
BEGIN:VEVENT
DTSTART;TZID=America/New_York:20260726T060000
DTEND;TZID=America/New_York:20260726T150000
DTSTAMP:20260424T133642
CREATED:20251217T194517Z
LAST-MODIFIED:20260402T024522Z
UID:10003997-1785045600-1785078000@journalofantiques.com
SUMMARY:Redwood Country Flea Market
DESCRIPTION:January-December: Wallingford\, CT\nRedwood Country Flea Market\n170 South Turnpike Road\nOpen Every Friday\, Saturday\, Sunday\nFri. 6am-1pm\, Sat./Sun. 6am-3pm\n203-269-3500\nwww.facebook.com/redwoodcountryfleamarket
URL:https://journalofantiques.com/event/redwood-country-flea-market-2/2026-07-26/
LOCATION:Redwood Country Flea Market\, 170 South Turnpike Road\, Wallingford\, CT\, United States
CATEGORIES:Antique Shows
END:VEVENT
BEGIN:VEVENT
DTSTART;TZID=America/New_York:20260731T060000
DTEND;TZID=America/New_York:20260731T130000
DTSTAMP:20260424T133642
CREATED:20251217T194342Z
LAST-MODIFIED:20260402T024403Z
UID:10003709-1785477600-1785502800@journalofantiques.com
SUMMARY:Redwood Country Flea Market
DESCRIPTION:January-December: Wallingford\, CT\nRedwood Country Flea Market\n170 South Turnpike Road\nOpen Every Friday\, Saturday\, Sunday\nFri. 6am-1pm\, Sat./Sun. 6am-3pm\n203-269-3500\nwww.facebook.com/redwoodcountryfleamarket
URL:https://journalofantiques.com/event/redwood-country-flea-market/2026-07-31/
LOCATION:Redwood Country Flea Market\, 170 South Turnpike Road\, Wallingford\, CT\, United States
CATEGORIES:Antique Shows
END:VEVENT
BEGIN:VEVENT
DTSTART;TZID=America/New_York:20260801T060000
DTEND;TZID=America/New_York:20260801T150000
DTSTAMP:20260424T133642
CREATED:20251217T194517Z
LAST-MODIFIED:20260402T024522Z
UID:10003998-1785564000-1785596400@journalofantiques.com
SUMMARY:Redwood Country Flea Market
DESCRIPTION:January-December: Wallingford\, CT\nRedwood Country Flea Market\n170 South Turnpike Road\nOpen Every Friday\, Saturday\, Sunday\nFri. 6am-1pm\, Sat./Sun. 6am-3pm\n203-269-3500\nwww.facebook.com/redwoodcountryfleamarket
URL:https://journalofantiques.com/event/redwood-country-flea-market-2/2026-08-01/
LOCATION:Redwood Country Flea Market\, 170 South Turnpike Road\, Wallingford\, CT\, United States
CATEGORIES:Antique Shows
END:VEVENT
BEGIN:VEVENT
DTSTART;TZID=America/New_York:20260802T060000
DTEND;TZID=America/New_York:20260802T150000
DTSTAMP:20260424T133642
CREATED:20251217T194517Z
LAST-MODIFIED:20260402T024522Z
UID:10003999-1785650400-1785682800@journalofantiques.com
SUMMARY:Redwood Country Flea Market
DESCRIPTION:January-December: Wallingford\, CT\nRedwood Country Flea Market\n170 South Turnpike Road\nOpen Every Friday\, Saturday\, Sunday\nFri. 6am-1pm\, Sat./Sun. 6am-3pm\n203-269-3500\nwww.facebook.com/redwoodcountryfleamarket
URL:https://journalofantiques.com/event/redwood-country-flea-market-2/2026-08-02/
LOCATION:Redwood Country Flea Market\, 170 South Turnpike Road\, Wallingford\, CT\, United States
CATEGORIES:Antique Shows
END:VEVENT
BEGIN:VEVENT
DTSTART;TZID=America/New_York:20260807T060000
DTEND;TZID=America/New_York:20260807T130000
DTSTAMP:20260424T133642
CREATED:20251217T194342Z
LAST-MODIFIED:20260402T024403Z
UID:10003710-1786082400-1786107600@journalofantiques.com
SUMMARY:Redwood Country Flea Market
DESCRIPTION:January-December: Wallingford\, CT\nRedwood Country Flea Market\n170 South Turnpike Road\nOpen Every Friday\, Saturday\, Sunday\nFri. 6am-1pm\, Sat./Sun. 6am-3pm\n203-269-3500\nwww.facebook.com/redwoodcountryfleamarket
URL:https://journalofantiques.com/event/redwood-country-flea-market/2026-08-07/
LOCATION:Redwood Country Flea Market\, 170 South Turnpike Road\, Wallingford\, CT\, United States
CATEGORIES:Antique Shows
END:VEVENT
BEGIN:VEVENT
DTSTART;TZID=America/New_York:20260808T060000
DTEND;TZID=America/New_York:20260808T150000
DTSTAMP:20260424T133642
CREATED:20251217T194517Z
LAST-MODIFIED:20260402T024522Z
UID:10004000-1786168800-1786201200@journalofantiques.com
SUMMARY:Redwood Country Flea Market
DESCRIPTION:January-December: Wallingford\, CT\nRedwood Country Flea Market\n170 South Turnpike Road\nOpen Every Friday\, Saturday\, Sunday\nFri. 6am-1pm\, Sat./Sun. 6am-3pm\n203-269-3500\nwww.facebook.com/redwoodcountryfleamarket
URL:https://journalofantiques.com/event/redwood-country-flea-market-2/2026-08-08/
LOCATION:Redwood Country Flea Market\, 170 South Turnpike Road\, Wallingford\, CT\, United States
CATEGORIES:Antique Shows
END:VEVENT
BEGIN:VEVENT
DTSTART;TZID=America/New_York:20260809T060000
DTEND;TZID=America/New_York:20260809T150000
DTSTAMP:20260424T133642
CREATED:20251217T194517Z
LAST-MODIFIED:20260402T024522Z
UID:10004001-1786255200-1786287600@journalofantiques.com
SUMMARY:Redwood Country Flea Market
DESCRIPTION:January-December: Wallingford\, CT\nRedwood Country Flea Market\n170 South Turnpike Road\nOpen Every Friday\, Saturday\, Sunday\nFri. 6am-1pm\, Sat./Sun. 6am-3pm\n203-269-3500\nwww.facebook.com/redwoodcountryfleamarket
URL:https://journalofantiques.com/event/redwood-country-flea-market-2/2026-08-09/
LOCATION:Redwood Country Flea Market\, 170 South Turnpike Road\, Wallingford\, CT\, United States
CATEGORIES:Antique Shows
END:VEVENT
BEGIN:VEVENT
DTSTART;TZID=America/New_York:20260814T060000
DTEND;TZID=America/New_York:20260814T130000
DTSTAMP:20260424T133642
CREATED:20251217T194342Z
LAST-MODIFIED:20260402T024403Z
UID:10003711-1786687200-1786712400@journalofantiques.com
SUMMARY:Redwood Country Flea Market
DESCRIPTION:January-December: Wallingford\, CT\nRedwood Country Flea Market\n170 South Turnpike Road\nOpen Every Friday\, Saturday\, Sunday\nFri. 6am-1pm\, Sat./Sun. 6am-3pm\n203-269-3500\nwww.facebook.com/redwoodcountryfleamarket
URL:https://journalofantiques.com/event/redwood-country-flea-market/2026-08-14/
LOCATION:Redwood Country Flea Market\, 170 South Turnpike Road\, Wallingford\, CT\, United States
CATEGORIES:Antique Shows
END:VEVENT
BEGIN:VEVENT
DTSTART;TZID=America/New_York:20260815T060000
DTEND;TZID=America/New_York:20260815T150000
DTSTAMP:20260424T133642
CREATED:20251217T194517Z
LAST-MODIFIED:20260402T024522Z
UID:10004002-1786773600-1786806000@journalofantiques.com
SUMMARY:Redwood Country Flea Market
DESCRIPTION:January-December: Wallingford\, CT\nRedwood Country Flea Market\n170 South Turnpike Road\nOpen Every Friday\, Saturday\, Sunday\nFri. 6am-1pm\, Sat./Sun. 6am-3pm\n203-269-3500\nwww.facebook.com/redwoodcountryfleamarket
URL:https://journalofantiques.com/event/redwood-country-flea-market-2/2026-08-15/
LOCATION:Redwood Country Flea Market\, 170 South Turnpike Road\, Wallingford\, CT\, United States
CATEGORIES:Antique Shows
END:VEVENT
BEGIN:VEVENT
DTSTART;TZID=America/New_York:20260816T060000
DTEND;TZID=America/New_York:20260816T150000
DTSTAMP:20260424T133642
CREATED:20251217T194517Z
LAST-MODIFIED:20260402T024522Z
UID:10004003-1786860000-1786892400@journalofantiques.com
SUMMARY:Redwood Country Flea Market
DESCRIPTION:January-December: Wallingford\, CT\nRedwood Country Flea Market\n170 South Turnpike Road\nOpen Every Friday\, Saturday\, Sunday\nFri. 6am-1pm\, Sat./Sun. 6am-3pm\n203-269-3500\nwww.facebook.com/redwoodcountryfleamarket
URL:https://journalofantiques.com/event/redwood-country-flea-market-2/2026-08-16/
LOCATION:Redwood Country Flea Market\, 170 South Turnpike Road\, Wallingford\, CT\, United States
CATEGORIES:Antique Shows
END:VEVENT
BEGIN:VEVENT
DTSTART;TZID=America/New_York:20260821T060000
DTEND;TZID=America/New_York:20260821T130000
DTSTAMP:20260424T133642
CREATED:20251217T194342Z
LAST-MODIFIED:20260402T024403Z
UID:10003712-1787292000-1787317200@journalofantiques.com
SUMMARY:Redwood Country Flea Market
DESCRIPTION:January-December: Wallingford\, CT\nRedwood Country Flea Market\n170 South Turnpike Road\nOpen Every Friday\, Saturday\, Sunday\nFri. 6am-1pm\, Sat./Sun. 6am-3pm\n203-269-3500\nwww.facebook.com/redwoodcountryfleamarket
URL:https://journalofantiques.com/event/redwood-country-flea-market/2026-08-21/
LOCATION:Redwood Country Flea Market\, 170 South Turnpike Road\, Wallingford\, CT\, United States
CATEGORIES:Antique Shows
END:VEVENT
BEGIN:VEVENT
DTSTART;TZID=America/New_York:20260822T060000
DTEND;TZID=America/New_York:20260822T150000
DTSTAMP:20260424T133642
CREATED:20251217T194517Z
LAST-MODIFIED:20260402T024522Z
UID:10004004-1787378400-1787410800@journalofantiques.com
SUMMARY:Redwood Country Flea Market
DESCRIPTION:January-December: Wallingford\, CT\nRedwood Country Flea Market\n170 South Turnpike Road\nOpen Every Friday\, Saturday\, Sunday\nFri. 6am-1pm\, Sat./Sun. 6am-3pm\n203-269-3500\nwww.facebook.com/redwoodcountryfleamarket
URL:https://journalofantiques.com/event/redwood-country-flea-market-2/2026-08-22/
LOCATION:Redwood Country Flea Market\, 170 South Turnpike Road\, Wallingford\, CT\, United States
CATEGORIES:Antique Shows
END:VEVENT
BEGIN:VEVENT
DTSTART;TZID=America/New_York:20260823T060000
DTEND;TZID=America/New_York:20260823T150000
DTSTAMP:20260424T133642
CREATED:20251217T194517Z
LAST-MODIFIED:20260402T024522Z
UID:10004005-1787464800-1787497200@journalofantiques.com
SUMMARY:Redwood Country Flea Market
DESCRIPTION:January-December: Wallingford\, CT\nRedwood Country Flea Market\n170 South Turnpike Road\nOpen Every Friday\, Saturday\, Sunday\nFri. 6am-1pm\, Sat./Sun. 6am-3pm\n203-269-3500\nwww.facebook.com/redwoodcountryfleamarket
URL:https://journalofantiques.com/event/redwood-country-flea-market-2/2026-08-23/
LOCATION:Redwood Country Flea Market\, 170 South Turnpike Road\, Wallingford\, CT\, United States
CATEGORIES:Antique Shows
END:VEVENT
BEGIN:VEVENT
DTSTART;TZID=America/New_York:20260828T060000
DTEND;TZID=America/New_York:20260828T130000
DTSTAMP:20260424T133642
CREATED:20251217T194342Z
LAST-MODIFIED:20260402T024403Z
UID:10003713-1787896800-1787922000@journalofantiques.com
SUMMARY:Redwood Country Flea Market
DESCRIPTION:January-December: Wallingford\, CT\nRedwood Country Flea Market\n170 South Turnpike Road\nOpen Every Friday\, Saturday\, Sunday\nFri. 6am-1pm\, Sat./Sun. 6am-3pm\n203-269-3500\nwww.facebook.com/redwoodcountryfleamarket
URL:https://journalofantiques.com/event/redwood-country-flea-market/2026-08-28/
LOCATION:Redwood Country Flea Market\, 170 South Turnpike Road\, Wallingford\, CT\, United States
CATEGORIES:Antique Shows
END:VEVENT
BEGIN:VEVENT
DTSTART;TZID=America/New_York:20260829T060000
DTEND;TZID=America/New_York:20260829T150000
DTSTAMP:20260424T133642
CREATED:20251217T194517Z
LAST-MODIFIED:20260402T024522Z
UID:10004006-1787983200-1788015600@journalofantiques.com
SUMMARY:Redwood Country Flea Market
DESCRIPTION:January-December: Wallingford\, CT\nRedwood Country Flea Market\n170 South Turnpike Road\nOpen Every Friday\, Saturday\, Sunday\nFri. 6am-1pm\, Sat./Sun. 6am-3pm\n203-269-3500\nwww.facebook.com/redwoodcountryfleamarket
URL:https://journalofantiques.com/event/redwood-country-flea-market-2/2026-08-29/
LOCATION:Redwood Country Flea Market\, 170 South Turnpike Road\, Wallingford\, CT\, United States
CATEGORIES:Antique Shows
END:VEVENT
BEGIN:VEVENT
DTSTART;TZID=America/New_York:20260830T060000
DTEND;TZID=America/New_York:20260830T150000
DTSTAMP:20260424T133642
CREATED:20251217T194517Z
LAST-MODIFIED:20260402T024522Z
UID:10004007-1788069600-1788102000@journalofantiques.com
SUMMARY:Redwood Country Flea Market
DESCRIPTION:January-December: Wallingford\, CT\nRedwood Country Flea Market\n170 South Turnpike Road\nOpen Every Friday\, Saturday\, Sunday\nFri. 6am-1pm\, Sat./Sun. 6am-3pm\n203-269-3500\nwww.facebook.com/redwoodcountryfleamarket
URL:https://journalofantiques.com/event/redwood-country-flea-market-2/2026-08-30/
LOCATION:Redwood Country Flea Market\, 170 South Turnpike Road\, Wallingford\, CT\, United States
CATEGORIES:Antique Shows
END:VEVENT
BEGIN:VEVENT
DTSTART;TZID=America/New_York:20260904T060000
DTEND;TZID=America/New_York:20260904T130000
DTSTAMP:20260424T133642
CREATED:20251217T194342Z
LAST-MODIFIED:20260402T024403Z
UID:10003714-1788501600-1788526800@journalofantiques.com
SUMMARY:Redwood Country Flea Market
DESCRIPTION:January-December: Wallingford\, CT\nRedwood Country Flea Market\n170 South Turnpike Road\nOpen Every Friday\, Saturday\, Sunday\nFri. 6am-1pm\, Sat./Sun. 6am-3pm\n203-269-3500\nwww.facebook.com/redwoodcountryfleamarket
URL:https://journalofantiques.com/event/redwood-country-flea-market/2026-09-04/
LOCATION:Redwood Country Flea Market\, 170 South Turnpike Road\, Wallingford\, CT\, United States
CATEGORIES:Antique Shows
END:VEVENT
BEGIN:VEVENT
DTSTART;TZID=America/New_York:20260905T060000
DTEND;TZID=America/New_York:20260905T150000
DTSTAMP:20260424T133642
CREATED:20251217T194517Z
LAST-MODIFIED:20260402T024522Z
UID:10004008-1788588000-1788620400@journalofantiques.com
SUMMARY:Redwood Country Flea Market
DESCRIPTION:January-December: Wallingford\, CT\nRedwood Country Flea Market\n170 South Turnpike Road\nOpen Every Friday\, Saturday\, Sunday\nFri. 6am-1pm\, Sat./Sun. 6am-3pm\n203-269-3500\nwww.facebook.com/redwoodcountryfleamarket
URL:https://journalofantiques.com/event/redwood-country-flea-market-2/2026-09-05/
LOCATION:Redwood Country Flea Market\, 170 South Turnpike Road\, Wallingford\, CT\, United States
CATEGORIES:Antique Shows
END:VEVENT
BEGIN:VEVENT
DTSTART;TZID=America/New_York:20260906T060000
DTEND;TZID=America/New_York:20260906T150000
DTSTAMP:20260424T133642
CREATED:20251217T194517Z
LAST-MODIFIED:20260402T024522Z
UID:10004009-1788674400-1788706800@journalofantiques.com
SUMMARY:Redwood Country Flea Market
DESCRIPTION:January-December: Wallingford\, CT\nRedwood Country Flea Market\n170 South Turnpike Road\nOpen Every Friday\, Saturday\, Sunday\nFri. 6am-1pm\, Sat./Sun. 6am-3pm\n203-269-3500\nwww.facebook.com/redwoodcountryfleamarket
URL:https://journalofantiques.com/event/redwood-country-flea-market-2/2026-09-06/
LOCATION:Redwood Country Flea Market\, 170 South Turnpike Road\, Wallingford\, CT\, United States
CATEGORIES:Antique Shows
END:VEVENT
BEGIN:VEVENT
DTSTART;TZID=America/New_York:20260911T060000
DTEND;TZID=America/New_York:20260911T130000
DTSTAMP:20260424T133642
CREATED:20251217T194342Z
LAST-MODIFIED:20260402T024403Z
UID:10003715-1789106400-1789131600@journalofantiques.com
SUMMARY:Redwood Country Flea Market
DESCRIPTION:January-December: Wallingford\, CT\nRedwood Country Flea Market\n170 South Turnpike Road\nOpen Every Friday\, Saturday\, Sunday\nFri. 6am-1pm\, Sat./Sun. 6am-3pm\n203-269-3500\nwww.facebook.com/redwoodcountryfleamarket
URL:https://journalofantiques.com/event/redwood-country-flea-market/2026-09-11/
LOCATION:Redwood Country Flea Market\, 170 South Turnpike Road\, Wallingford\, CT\, United States
CATEGORIES:Antique Shows
END:VEVENT
END:VCALENDAR