    BEGIN:VCALENDAR
VERSION:2.0
PRODID:-//The Journal of Antiques and Collectibles - ECPv6.15.20//NONSGML v1.0//EN
CALSCALE:GREGORIAN
METHOD:PUBLISH
X-WR-CALNAME:The Journal of Antiques and Collectibles
X-ORIGINAL-URL:https://journalofantiques.com
X-WR-CALDESC:Events for The Journal of Antiques and Collectibles
REFRESH-INTERVAL;VALUE=DURATION:PT1H
X-Robots-Tag:noindex
X-PUBLISHED-TTL:PT1H
BEGIN:VTIMEZONE
TZID:America/New_York
BEGIN:DAYLIGHT
TZOFFSETFROM:-0500
TZOFFSETTO:-0400
TZNAME:EDT
DTSTART:20250309T070000
END:DAYLIGHT
BEGIN:STANDARD
TZOFFSETFROM:-0400
TZOFFSETTO:-0500
TZNAME:EST
DTSTART:20251102T060000
END:STANDARD
BEGIN:DAYLIGHT
TZOFFSETFROM:-0500
TZOFFSETTO:-0400
TZNAME:EDT
DTSTART:20260308T070000
END:DAYLIGHT
BEGIN:STANDARD
TZOFFSETFROM:-0400
TZOFFSETTO:-0500
TZNAME:EST
DTSTART:20261101T060000
END:STANDARD
BEGIN:DAYLIGHT
TZOFFSETFROM:-0500
TZOFFSETTO:-0400
TZNAME:EDT
DTSTART:20270314T070000
END:DAYLIGHT
BEGIN:STANDARD
TZOFFSETFROM:-0400
TZOFFSETTO:-0500
TZNAME:EST
DTSTART:20271107T060000
END:STANDARD
END:VTIMEZONE
BEGIN:VEVENT
DTSTART;TZID=America/New_York:20260821T060000
DTEND;TZID=America/New_York:20260821T130000
DTSTAMP:20260424T162325
CREATED:20251217T194342Z
LAST-MODIFIED:20260402T024403Z
UID:10003712-1787292000-1787317200@journalofantiques.com
SUMMARY:Redwood Country Flea Market
DESCRIPTION:January-December: Wallingford\, CT\nRedwood Country Flea Market\n170 South Turnpike Road\nOpen Every Friday\, Saturday\, Sunday\nFri. 6am-1pm\, Sat./Sun. 6am-3pm\n203-269-3500\nwww.facebook.com/redwoodcountryfleamarket
URL:https://journalofantiques.com/event/redwood-country-flea-market/2026-08-21/
LOCATION:Redwood Country Flea Market\, 170 South Turnpike Road\, Wallingford\, CT\, United States
CATEGORIES:Antique Shows
END:VEVENT
BEGIN:VEVENT
DTSTART;TZID=America/New_York:20260822T060000
DTEND;TZID=America/New_York:20260822T150000
DTSTAMP:20260424T162325
CREATED:20251217T194517Z
LAST-MODIFIED:20260402T024522Z
UID:10004004-1787378400-1787410800@journalofantiques.com
SUMMARY:Redwood Country Flea Market
DESCRIPTION:January-December: Wallingford\, CT\nRedwood Country Flea Market\n170 South Turnpike Road\nOpen Every Friday\, Saturday\, Sunday\nFri. 6am-1pm\, Sat./Sun. 6am-3pm\n203-269-3500\nwww.facebook.com/redwoodcountryfleamarket
URL:https://journalofantiques.com/event/redwood-country-flea-market-2/2026-08-22/
LOCATION:Redwood Country Flea Market\, 170 South Turnpike Road\, Wallingford\, CT\, United States
CATEGORIES:Antique Shows
END:VEVENT
BEGIN:VEVENT
DTSTART;TZID=America/New_York:20260823T060000
DTEND;TZID=America/New_York:20260823T150000
DTSTAMP:20260424T162325
CREATED:20251217T194517Z
LAST-MODIFIED:20260402T024522Z
UID:10004005-1787464800-1787497200@journalofantiques.com
SUMMARY:Redwood Country Flea Market
DESCRIPTION:January-December: Wallingford\, CT\nRedwood Country Flea Market\n170 South Turnpike Road\nOpen Every Friday\, Saturday\, Sunday\nFri. 6am-1pm\, Sat./Sun. 6am-3pm\n203-269-3500\nwww.facebook.com/redwoodcountryfleamarket
URL:https://journalofantiques.com/event/redwood-country-flea-market-2/2026-08-23/
LOCATION:Redwood Country Flea Market\, 170 South Turnpike Road\, Wallingford\, CT\, United States
CATEGORIES:Antique Shows
END:VEVENT
BEGIN:VEVENT
DTSTART;TZID=America/New_York:20260828T060000
DTEND;TZID=America/New_York:20260828T130000
DTSTAMP:20260424T162325
CREATED:20251217T194342Z
LAST-MODIFIED:20260402T024403Z
UID:10003713-1787896800-1787922000@journalofantiques.com
SUMMARY:Redwood Country Flea Market
DESCRIPTION:January-December: Wallingford\, CT\nRedwood Country Flea Market\n170 South Turnpike Road\nOpen Every Friday\, Saturday\, Sunday\nFri. 6am-1pm\, Sat./Sun. 6am-3pm\n203-269-3500\nwww.facebook.com/redwoodcountryfleamarket
URL:https://journalofantiques.com/event/redwood-country-flea-market/2026-08-28/
LOCATION:Redwood Country Flea Market\, 170 South Turnpike Road\, Wallingford\, CT\, United States
CATEGORIES:Antique Shows
END:VEVENT
BEGIN:VEVENT
DTSTART;TZID=America/New_York:20260829T060000
DTEND;TZID=America/New_York:20260829T150000
DTSTAMP:20260424T162325
CREATED:20251217T194517Z
LAST-MODIFIED:20260402T024522Z
UID:10004006-1787983200-1788015600@journalofantiques.com
SUMMARY:Redwood Country Flea Market
DESCRIPTION:January-December: Wallingford\, CT\nRedwood Country Flea Market\n170 South Turnpike Road\nOpen Every Friday\, Saturday\, Sunday\nFri. 6am-1pm\, Sat./Sun. 6am-3pm\n203-269-3500\nwww.facebook.com/redwoodcountryfleamarket
URL:https://journalofantiques.com/event/redwood-country-flea-market-2/2026-08-29/
LOCATION:Redwood Country Flea Market\, 170 South Turnpike Road\, Wallingford\, CT\, United States
CATEGORIES:Antique Shows
END:VEVENT
BEGIN:VEVENT
DTSTART;TZID=America/New_York:20260830T060000
DTEND;TZID=America/New_York:20260830T150000
DTSTAMP:20260424T162325
CREATED:20251217T194517Z
LAST-MODIFIED:20260402T024522Z
UID:10004007-1788069600-1788102000@journalofantiques.com
SUMMARY:Redwood Country Flea Market
DESCRIPTION:January-December: Wallingford\, CT\nRedwood Country Flea Market\n170 South Turnpike Road\nOpen Every Friday\, Saturday\, Sunday\nFri. 6am-1pm\, Sat./Sun. 6am-3pm\n203-269-3500\nwww.facebook.com/redwoodcountryfleamarket
URL:https://journalofantiques.com/event/redwood-country-flea-market-2/2026-08-30/
LOCATION:Redwood Country Flea Market\, 170 South Turnpike Road\, Wallingford\, CT\, United States
CATEGORIES:Antique Shows
END:VEVENT
BEGIN:VEVENT
DTSTART;TZID=America/New_York:20260904T060000
DTEND;TZID=America/New_York:20260904T130000
DTSTAMP:20260424T162325
CREATED:20251217T194342Z
LAST-MODIFIED:20260402T024403Z
UID:10003714-1788501600-1788526800@journalofantiques.com
SUMMARY:Redwood Country Flea Market
DESCRIPTION:January-December: Wallingford\, CT\nRedwood Country Flea Market\n170 South Turnpike Road\nOpen Every Friday\, Saturday\, Sunday\nFri. 6am-1pm\, Sat./Sun. 6am-3pm\n203-269-3500\nwww.facebook.com/redwoodcountryfleamarket
URL:https://journalofantiques.com/event/redwood-country-flea-market/2026-09-04/
LOCATION:Redwood Country Flea Market\, 170 South Turnpike Road\, Wallingford\, CT\, United States
CATEGORIES:Antique Shows
END:VEVENT
BEGIN:VEVENT
DTSTART;TZID=America/New_York:20260905T060000
DTEND;TZID=America/New_York:20260905T150000
DTSTAMP:20260424T162325
CREATED:20251217T194517Z
LAST-MODIFIED:20260402T024522Z
UID:10004008-1788588000-1788620400@journalofantiques.com
SUMMARY:Redwood Country Flea Market
DESCRIPTION:January-December: Wallingford\, CT\nRedwood Country Flea Market\n170 South Turnpike Road\nOpen Every Friday\, Saturday\, Sunday\nFri. 6am-1pm\, Sat./Sun. 6am-3pm\n203-269-3500\nwww.facebook.com/redwoodcountryfleamarket
URL:https://journalofantiques.com/event/redwood-country-flea-market-2/2026-09-05/
LOCATION:Redwood Country Flea Market\, 170 South Turnpike Road\, Wallingford\, CT\, United States
CATEGORIES:Antique Shows
END:VEVENT
BEGIN:VEVENT
DTSTART;TZID=America/New_York:20260906T060000
DTEND;TZID=America/New_York:20260906T150000
DTSTAMP:20260424T162325
CREATED:20251217T194517Z
LAST-MODIFIED:20260402T024522Z
UID:10004009-1788674400-1788706800@journalofantiques.com
SUMMARY:Redwood Country Flea Market
DESCRIPTION:January-December: Wallingford\, CT\nRedwood Country Flea Market\n170 South Turnpike Road\nOpen Every Friday\, Saturday\, Sunday\nFri. 6am-1pm\, Sat./Sun. 6am-3pm\n203-269-3500\nwww.facebook.com/redwoodcountryfleamarket
URL:https://journalofantiques.com/event/redwood-country-flea-market-2/2026-09-06/
LOCATION:Redwood Country Flea Market\, 170 South Turnpike Road\, Wallingford\, CT\, United States
CATEGORIES:Antique Shows
END:VEVENT
BEGIN:VEVENT
DTSTART;TZID=America/New_York:20260911T060000
DTEND;TZID=America/New_York:20260911T130000
DTSTAMP:20260424T162325
CREATED:20251217T194342Z
LAST-MODIFIED:20260402T024403Z
UID:10003715-1789106400-1789131600@journalofantiques.com
SUMMARY:Redwood Country Flea Market
DESCRIPTION:January-December: Wallingford\, CT\nRedwood Country Flea Market\n170 South Turnpike Road\nOpen Every Friday\, Saturday\, Sunday\nFri. 6am-1pm\, Sat./Sun. 6am-3pm\n203-269-3500\nwww.facebook.com/redwoodcountryfleamarket
URL:https://journalofantiques.com/event/redwood-country-flea-market/2026-09-11/
LOCATION:Redwood Country Flea Market\, 170 South Turnpike Road\, Wallingford\, CT\, United States
CATEGORIES:Antique Shows
END:VEVENT
BEGIN:VEVENT
DTSTART;TZID=America/New_York:20260912T060000
DTEND;TZID=America/New_York:20260912T150000
DTSTAMP:20260424T162325
CREATED:20251217T194517Z
LAST-MODIFIED:20260402T024522Z
UID:10004010-1789192800-1789225200@journalofantiques.com
SUMMARY:Redwood Country Flea Market
DESCRIPTION:January-December: Wallingford\, CT\nRedwood Country Flea Market\n170 South Turnpike Road\nOpen Every Friday\, Saturday\, Sunday\nFri. 6am-1pm\, Sat./Sun. 6am-3pm\n203-269-3500\nwww.facebook.com/redwoodcountryfleamarket
URL:https://journalofantiques.com/event/redwood-country-flea-market-2/2026-09-12/
LOCATION:Redwood Country Flea Market\, 170 South Turnpike Road\, Wallingford\, CT\, United States
CATEGORIES:Antique Shows
END:VEVENT
BEGIN:VEVENT
DTSTART;TZID=America/New_York:20260913T060000
DTEND;TZID=America/New_York:20260913T150000
DTSTAMP:20260424T162325
CREATED:20251217T194517Z
LAST-MODIFIED:20260402T024522Z
UID:10004011-1789279200-1789311600@journalofantiques.com
SUMMARY:Redwood Country Flea Market
DESCRIPTION:January-December: Wallingford\, CT\nRedwood Country Flea Market\n170 South Turnpike Road\nOpen Every Friday\, Saturday\, Sunday\nFri. 6am-1pm\, Sat./Sun. 6am-3pm\n203-269-3500\nwww.facebook.com/redwoodcountryfleamarket
URL:https://journalofantiques.com/event/redwood-country-flea-market-2/2026-09-13/
LOCATION:Redwood Country Flea Market\, 170 South Turnpike Road\, Wallingford\, CT\, United States
CATEGORIES:Antique Shows
END:VEVENT
BEGIN:VEVENT
DTSTART;TZID=America/New_York:20260918T060000
DTEND;TZID=America/New_York:20260918T130000
DTSTAMP:20260424T162325
CREATED:20251217T194342Z
LAST-MODIFIED:20260402T024403Z
UID:10003716-1789711200-1789736400@journalofantiques.com
SUMMARY:Redwood Country Flea Market
DESCRIPTION:January-December: Wallingford\, CT\nRedwood Country Flea Market\n170 South Turnpike Road\nOpen Every Friday\, Saturday\, Sunday\nFri. 6am-1pm\, Sat./Sun. 6am-3pm\n203-269-3500\nwww.facebook.com/redwoodcountryfleamarket
URL:https://journalofantiques.com/event/redwood-country-flea-market/2026-09-18/
LOCATION:Redwood Country Flea Market\, 170 South Turnpike Road\, Wallingford\, CT\, United States
CATEGORIES:Antique Shows
END:VEVENT
BEGIN:VEVENT
DTSTART;TZID=America/New_York:20260919T060000
DTEND;TZID=America/New_York:20260919T150000
DTSTAMP:20260424T162325
CREATED:20251217T194517Z
LAST-MODIFIED:20260402T024522Z
UID:10004012-1789797600-1789830000@journalofantiques.com
SUMMARY:Redwood Country Flea Market
DESCRIPTION:January-December: Wallingford\, CT\nRedwood Country Flea Market\n170 South Turnpike Road\nOpen Every Friday\, Saturday\, Sunday\nFri. 6am-1pm\, Sat./Sun. 6am-3pm\n203-269-3500\nwww.facebook.com/redwoodcountryfleamarket
URL:https://journalofantiques.com/event/redwood-country-flea-market-2/2026-09-19/
LOCATION:Redwood Country Flea Market\, 170 South Turnpike Road\, Wallingford\, CT\, United States
CATEGORIES:Antique Shows
END:VEVENT
BEGIN:VEVENT
DTSTART;TZID=America/New_York:20260920T060000
DTEND;TZID=America/New_York:20260920T150000
DTSTAMP:20260424T162325
CREATED:20251217T194517Z
LAST-MODIFIED:20260402T024522Z
UID:10004013-1789884000-1789916400@journalofantiques.com
SUMMARY:Redwood Country Flea Market
DESCRIPTION:January-December: Wallingford\, CT\nRedwood Country Flea Market\n170 South Turnpike Road\nOpen Every Friday\, Saturday\, Sunday\nFri. 6am-1pm\, Sat./Sun. 6am-3pm\n203-269-3500\nwww.facebook.com/redwoodcountryfleamarket
URL:https://journalofantiques.com/event/redwood-country-flea-market-2/2026-09-20/
LOCATION:Redwood Country Flea Market\, 170 South Turnpike Road\, Wallingford\, CT\, United States
CATEGORIES:Antique Shows
END:VEVENT
BEGIN:VEVENT
DTSTART;TZID=America/New_York:20260925T060000
DTEND;TZID=America/New_York:20260925T130000
DTSTAMP:20260424T162325
CREATED:20251217T194342Z
LAST-MODIFIED:20260402T024403Z
UID:10003717-1790316000-1790341200@journalofantiques.com
SUMMARY:Redwood Country Flea Market
DESCRIPTION:January-December: Wallingford\, CT\nRedwood Country Flea Market\n170 South Turnpike Road\nOpen Every Friday\, Saturday\, Sunday\nFri. 6am-1pm\, Sat./Sun. 6am-3pm\n203-269-3500\nwww.facebook.com/redwoodcountryfleamarket
URL:https://journalofantiques.com/event/redwood-country-flea-market/2026-09-25/
LOCATION:Redwood Country Flea Market\, 170 South Turnpike Road\, Wallingford\, CT\, United States
CATEGORIES:Antique Shows
END:VEVENT
BEGIN:VEVENT
DTSTART;TZID=America/New_York:20260926T060000
DTEND;TZID=America/New_York:20260926T150000
DTSTAMP:20260424T162325
CREATED:20251217T194517Z
LAST-MODIFIED:20260402T024522Z
UID:10004014-1790402400-1790434800@journalofantiques.com
SUMMARY:Redwood Country Flea Market
DESCRIPTION:January-December: Wallingford\, CT\nRedwood Country Flea Market\n170 South Turnpike Road\nOpen Every Friday\, Saturday\, Sunday\nFri. 6am-1pm\, Sat./Sun. 6am-3pm\n203-269-3500\nwww.facebook.com/redwoodcountryfleamarket
URL:https://journalofantiques.com/event/redwood-country-flea-market-2/2026-09-26/
LOCATION:Redwood Country Flea Market\, 170 South Turnpike Road\, Wallingford\, CT\, United States
CATEGORIES:Antique Shows
END:VEVENT
BEGIN:VEVENT
DTSTART;TZID=America/New_York:20260927T060000
DTEND;TZID=America/New_York:20260927T150000
DTSTAMP:20260424T162325
CREATED:20251217T194517Z
LAST-MODIFIED:20260402T024522Z
UID:10004015-1790488800-1790521200@journalofantiques.com
SUMMARY:Redwood Country Flea Market
DESCRIPTION:January-December: Wallingford\, CT\nRedwood Country Flea Market\n170 South Turnpike Road\nOpen Every Friday\, Saturday\, Sunday\nFri. 6am-1pm\, Sat./Sun. 6am-3pm\n203-269-3500\nwww.facebook.com/redwoodcountryfleamarket
URL:https://journalofantiques.com/event/redwood-country-flea-market-2/2026-09-27/
LOCATION:Redwood Country Flea Market\, 170 South Turnpike Road\, Wallingford\, CT\, United States
CATEGORIES:Antique Shows
END:VEVENT
BEGIN:VEVENT
DTSTART;TZID=America/New_York:20261002T060000
DTEND;TZID=America/New_York:20261002T130000
DTSTAMP:20260424T162325
CREATED:20251217T194342Z
LAST-MODIFIED:20260402T024403Z
UID:10003718-1790920800-1790946000@journalofantiques.com
SUMMARY:Redwood Country Flea Market
DESCRIPTION:January-December: Wallingford\, CT\nRedwood Country Flea Market\n170 South Turnpike Road\nOpen Every Friday\, Saturday\, Sunday\nFri. 6am-1pm\, Sat./Sun. 6am-3pm\n203-269-3500\nwww.facebook.com/redwoodcountryfleamarket
URL:https://journalofantiques.com/event/redwood-country-flea-market/2026-10-02/
LOCATION:Redwood Country Flea Market\, 170 South Turnpike Road\, Wallingford\, CT\, United States
CATEGORIES:Antique Shows
END:VEVENT
BEGIN:VEVENT
DTSTART;TZID=America/New_York:20261003T060000
DTEND;TZID=America/New_York:20261003T150000
DTSTAMP:20260424T162325
CREATED:20251217T194517Z
LAST-MODIFIED:20260402T024522Z
UID:10004016-1791007200-1791039600@journalofantiques.com
SUMMARY:Redwood Country Flea Market
DESCRIPTION:January-December: Wallingford\, CT\nRedwood Country Flea Market\n170 South Turnpike Road\nOpen Every Friday\, Saturday\, Sunday\nFri. 6am-1pm\, Sat./Sun. 6am-3pm\n203-269-3500\nwww.facebook.com/redwoodcountryfleamarket
URL:https://journalofantiques.com/event/redwood-country-flea-market-2/2026-10-03/
LOCATION:Redwood Country Flea Market\, 170 South Turnpike Road\, Wallingford\, CT\, United States
CATEGORIES:Antique Shows
END:VEVENT
BEGIN:VEVENT
DTSTART;TZID=America/New_York:20261004T060000
DTEND;TZID=America/New_York:20261004T150000
DTSTAMP:20260424T162325
CREATED:20251217T194517Z
LAST-MODIFIED:20260402T024522Z
UID:10004017-1791093600-1791126000@journalofantiques.com
SUMMARY:Redwood Country Flea Market
DESCRIPTION:January-December: Wallingford\, CT\nRedwood Country Flea Market\n170 South Turnpike Road\nOpen Every Friday\, Saturday\, Sunday\nFri. 6am-1pm\, Sat./Sun. 6am-3pm\n203-269-3500\nwww.facebook.com/redwoodcountryfleamarket
URL:https://journalofantiques.com/event/redwood-country-flea-market-2/2026-10-04/
LOCATION:Redwood Country Flea Market\, 170 South Turnpike Road\, Wallingford\, CT\, United States
CATEGORIES:Antique Shows
END:VEVENT
BEGIN:VEVENT
DTSTART;TZID=America/New_York:20261009T060000
DTEND;TZID=America/New_York:20261009T130000
DTSTAMP:20260424T162325
CREATED:20251217T194342Z
LAST-MODIFIED:20260402T024403Z
UID:10003719-1791525600-1791550800@journalofantiques.com
SUMMARY:Redwood Country Flea Market
DESCRIPTION:January-December: Wallingford\, CT\nRedwood Country Flea Market\n170 South Turnpike Road\nOpen Every Friday\, Saturday\, Sunday\nFri. 6am-1pm\, Sat./Sun. 6am-3pm\n203-269-3500\nwww.facebook.com/redwoodcountryfleamarket
URL:https://journalofantiques.com/event/redwood-country-flea-market/2026-10-09/
LOCATION:Redwood Country Flea Market\, 170 South Turnpike Road\, Wallingford\, CT\, United States
CATEGORIES:Antique Shows
END:VEVENT
BEGIN:VEVENT
DTSTART;TZID=America/New_York:20261010T060000
DTEND;TZID=America/New_York:20261010T150000
DTSTAMP:20260424T162325
CREATED:20251217T194517Z
LAST-MODIFIED:20260402T024522Z
UID:10004018-1791612000-1791644400@journalofantiques.com
SUMMARY:Redwood Country Flea Market
DESCRIPTION:January-December: Wallingford\, CT\nRedwood Country Flea Market\n170 South Turnpike Road\nOpen Every Friday\, Saturday\, Sunday\nFri. 6am-1pm\, Sat./Sun. 6am-3pm\n203-269-3500\nwww.facebook.com/redwoodcountryfleamarket
URL:https://journalofantiques.com/event/redwood-country-flea-market-2/2026-10-10/
LOCATION:Redwood Country Flea Market\, 170 South Turnpike Road\, Wallingford\, CT\, United States
CATEGORIES:Antique Shows
END:VEVENT
BEGIN:VEVENT
DTSTART;TZID=America/New_York:20261011T060000
DTEND;TZID=America/New_York:20261011T150000
DTSTAMP:20260424T162325
CREATED:20251217T194517Z
LAST-MODIFIED:20260402T024522Z
UID:10004019-1791698400-1791730800@journalofantiques.com
SUMMARY:Redwood Country Flea Market
DESCRIPTION:January-December: Wallingford\, CT\nRedwood Country Flea Market\n170 South Turnpike Road\nOpen Every Friday\, Saturday\, Sunday\nFri. 6am-1pm\, Sat./Sun. 6am-3pm\n203-269-3500\nwww.facebook.com/redwoodcountryfleamarket
URL:https://journalofantiques.com/event/redwood-country-flea-market-2/2026-10-11/
LOCATION:Redwood Country Flea Market\, 170 South Turnpike Road\, Wallingford\, CT\, United States
CATEGORIES:Antique Shows
END:VEVENT
BEGIN:VEVENT
DTSTART;TZID=America/New_York:20261016T060000
DTEND;TZID=America/New_York:20261016T130000
DTSTAMP:20260424T162325
CREATED:20251217T194342Z
LAST-MODIFIED:20260402T024403Z
UID:10003720-1792130400-1792155600@journalofantiques.com
SUMMARY:Redwood Country Flea Market
DESCRIPTION:January-December: Wallingford\, CT\nRedwood Country Flea Market\n170 South Turnpike Road\nOpen Every Friday\, Saturday\, Sunday\nFri. 6am-1pm\, Sat./Sun. 6am-3pm\n203-269-3500\nwww.facebook.com/redwoodcountryfleamarket
URL:https://journalofantiques.com/event/redwood-country-flea-market/2026-10-16/
LOCATION:Redwood Country Flea Market\, 170 South Turnpike Road\, Wallingford\, CT\, United States
CATEGORIES:Antique Shows
END:VEVENT
BEGIN:VEVENT
DTSTART;TZID=America/New_York:20261017T060000
DTEND;TZID=America/New_York:20261017T150000
DTSTAMP:20260424T162325
CREATED:20251217T194517Z
LAST-MODIFIED:20260402T024522Z
UID:10004020-1792216800-1792249200@journalofantiques.com
SUMMARY:Redwood Country Flea Market
DESCRIPTION:January-December: Wallingford\, CT\nRedwood Country Flea Market\n170 South Turnpike Road\nOpen Every Friday\, Saturday\, Sunday\nFri. 6am-1pm\, Sat./Sun. 6am-3pm\n203-269-3500\nwww.facebook.com/redwoodcountryfleamarket
URL:https://journalofantiques.com/event/redwood-country-flea-market-2/2026-10-17/
LOCATION:Redwood Country Flea Market\, 170 South Turnpike Road\, Wallingford\, CT\, United States
CATEGORIES:Antique Shows
END:VEVENT
BEGIN:VEVENT
DTSTART;TZID=America/New_York:20261018T060000
DTEND;TZID=America/New_York:20261018T150000
DTSTAMP:20260424T162325
CREATED:20251217T194517Z
LAST-MODIFIED:20260402T024522Z
UID:10004021-1792303200-1792335600@journalofantiques.com
SUMMARY:Redwood Country Flea Market
DESCRIPTION:January-December: Wallingford\, CT\nRedwood Country Flea Market\n170 South Turnpike Road\nOpen Every Friday\, Saturday\, Sunday\nFri. 6am-1pm\, Sat./Sun. 6am-3pm\n203-269-3500\nwww.facebook.com/redwoodcountryfleamarket
URL:https://journalofantiques.com/event/redwood-country-flea-market-2/2026-10-18/
LOCATION:Redwood Country Flea Market\, 170 South Turnpike Road\, Wallingford\, CT\, United States
CATEGORIES:Antique Shows
END:VEVENT
BEGIN:VEVENT
DTSTART;TZID=America/New_York:20261023T060000
DTEND;TZID=America/New_York:20261023T130000
DTSTAMP:20260424T162325
CREATED:20251217T194342Z
LAST-MODIFIED:20260402T024403Z
UID:10003721-1792735200-1792760400@journalofantiques.com
SUMMARY:Redwood Country Flea Market
DESCRIPTION:January-December: Wallingford\, CT\nRedwood Country Flea Market\n170 South Turnpike Road\nOpen Every Friday\, Saturday\, Sunday\nFri. 6am-1pm\, Sat./Sun. 6am-3pm\n203-269-3500\nwww.facebook.com/redwoodcountryfleamarket
URL:https://journalofantiques.com/event/redwood-country-flea-market/2026-10-23/
LOCATION:Redwood Country Flea Market\, 170 South Turnpike Road\, Wallingford\, CT\, United States
CATEGORIES:Antique Shows
END:VEVENT
BEGIN:VEVENT
DTSTART;TZID=America/New_York:20261024T060000
DTEND;TZID=America/New_York:20261024T150000
DTSTAMP:20260424T162325
CREATED:20251217T194517Z
LAST-MODIFIED:20260402T024522Z
UID:10004022-1792821600-1792854000@journalofantiques.com
SUMMARY:Redwood Country Flea Market
DESCRIPTION:January-December: Wallingford\, CT\nRedwood Country Flea Market\n170 South Turnpike Road\nOpen Every Friday\, Saturday\, Sunday\nFri. 6am-1pm\, Sat./Sun. 6am-3pm\n203-269-3500\nwww.facebook.com/redwoodcountryfleamarket
URL:https://journalofantiques.com/event/redwood-country-flea-market-2/2026-10-24/
LOCATION:Redwood Country Flea Market\, 170 South Turnpike Road\, Wallingford\, CT\, United States
CATEGORIES:Antique Shows
END:VEVENT
BEGIN:VEVENT
DTSTART;TZID=America/New_York:20261025T060000
DTEND;TZID=America/New_York:20261025T150000
DTSTAMP:20260424T162325
CREATED:20251217T194517Z
LAST-MODIFIED:20260402T024522Z
UID:10004023-1792908000-1792940400@journalofantiques.com
SUMMARY:Redwood Country Flea Market
DESCRIPTION:January-December: Wallingford\, CT\nRedwood Country Flea Market\n170 South Turnpike Road\nOpen Every Friday\, Saturday\, Sunday\nFri. 6am-1pm\, Sat./Sun. 6am-3pm\n203-269-3500\nwww.facebook.com/redwoodcountryfleamarket
URL:https://journalofantiques.com/event/redwood-country-flea-market-2/2026-10-25/
LOCATION:Redwood Country Flea Market\, 170 South Turnpike Road\, Wallingford\, CT\, United States
CATEGORIES:Antique Shows
END:VEVENT
END:VCALENDAR