    BEGIN:VCALENDAR
VERSION:2.0
PRODID:-//The Journal of Antiques and Collectibles - ECPv6.15.20//NONSGML v1.0//EN
CALSCALE:GREGORIAN
METHOD:PUBLISH
X-ORIGINAL-URL:https://journalofantiques.com
X-WR-CALDESC:Events for The Journal of Antiques and Collectibles
REFRESH-INTERVAL;VALUE=DURATION:PT1H
X-Robots-Tag:noindex
X-PUBLISHED-TTL:PT1H
BEGIN:VTIMEZONE
TZID:America/New_York
BEGIN:DAYLIGHT
TZOFFSETFROM:-0500
TZOFFSETTO:-0400
TZNAME:EDT
DTSTART:20250309T070000
END:DAYLIGHT
BEGIN:STANDARD
TZOFFSETFROM:-0400
TZOFFSETTO:-0500
TZNAME:EST
DTSTART:20251102T060000
END:STANDARD
BEGIN:DAYLIGHT
TZOFFSETFROM:-0500
TZOFFSETTO:-0400
TZNAME:EDT
DTSTART:20260308T070000
END:DAYLIGHT
BEGIN:STANDARD
TZOFFSETFROM:-0400
TZOFFSETTO:-0500
TZNAME:EST
DTSTART:20261101T060000
END:STANDARD
BEGIN:DAYLIGHT
TZOFFSETFROM:-0500
TZOFFSETTO:-0400
TZNAME:EDT
DTSTART:20270314T070000
END:DAYLIGHT
BEGIN:STANDARD
TZOFFSETFROM:-0400
TZOFFSETTO:-0500
TZNAME:EST
DTSTART:20271107T060000
END:STANDARD
BEGIN:DAYLIGHT
TZOFFSETFROM:-0500
TZOFFSETTO:-0400
TZNAME:EDT
DTSTART:20280312T070000
END:DAYLIGHT
BEGIN:STANDARD
TZOFFSETFROM:-0400
TZOFFSETTO:-0500
TZNAME:EST
DTSTART:20281105T060000
END:STANDARD
END:VTIMEZONE
BEGIN:VEVENT
DTSTART;TZID=America/New_York:20261030T060000
DTEND;TZID=America/New_York:20261030T130000
DTSTAMP:20260424T210133
CREATED:20251217T194342Z
LAST-MODIFIED:20260402T024403Z
UID:10003722-1793340000-1793365200@journalofantiques.com
SUMMARY:Redwood Country Flea Market
DESCRIPTION:January-December: Wallingford\, CT\nRedwood Country Flea Market\n170 South Turnpike Road\nOpen Every Friday\, Saturday\, Sunday\nFri. 6am-1pm\, Sat./Sun. 6am-3pm\n203-269-3500\nwww.facebook.com/redwoodcountryfleamarket
URL:https://journalofantiques.com/event/redwood-country-flea-market/2026-10-30/
LOCATION:Redwood Country Flea Market\, 170 South Turnpike Road\, Wallingford\, CT\, United States
CATEGORIES:Antique Shows
END:VEVENT
BEGIN:VEVENT
DTSTART;TZID=America/New_York:20261031T060000
DTEND;TZID=America/New_York:20261031T150000
DTSTAMP:20260424T210133
CREATED:20251217T194517Z
LAST-MODIFIED:20260402T024522Z
UID:10004024-1793426400-1793458800@journalofantiques.com
SUMMARY:Redwood Country Flea Market
DESCRIPTION:January-December: Wallingford\, CT\nRedwood Country Flea Market\n170 South Turnpike Road\nOpen Every Friday\, Saturday\, Sunday\nFri. 6am-1pm\, Sat./Sun. 6am-3pm\n203-269-3500\nwww.facebook.com/redwoodcountryfleamarket
URL:https://journalofantiques.com/event/redwood-country-flea-market-2/2026-10-31/
LOCATION:Redwood Country Flea Market\, 170 South Turnpike Road\, Wallingford\, CT\, United States
CATEGORIES:Antique Shows
END:VEVENT
BEGIN:VEVENT
DTSTART;TZID=America/New_York:20261101T060000
DTEND;TZID=America/New_York:20261101T150000
DTSTAMP:20260424T210133
CREATED:20251217T194517Z
LAST-MODIFIED:20260402T024522Z
UID:10004025-1793512800-1793545200@journalofantiques.com
SUMMARY:Redwood Country Flea Market
DESCRIPTION:January-December: Wallingford\, CT\nRedwood Country Flea Market\n170 South Turnpike Road\nOpen Every Friday\, Saturday\, Sunday\nFri. 6am-1pm\, Sat./Sun. 6am-3pm\n203-269-3500\nwww.facebook.com/redwoodcountryfleamarket
URL:https://journalofantiques.com/event/redwood-country-flea-market-2/2026-11-01/
LOCATION:Redwood Country Flea Market\, 170 South Turnpike Road\, Wallingford\, CT\, United States
CATEGORIES:Antique Shows
END:VEVENT
BEGIN:VEVENT
DTSTART;TZID=America/New_York:20261106T060000
DTEND;TZID=America/New_York:20261106T130000
DTSTAMP:20260424T210133
CREATED:20251217T194342Z
LAST-MODIFIED:20260402T024403Z
UID:10003723-1793944800-1793970000@journalofantiques.com
SUMMARY:Redwood Country Flea Market
DESCRIPTION:January-December: Wallingford\, CT\nRedwood Country Flea Market\n170 South Turnpike Road\nOpen Every Friday\, Saturday\, Sunday\nFri. 6am-1pm\, Sat./Sun. 6am-3pm\n203-269-3500\nwww.facebook.com/redwoodcountryfleamarket
URL:https://journalofantiques.com/event/redwood-country-flea-market/2026-11-06/
LOCATION:Redwood Country Flea Market\, 170 South Turnpike Road\, Wallingford\, CT\, United States
CATEGORIES:Antique Shows
END:VEVENT
BEGIN:VEVENT
DTSTART;TZID=America/New_York:20261107T060000
DTEND;TZID=America/New_York:20261107T150000
DTSTAMP:20260424T210133
CREATED:20251217T194517Z
LAST-MODIFIED:20260402T024522Z
UID:10004026-1794031200-1794063600@journalofantiques.com
SUMMARY:Redwood Country Flea Market
DESCRIPTION:January-December: Wallingford\, CT\nRedwood Country Flea Market\n170 South Turnpike Road\nOpen Every Friday\, Saturday\, Sunday\nFri. 6am-1pm\, Sat./Sun. 6am-3pm\n203-269-3500\nwww.facebook.com/redwoodcountryfleamarket
URL:https://journalofantiques.com/event/redwood-country-flea-market-2/2026-11-07/
LOCATION:Redwood Country Flea Market\, 170 South Turnpike Road\, Wallingford\, CT\, United States
CATEGORIES:Antique Shows
END:VEVENT
BEGIN:VEVENT
DTSTART;TZID=America/New_York:20261108T060000
DTEND;TZID=America/New_York:20261108T150000
DTSTAMP:20260424T210133
CREATED:20251217T194517Z
LAST-MODIFIED:20260402T024522Z
UID:10004027-1794117600-1794150000@journalofantiques.com
SUMMARY:Redwood Country Flea Market
DESCRIPTION:January-December: Wallingford\, CT\nRedwood Country Flea Market\n170 South Turnpike Road\nOpen Every Friday\, Saturday\, Sunday\nFri. 6am-1pm\, Sat./Sun. 6am-3pm\n203-269-3500\nwww.facebook.com/redwoodcountryfleamarket
URL:https://journalofantiques.com/event/redwood-country-flea-market-2/2026-11-08/
LOCATION:Redwood Country Flea Market\, 170 South Turnpike Road\, Wallingford\, CT\, United States
CATEGORIES:Antique Shows
END:VEVENT
BEGIN:VEVENT
DTSTART;TZID=America/New_York:20261113T060000
DTEND;TZID=America/New_York:20261113T130000
DTSTAMP:20260424T210133
CREATED:20251217T194342Z
LAST-MODIFIED:20260402T024403Z
UID:10003724-1794549600-1794574800@journalofantiques.com
SUMMARY:Redwood Country Flea Market
DESCRIPTION:January-December: Wallingford\, CT\nRedwood Country Flea Market\n170 South Turnpike Road\nOpen Every Friday\, Saturday\, Sunday\nFri. 6am-1pm\, Sat./Sun. 6am-3pm\n203-269-3500\nwww.facebook.com/redwoodcountryfleamarket
URL:https://journalofantiques.com/event/redwood-country-flea-market/2026-11-13/
LOCATION:Redwood Country Flea Market\, 170 South Turnpike Road\, Wallingford\, CT\, United States
CATEGORIES:Antique Shows
END:VEVENT
BEGIN:VEVENT
DTSTART;TZID=America/New_York:20261114T060000
DTEND;TZID=America/New_York:20261114T150000
DTSTAMP:20260424T210133
CREATED:20251217T194517Z
LAST-MODIFIED:20260402T024522Z
UID:10004028-1794636000-1794668400@journalofantiques.com
SUMMARY:Redwood Country Flea Market
DESCRIPTION:January-December: Wallingford\, CT\nRedwood Country Flea Market\n170 South Turnpike Road\nOpen Every Friday\, Saturday\, Sunday\nFri. 6am-1pm\, Sat./Sun. 6am-3pm\n203-269-3500\nwww.facebook.com/redwoodcountryfleamarket
URL:https://journalofantiques.com/event/redwood-country-flea-market-2/2026-11-14/
LOCATION:Redwood Country Flea Market\, 170 South Turnpike Road\, Wallingford\, CT\, United States
CATEGORIES:Antique Shows
END:VEVENT
BEGIN:VEVENT
DTSTART;TZID=America/New_York:20261115T060000
DTEND;TZID=America/New_York:20261115T150000
DTSTAMP:20260424T210133
CREATED:20251217T194517Z
LAST-MODIFIED:20260402T024522Z
UID:10004029-1794722400-1794754800@journalofantiques.com
SUMMARY:Redwood Country Flea Market
DESCRIPTION:January-December: Wallingford\, CT\nRedwood Country Flea Market\n170 South Turnpike Road\nOpen Every Friday\, Saturday\, Sunday\nFri. 6am-1pm\, Sat./Sun. 6am-3pm\n203-269-3500\nwww.facebook.com/redwoodcountryfleamarket
URL:https://journalofantiques.com/event/redwood-country-flea-market-2/2026-11-15/
LOCATION:Redwood Country Flea Market\, 170 South Turnpike Road\, Wallingford\, CT\, United States
CATEGORIES:Antique Shows
END:VEVENT
BEGIN:VEVENT
DTSTART;TZID=America/New_York:20261120T060000
DTEND;TZID=America/New_York:20261120T130000
DTSTAMP:20260424T210133
CREATED:20251217T194342Z
LAST-MODIFIED:20260402T024403Z
UID:10003725-1795154400-1795179600@journalofantiques.com
SUMMARY:Redwood Country Flea Market
DESCRIPTION:January-December: Wallingford\, CT\nRedwood Country Flea Market\n170 South Turnpike Road\nOpen Every Friday\, Saturday\, Sunday\nFri. 6am-1pm\, Sat./Sun. 6am-3pm\n203-269-3500\nwww.facebook.com/redwoodcountryfleamarket
URL:https://journalofantiques.com/event/redwood-country-flea-market/2026-11-20/
LOCATION:Redwood Country Flea Market\, 170 South Turnpike Road\, Wallingford\, CT\, United States
CATEGORIES:Antique Shows
END:VEVENT
BEGIN:VEVENT
DTSTART;TZID=America/New_York:20261121T060000
DTEND;TZID=America/New_York:20261121T150000
DTSTAMP:20260424T210133
CREATED:20251217T194517Z
LAST-MODIFIED:20260402T024522Z
UID:10004030-1795240800-1795273200@journalofantiques.com
SUMMARY:Redwood Country Flea Market
DESCRIPTION:January-December: Wallingford\, CT\nRedwood Country Flea Market\n170 South Turnpike Road\nOpen Every Friday\, Saturday\, Sunday\nFri. 6am-1pm\, Sat./Sun. 6am-3pm\n203-269-3500\nwww.facebook.com/redwoodcountryfleamarket
URL:https://journalofantiques.com/event/redwood-country-flea-market-2/2026-11-21/
LOCATION:Redwood Country Flea Market\, 170 South Turnpike Road\, Wallingford\, CT\, United States
CATEGORIES:Antique Shows
END:VEVENT
BEGIN:VEVENT
DTSTART;TZID=America/New_York:20261122T060000
DTEND;TZID=America/New_York:20261122T150000
DTSTAMP:20260424T210133
CREATED:20251217T194517Z
LAST-MODIFIED:20260402T024522Z
UID:10004031-1795327200-1795359600@journalofantiques.com
SUMMARY:Redwood Country Flea Market
DESCRIPTION:January-December: Wallingford\, CT\nRedwood Country Flea Market\n170 South Turnpike Road\nOpen Every Friday\, Saturday\, Sunday\nFri. 6am-1pm\, Sat./Sun. 6am-3pm\n203-269-3500\nwww.facebook.com/redwoodcountryfleamarket
URL:https://journalofantiques.com/event/redwood-country-flea-market-2/2026-11-22/
LOCATION:Redwood Country Flea Market\, 170 South Turnpike Road\, Wallingford\, CT\, United States
CATEGORIES:Antique Shows
END:VEVENT
BEGIN:VEVENT
DTSTART;TZID=America/New_York:20261127T060000
DTEND;TZID=America/New_York:20261127T130000
DTSTAMP:20260424T210133
CREATED:20251217T194342Z
LAST-MODIFIED:20260402T024403Z
UID:10003726-1795759200-1795784400@journalofantiques.com
SUMMARY:Redwood Country Flea Market
DESCRIPTION:January-December: Wallingford\, CT\nRedwood Country Flea Market\n170 South Turnpike Road\nOpen Every Friday\, Saturday\, Sunday\nFri. 6am-1pm\, Sat./Sun. 6am-3pm\n203-269-3500\nwww.facebook.com/redwoodcountryfleamarket
URL:https://journalofantiques.com/event/redwood-country-flea-market/2026-11-27/
LOCATION:Redwood Country Flea Market\, 170 South Turnpike Road\, Wallingford\, CT\, United States
CATEGORIES:Antique Shows
END:VEVENT
BEGIN:VEVENT
DTSTART;TZID=America/New_York:20261128T060000
DTEND;TZID=America/New_York:20261128T150000
DTSTAMP:20260424T210133
CREATED:20251217T194517Z
LAST-MODIFIED:20260402T024522Z
UID:10004032-1795845600-1795878000@journalofantiques.com
SUMMARY:Redwood Country Flea Market
DESCRIPTION:January-December: Wallingford\, CT\nRedwood Country Flea Market\n170 South Turnpike Road\nOpen Every Friday\, Saturday\, Sunday\nFri. 6am-1pm\, Sat./Sun. 6am-3pm\n203-269-3500\nwww.facebook.com/redwoodcountryfleamarket
URL:https://journalofantiques.com/event/redwood-country-flea-market-2/2026-11-28/
LOCATION:Redwood Country Flea Market\, 170 South Turnpike Road\, Wallingford\, CT\, United States
CATEGORIES:Antique Shows
END:VEVENT
BEGIN:VEVENT
DTSTART;TZID=America/New_York:20261129T060000
DTEND;TZID=America/New_York:20261129T150000
DTSTAMP:20260424T210133
CREATED:20251217T194517Z
LAST-MODIFIED:20260402T024522Z
UID:10004033-1795932000-1795964400@journalofantiques.com
SUMMARY:Redwood Country Flea Market
DESCRIPTION:January-December: Wallingford\, CT\nRedwood Country Flea Market\n170 South Turnpike Road\nOpen Every Friday\, Saturday\, Sunday\nFri. 6am-1pm\, Sat./Sun. 6am-3pm\n203-269-3500\nwww.facebook.com/redwoodcountryfleamarket
URL:https://journalofantiques.com/event/redwood-country-flea-market-2/2026-11-29/
LOCATION:Redwood Country Flea Market\, 170 South Turnpike Road\, Wallingford\, CT\, United States
CATEGORIES:Antique Shows
END:VEVENT
BEGIN:VEVENT
DTSTART;TZID=America/New_York:20261204T060000
DTEND;TZID=America/New_York:20261204T130000
DTSTAMP:20260424T210133
CREATED:20251217T194342Z
LAST-MODIFIED:20260402T024403Z
UID:10003727-1796364000-1796389200@journalofantiques.com
SUMMARY:Redwood Country Flea Market
DESCRIPTION:January-December: Wallingford\, CT\nRedwood Country Flea Market\n170 South Turnpike Road\nOpen Every Friday\, Saturday\, Sunday\nFri. 6am-1pm\, Sat./Sun. 6am-3pm\n203-269-3500\nwww.facebook.com/redwoodcountryfleamarket
URL:https://journalofantiques.com/event/redwood-country-flea-market/2026-12-04/
LOCATION:Redwood Country Flea Market\, 170 South Turnpike Road\, Wallingford\, CT\, United States
CATEGORIES:Antique Shows
END:VEVENT
BEGIN:VEVENT
DTSTART;TZID=America/New_York:20261205T060000
DTEND;TZID=America/New_York:20261205T150000
DTSTAMP:20260424T210133
CREATED:20251217T194517Z
LAST-MODIFIED:20260402T024522Z
UID:10004034-1796450400-1796482800@journalofantiques.com
SUMMARY:Redwood Country Flea Market
DESCRIPTION:January-December: Wallingford\, CT\nRedwood Country Flea Market\n170 South Turnpike Road\nOpen Every Friday\, Saturday\, Sunday\nFri. 6am-1pm\, Sat./Sun. 6am-3pm\n203-269-3500\nwww.facebook.com/redwoodcountryfleamarket
URL:https://journalofantiques.com/event/redwood-country-flea-market-2/2026-12-05/
LOCATION:Redwood Country Flea Market\, 170 South Turnpike Road\, Wallingford\, CT\, United States
CATEGORIES:Antique Shows
END:VEVENT
BEGIN:VEVENT
DTSTART;TZID=America/New_York:20261206T060000
DTEND;TZID=America/New_York:20261206T150000
DTSTAMP:20260424T210133
CREATED:20251217T194517Z
LAST-MODIFIED:20260402T024522Z
UID:10004035-1796536800-1796569200@journalofantiques.com
SUMMARY:Redwood Country Flea Market
DESCRIPTION:January-December: Wallingford\, CT\nRedwood Country Flea Market\n170 South Turnpike Road\nOpen Every Friday\, Saturday\, Sunday\nFri. 6am-1pm\, Sat./Sun. 6am-3pm\n203-269-3500\nwww.facebook.com/redwoodcountryfleamarket
URL:https://journalofantiques.com/event/redwood-country-flea-market-2/2026-12-06/
LOCATION:Redwood Country Flea Market\, 170 South Turnpike Road\, Wallingford\, CT\, United States
CATEGORIES:Antique Shows
END:VEVENT
BEGIN:VEVENT
DTSTART;TZID=America/New_York:20261211T060000
DTEND;TZID=America/New_York:20261211T130000
DTSTAMP:20260424T210133
CREATED:20251217T194342Z
LAST-MODIFIED:20260402T024403Z
UID:10003728-1796968800-1796994000@journalofantiques.com
SUMMARY:Redwood Country Flea Market
DESCRIPTION:January-December: Wallingford\, CT\nRedwood Country Flea Market\n170 South Turnpike Road\nOpen Every Friday\, Saturday\, Sunday\nFri. 6am-1pm\, Sat./Sun. 6am-3pm\n203-269-3500\nwww.facebook.com/redwoodcountryfleamarket
URL:https://journalofantiques.com/event/redwood-country-flea-market/2026-12-11/
LOCATION:Redwood Country Flea Market\, 170 South Turnpike Road\, Wallingford\, CT\, United States
CATEGORIES:Antique Shows
END:VEVENT
BEGIN:VEVENT
DTSTART;TZID=America/New_York:20261212T060000
DTEND;TZID=America/New_York:20261212T150000
DTSTAMP:20260424T210133
CREATED:20251217T194517Z
LAST-MODIFIED:20260402T024522Z
UID:10004036-1797055200-1797087600@journalofantiques.com
SUMMARY:Redwood Country Flea Market
DESCRIPTION:January-December: Wallingford\, CT\nRedwood Country Flea Market\n170 South Turnpike Road\nOpen Every Friday\, Saturday\, Sunday\nFri. 6am-1pm\, Sat./Sun. 6am-3pm\n203-269-3500\nwww.facebook.com/redwoodcountryfleamarket
URL:https://journalofantiques.com/event/redwood-country-flea-market-2/2026-12-12/
LOCATION:Redwood Country Flea Market\, 170 South Turnpike Road\, Wallingford\, CT\, United States
CATEGORIES:Antique Shows
END:VEVENT
BEGIN:VEVENT
DTSTART;TZID=America/New_York:20261213T060000
DTEND;TZID=America/New_York:20261213T150000
DTSTAMP:20260424T210133
CREATED:20251217T194517Z
LAST-MODIFIED:20260402T024522Z
UID:10004037-1797141600-1797174000@journalofantiques.com
SUMMARY:Redwood Country Flea Market
DESCRIPTION:January-December: Wallingford\, CT\nRedwood Country Flea Market\n170 South Turnpike Road\nOpen Every Friday\, Saturday\, Sunday\nFri. 6am-1pm\, Sat./Sun. 6am-3pm\n203-269-3500\nwww.facebook.com/redwoodcountryfleamarket
URL:https://journalofantiques.com/event/redwood-country-flea-market-2/2026-12-13/
LOCATION:Redwood Country Flea Market\, 170 South Turnpike Road\, Wallingford\, CT\, United States
CATEGORIES:Antique Shows
END:VEVENT
BEGIN:VEVENT
DTSTART;TZID=America/New_York:20261218T060000
DTEND;TZID=America/New_York:20261218T130000
DTSTAMP:20260424T210133
CREATED:20251217T194342Z
LAST-MODIFIED:20260402T024403Z
UID:10003729-1797573600-1797598800@journalofantiques.com
SUMMARY:Redwood Country Flea Market
DESCRIPTION:January-December: Wallingford\, CT\nRedwood Country Flea Market\n170 South Turnpike Road\nOpen Every Friday\, Saturday\, Sunday\nFri. 6am-1pm\, Sat./Sun. 6am-3pm\n203-269-3500\nwww.facebook.com/redwoodcountryfleamarket
URL:https://journalofantiques.com/event/redwood-country-flea-market/2026-12-18/
LOCATION:Redwood Country Flea Market\, 170 South Turnpike Road\, Wallingford\, CT\, United States
CATEGORIES:Antique Shows
END:VEVENT
BEGIN:VEVENT
DTSTART;TZID=America/New_York:20261219T060000
DTEND;TZID=America/New_York:20261219T150000
DTSTAMP:20260424T210133
CREATED:20251217T194517Z
LAST-MODIFIED:20260402T024522Z
UID:10004038-1797660000-1797692400@journalofantiques.com
SUMMARY:Redwood Country Flea Market
DESCRIPTION:January-December: Wallingford\, CT\nRedwood Country Flea Market\n170 South Turnpike Road\nOpen Every Friday\, Saturday\, Sunday\nFri. 6am-1pm\, Sat./Sun. 6am-3pm\n203-269-3500\nwww.facebook.com/redwoodcountryfleamarket
URL:https://journalofantiques.com/event/redwood-country-flea-market-2/2026-12-19/
LOCATION:Redwood Country Flea Market\, 170 South Turnpike Road\, Wallingford\, CT\, United States
CATEGORIES:Antique Shows
END:VEVENT
BEGIN:VEVENT
DTSTART;TZID=America/New_York:20261220T060000
DTEND;TZID=America/New_York:20261220T150000
DTSTAMP:20260424T210133
CREATED:20251217T194517Z
LAST-MODIFIED:20260402T024522Z
UID:10004039-1797746400-1797778800@journalofantiques.com
SUMMARY:Redwood Country Flea Market
DESCRIPTION:January-December: Wallingford\, CT\nRedwood Country Flea Market\n170 South Turnpike Road\nOpen Every Friday\, Saturday\, Sunday\nFri. 6am-1pm\, Sat./Sun. 6am-3pm\n203-269-3500\nwww.facebook.com/redwoodcountryfleamarket
URL:https://journalofantiques.com/event/redwood-country-flea-market-2/2026-12-20/
LOCATION:Redwood Country Flea Market\, 170 South Turnpike Road\, Wallingford\, CT\, United States
CATEGORIES:Antique Shows
END:VEVENT
BEGIN:VEVENT
DTSTART;TZID=America/New_York:20261225T060000
DTEND;TZID=America/New_York:20261225T130000
DTSTAMP:20260424T210133
CREATED:20251217T194342Z
LAST-MODIFIED:20260402T024403Z
UID:10003730-1798178400-1798203600@journalofantiques.com
SUMMARY:Redwood Country Flea Market
DESCRIPTION:January-December: Wallingford\, CT\nRedwood Country Flea Market\n170 South Turnpike Road\nOpen Every Friday\, Saturday\, Sunday\nFri. 6am-1pm\, Sat./Sun. 6am-3pm\n203-269-3500\nwww.facebook.com/redwoodcountryfleamarket
URL:https://journalofantiques.com/event/redwood-country-flea-market/2026-12-25/
LOCATION:Redwood Country Flea Market\, 170 South Turnpike Road\, Wallingford\, CT\, United States
CATEGORIES:Antique Shows
END:VEVENT
BEGIN:VEVENT
DTSTART;TZID=America/New_York:20261226T060000
DTEND;TZID=America/New_York:20261226T150000
DTSTAMP:20260424T210133
CREATED:20251217T194517Z
LAST-MODIFIED:20260402T024522Z
UID:10004040-1798264800-1798297200@journalofantiques.com
SUMMARY:Redwood Country Flea Market
DESCRIPTION:January-December: Wallingford\, CT\nRedwood Country Flea Market\n170 South Turnpike Road\nOpen Every Friday\, Saturday\, Sunday\nFri. 6am-1pm\, Sat./Sun. 6am-3pm\n203-269-3500\nwww.facebook.com/redwoodcountryfleamarket
URL:https://journalofantiques.com/event/redwood-country-flea-market-2/2026-12-26/
LOCATION:Redwood Country Flea Market\, 170 South Turnpike Road\, Wallingford\, CT\, United States
CATEGORIES:Antique Shows
END:VEVENT
BEGIN:VEVENT
DTSTART;TZID=America/New_York:20261227T060000
DTEND;TZID=America/New_York:20261227T150000
DTSTAMP:20260424T210133
CREATED:20251217T194517Z
LAST-MODIFIED:20260402T024522Z
UID:10004041-1798351200-1798383600@journalofantiques.com
SUMMARY:Redwood Country Flea Market
DESCRIPTION:January-December: Wallingford\, CT\nRedwood Country Flea Market\n170 South Turnpike Road\nOpen Every Friday\, Saturday\, Sunday\nFri. 6am-1pm\, Sat./Sun. 6am-3pm\n203-269-3500\nwww.facebook.com/redwoodcountryfleamarket
URL:https://journalofantiques.com/event/redwood-country-flea-market-2/2026-12-27/
LOCATION:Redwood Country Flea Market\, 170 South Turnpike Road\, Wallingford\, CT\, United States
CATEGORIES:Antique Shows
END:VEVENT
BEGIN:VEVENT
DTSTART;TZID=America/New_York:20270101T060000
DTEND;TZID=America/New_York:20270101T130000
DTSTAMP:20260424T210133
CREATED:20251217T194342Z
LAST-MODIFIED:20260402T024403Z
UID:10003731-1798783200-1798808400@journalofantiques.com
SUMMARY:Redwood Country Flea Market
DESCRIPTION:January-December: Wallingford\, CT\nRedwood Country Flea Market\n170 South Turnpike Road\nOpen Every Friday\, Saturday\, Sunday\nFri. 6am-1pm\, Sat./Sun. 6am-3pm\n203-269-3500\nwww.facebook.com/redwoodcountryfleamarket
URL:https://journalofantiques.com/event/redwood-country-flea-market/2027-01-01/
LOCATION:Redwood Country Flea Market\, 170 South Turnpike Road\, Wallingford\, CT\, United States
CATEGORIES:Antique Shows
END:VEVENT
BEGIN:VEVENT
DTSTART;TZID=America/New_York:20270102T060000
DTEND;TZID=America/New_York:20270102T150000
DTSTAMP:20260424T210133
CREATED:20251217T194517Z
LAST-MODIFIED:20260402T024522Z
UID:10004042-1798869600-1798902000@journalofantiques.com
SUMMARY:Redwood Country Flea Market
DESCRIPTION:January-December: Wallingford\, CT\nRedwood Country Flea Market\n170 South Turnpike Road\nOpen Every Friday\, Saturday\, Sunday\nFri. 6am-1pm\, Sat./Sun. 6am-3pm\n203-269-3500\nwww.facebook.com/redwoodcountryfleamarket
URL:https://journalofantiques.com/event/redwood-country-flea-market-2/2027-01-02/
LOCATION:Redwood Country Flea Market\, 170 South Turnpike Road\, Wallingford\, CT\, United States
CATEGORIES:Antique Shows
END:VEVENT
BEGIN:VEVENT
DTSTART;TZID=America/New_York:20270103T060000
DTEND;TZID=America/New_York:20270103T150000
DTSTAMP:20260424T210133
CREATED:20251217T194517Z
LAST-MODIFIED:20260402T024522Z
UID:10004043-1798956000-1798988400@journalofantiques.com
SUMMARY:Redwood Country Flea Market
DESCRIPTION:January-December: Wallingford\, CT\nRedwood Country Flea Market\n170 South Turnpike Road\nOpen Every Friday\, Saturday\, Sunday\nFri. 6am-1pm\, Sat./Sun. 6am-3pm\n203-269-3500\nwww.facebook.com/redwoodcountryfleamarket
URL:https://journalofantiques.com/event/redwood-country-flea-market-2/2027-01-03/
LOCATION:Redwood Country Flea Market\, 170 South Turnpike Road\, Wallingford\, CT\, United States
CATEGORIES:Antique Shows
END:VEVENT
END:VCALENDAR