    BEGIN:VCALENDAR
VERSION:2.0
PRODID:-//The Journal of Antiques and Collectibles - ECPv6.15.20//NONSGML v1.0//EN
CALSCALE:GREGORIAN
METHOD:PUBLISH
X-ORIGINAL-URL:https://journalofantiques.com
X-WR-CALDESC:Events for The Journal of Antiques and Collectibles
REFRESH-INTERVAL;VALUE=DURATION:PT1H
X-Robots-Tag:noindex
X-PUBLISHED-TTL:PT1H
BEGIN:VTIMEZONE
TZID:America/New_York
BEGIN:DAYLIGHT
TZOFFSETFROM:-0500
TZOFFSETTO:-0400
TZNAME:EDT
DTSTART:20280312T070000
END:DAYLIGHT
BEGIN:STANDARD
TZOFFSETFROM:-0400
TZOFFSETTO:-0500
TZNAME:EST
DTSTART:20281105T060000
END:STANDARD
BEGIN:DAYLIGHT
TZOFFSETFROM:-0500
TZOFFSETTO:-0400
TZNAME:EDT
DTSTART:20290311T070000
END:DAYLIGHT
BEGIN:STANDARD
TZOFFSETFROM:-0400
TZOFFSETTO:-0500
TZNAME:EST
DTSTART:20291104T060000
END:STANDARD
BEGIN:DAYLIGHT
TZOFFSETFROM:-0500
TZOFFSETTO:-0400
TZNAME:EDT
DTSTART:20300310T070000
END:DAYLIGHT
BEGIN:STANDARD
TZOFFSETFROM:-0400
TZOFFSETTO:-0500
TZNAME:EST
DTSTART:20301103T060000
END:STANDARD
END:VTIMEZONE
BEGIN:VEVENT
DTSTART;TZID=America/New_York:20290520T100000
DTEND;TZID=America/New_York:20290520T170000
DTSTAMP:20260425T084842
CREATED:20251217T194809Z
LAST-MODIFIED:20260122T032027Z
UID:10004632-1873965600-1873990800@journalofantiques.com
SUMMARY:The Flea Market at Eastern Market
DESCRIPTION:January-December: Washington\, D.C.\nThe Flea Market at Eastern Market\n7th & C Street SE\, Capital Hill\nEvery Sunday\, 10am-5pm\nDiverse Markets\, 202-215-6993\ninfo@easternmarket.net\nwww.easternmarket.net
URL:https://journalofantiques.com/event/the-flea-market-at-eastern-market/2029-05-20/
LOCATION:The Flea Market at Eastern Market\, 7th & C Street SE\, Capital Hill\, Washington\, DC\, United States
CATEGORIES:Antique Shows
END:VEVENT
BEGIN:VEVENT
DTSTART;TZID=America/New_York:20290527T100000
DTEND;TZID=America/New_York:20290527T170000
DTSTAMP:20260425T084842
CREATED:20251217T194809Z
LAST-MODIFIED:20260122T032027Z
UID:10004633-1874570400-1874595600@journalofantiques.com
SUMMARY:The Flea Market at Eastern Market
DESCRIPTION:January-December: Washington\, D.C.\nThe Flea Market at Eastern Market\n7th & C Street SE\, Capital Hill\nEvery Sunday\, 10am-5pm\nDiverse Markets\, 202-215-6993\ninfo@easternmarket.net\nwww.easternmarket.net
URL:https://journalofantiques.com/event/the-flea-market-at-eastern-market/2029-05-27/
LOCATION:The Flea Market at Eastern Market\, 7th & C Street SE\, Capital Hill\, Washington\, DC\, United States
CATEGORIES:Antique Shows
END:VEVENT
BEGIN:VEVENT
DTSTART;TZID=America/New_York:20290603T100000
DTEND;TZID=America/New_York:20290603T170000
DTSTAMP:20260425T084842
CREATED:20251217T194809Z
LAST-MODIFIED:20260122T032027Z
UID:10004634-1875175200-1875200400@journalofantiques.com
SUMMARY:The Flea Market at Eastern Market
DESCRIPTION:January-December: Washington\, D.C.\nThe Flea Market at Eastern Market\n7th & C Street SE\, Capital Hill\nEvery Sunday\, 10am-5pm\nDiverse Markets\, 202-215-6993\ninfo@easternmarket.net\nwww.easternmarket.net
URL:https://journalofantiques.com/event/the-flea-market-at-eastern-market/2029-06-03/
LOCATION:The Flea Market at Eastern Market\, 7th & C Street SE\, Capital Hill\, Washington\, DC\, United States
CATEGORIES:Antique Shows
END:VEVENT
BEGIN:VEVENT
DTSTART;TZID=America/New_York:20290610T100000
DTEND;TZID=America/New_York:20290610T170000
DTSTAMP:20260425T084842
CREATED:20251217T194809Z
LAST-MODIFIED:20260122T032027Z
UID:10004635-1875780000-1875805200@journalofantiques.com
SUMMARY:The Flea Market at Eastern Market
DESCRIPTION:January-December: Washington\, D.C.\nThe Flea Market at Eastern Market\n7th & C Street SE\, Capital Hill\nEvery Sunday\, 10am-5pm\nDiverse Markets\, 202-215-6993\ninfo@easternmarket.net\nwww.easternmarket.net
URL:https://journalofantiques.com/event/the-flea-market-at-eastern-market/2029-06-10/
LOCATION:The Flea Market at Eastern Market\, 7th & C Street SE\, Capital Hill\, Washington\, DC\, United States
CATEGORIES:Antique Shows
END:VEVENT
BEGIN:VEVENT
DTSTART;TZID=America/New_York:20290617T100000
DTEND;TZID=America/New_York:20290617T170000
DTSTAMP:20260425T084842
CREATED:20251217T194809Z
LAST-MODIFIED:20260122T032027Z
UID:10004636-1876384800-1876410000@journalofantiques.com
SUMMARY:The Flea Market at Eastern Market
DESCRIPTION:January-December: Washington\, D.C.\nThe Flea Market at Eastern Market\n7th & C Street SE\, Capital Hill\nEvery Sunday\, 10am-5pm\nDiverse Markets\, 202-215-6993\ninfo@easternmarket.net\nwww.easternmarket.net
URL:https://journalofantiques.com/event/the-flea-market-at-eastern-market/2029-06-17/
LOCATION:The Flea Market at Eastern Market\, 7th & C Street SE\, Capital Hill\, Washington\, DC\, United States
CATEGORIES:Antique Shows
END:VEVENT
BEGIN:VEVENT
DTSTART;TZID=America/New_York:20290624T100000
DTEND;TZID=America/New_York:20290624T170000
DTSTAMP:20260425T084842
CREATED:20251217T194809Z
LAST-MODIFIED:20260122T032027Z
UID:10004637-1876989600-1877014800@journalofantiques.com
SUMMARY:The Flea Market at Eastern Market
DESCRIPTION:January-December: Washington\, D.C.\nThe Flea Market at Eastern Market\n7th & C Street SE\, Capital Hill\nEvery Sunday\, 10am-5pm\nDiverse Markets\, 202-215-6993\ninfo@easternmarket.net\nwww.easternmarket.net
URL:https://journalofantiques.com/event/the-flea-market-at-eastern-market/2029-06-24/
LOCATION:The Flea Market at Eastern Market\, 7th & C Street SE\, Capital Hill\, Washington\, DC\, United States
CATEGORIES:Antique Shows
END:VEVENT
BEGIN:VEVENT
DTSTART;TZID=America/New_York:20290701T100000
DTEND;TZID=America/New_York:20290701T170000
DTSTAMP:20260425T084842
CREATED:20251217T194809Z
LAST-MODIFIED:20260122T032027Z
UID:10004638-1877594400-1877619600@journalofantiques.com
SUMMARY:The Flea Market at Eastern Market
DESCRIPTION:January-December: Washington\, D.C.\nThe Flea Market at Eastern Market\n7th & C Street SE\, Capital Hill\nEvery Sunday\, 10am-5pm\nDiverse Markets\, 202-215-6993\ninfo@easternmarket.net\nwww.easternmarket.net
URL:https://journalofantiques.com/event/the-flea-market-at-eastern-market/2029-07-01/
LOCATION:The Flea Market at Eastern Market\, 7th & C Street SE\, Capital Hill\, Washington\, DC\, United States
CATEGORIES:Antique Shows
END:VEVENT
BEGIN:VEVENT
DTSTART;TZID=America/New_York:20290708T100000
DTEND;TZID=America/New_York:20290708T170000
DTSTAMP:20260425T084842
CREATED:20251217T194809Z
LAST-MODIFIED:20260122T032027Z
UID:10004639-1878199200-1878224400@journalofantiques.com
SUMMARY:The Flea Market at Eastern Market
DESCRIPTION:January-December: Washington\, D.C.\nThe Flea Market at Eastern Market\n7th & C Street SE\, Capital Hill\nEvery Sunday\, 10am-5pm\nDiverse Markets\, 202-215-6993\ninfo@easternmarket.net\nwww.easternmarket.net
URL:https://journalofantiques.com/event/the-flea-market-at-eastern-market/2029-07-08/
LOCATION:The Flea Market at Eastern Market\, 7th & C Street SE\, Capital Hill\, Washington\, DC\, United States
CATEGORIES:Antique Shows
END:VEVENT
BEGIN:VEVENT
DTSTART;TZID=America/New_York:20290715T100000
DTEND;TZID=America/New_York:20290715T170000
DTSTAMP:20260425T084842
CREATED:20251217T194809Z
LAST-MODIFIED:20260122T032027Z
UID:10004640-1878804000-1878829200@journalofantiques.com
SUMMARY:The Flea Market at Eastern Market
DESCRIPTION:January-December: Washington\, D.C.\nThe Flea Market at Eastern Market\n7th & C Street SE\, Capital Hill\nEvery Sunday\, 10am-5pm\nDiverse Markets\, 202-215-6993\ninfo@easternmarket.net\nwww.easternmarket.net
URL:https://journalofantiques.com/event/the-flea-market-at-eastern-market/2029-07-15/
LOCATION:The Flea Market at Eastern Market\, 7th & C Street SE\, Capital Hill\, Washington\, DC\, United States
CATEGORIES:Antique Shows
END:VEVENT
BEGIN:VEVENT
DTSTART;TZID=America/New_York:20290722T100000
DTEND;TZID=America/New_York:20290722T170000
DTSTAMP:20260425T084842
CREATED:20251217T194809Z
LAST-MODIFIED:20260122T032027Z
UID:10004641-1879408800-1879434000@journalofantiques.com
SUMMARY:The Flea Market at Eastern Market
DESCRIPTION:January-December: Washington\, D.C.\nThe Flea Market at Eastern Market\n7th & C Street SE\, Capital Hill\nEvery Sunday\, 10am-5pm\nDiverse Markets\, 202-215-6993\ninfo@easternmarket.net\nwww.easternmarket.net
URL:https://journalofantiques.com/event/the-flea-market-at-eastern-market/2029-07-22/
LOCATION:The Flea Market at Eastern Market\, 7th & C Street SE\, Capital Hill\, Washington\, DC\, United States
CATEGORIES:Antique Shows
END:VEVENT
BEGIN:VEVENT
DTSTART;TZID=America/New_York:20290729T100000
DTEND;TZID=America/New_York:20290729T170000
DTSTAMP:20260425T084842
CREATED:20251217T194809Z
LAST-MODIFIED:20260122T032027Z
UID:10004642-1880013600-1880038800@journalofantiques.com
SUMMARY:The Flea Market at Eastern Market
DESCRIPTION:January-December: Washington\, D.C.\nThe Flea Market at Eastern Market\n7th & C Street SE\, Capital Hill\nEvery Sunday\, 10am-5pm\nDiverse Markets\, 202-215-6993\ninfo@easternmarket.net\nwww.easternmarket.net
URL:https://journalofantiques.com/event/the-flea-market-at-eastern-market/2029-07-29/
LOCATION:The Flea Market at Eastern Market\, 7th & C Street SE\, Capital Hill\, Washington\, DC\, United States
CATEGORIES:Antique Shows
END:VEVENT
BEGIN:VEVENT
DTSTART;TZID=America/New_York:20290805T100000
DTEND;TZID=America/New_York:20290805T170000
DTSTAMP:20260425T084842
CREATED:20251217T194809Z
LAST-MODIFIED:20260122T032027Z
UID:10004643-1880618400-1880643600@journalofantiques.com
SUMMARY:The Flea Market at Eastern Market
DESCRIPTION:January-December: Washington\, D.C.\nThe Flea Market at Eastern Market\n7th & C Street SE\, Capital Hill\nEvery Sunday\, 10am-5pm\nDiverse Markets\, 202-215-6993\ninfo@easternmarket.net\nwww.easternmarket.net
URL:https://journalofantiques.com/event/the-flea-market-at-eastern-market/2029-08-05/
LOCATION:The Flea Market at Eastern Market\, 7th & C Street SE\, Capital Hill\, Washington\, DC\, United States
CATEGORIES:Antique Shows
END:VEVENT
BEGIN:VEVENT
DTSTART;TZID=America/New_York:20290812T100000
DTEND;TZID=America/New_York:20290812T170000
DTSTAMP:20260425T084842
CREATED:20251217T194809Z
LAST-MODIFIED:20260122T032027Z
UID:10004644-1881223200-1881248400@journalofantiques.com
SUMMARY:The Flea Market at Eastern Market
DESCRIPTION:January-December: Washington\, D.C.\nThe Flea Market at Eastern Market\n7th & C Street SE\, Capital Hill\nEvery Sunday\, 10am-5pm\nDiverse Markets\, 202-215-6993\ninfo@easternmarket.net\nwww.easternmarket.net
URL:https://journalofantiques.com/event/the-flea-market-at-eastern-market/2029-08-12/
LOCATION:The Flea Market at Eastern Market\, 7th & C Street SE\, Capital Hill\, Washington\, DC\, United States
CATEGORIES:Antique Shows
END:VEVENT
BEGIN:VEVENT
DTSTART;TZID=America/New_York:20290819T100000
DTEND;TZID=America/New_York:20290819T170000
DTSTAMP:20260425T084842
CREATED:20251217T194809Z
LAST-MODIFIED:20260122T032027Z
UID:10004645-1881828000-1881853200@journalofantiques.com
SUMMARY:The Flea Market at Eastern Market
DESCRIPTION:January-December: Washington\, D.C.\nThe Flea Market at Eastern Market\n7th & C Street SE\, Capital Hill\nEvery Sunday\, 10am-5pm\nDiverse Markets\, 202-215-6993\ninfo@easternmarket.net\nwww.easternmarket.net
URL:https://journalofantiques.com/event/the-flea-market-at-eastern-market/2029-08-19/
LOCATION:The Flea Market at Eastern Market\, 7th & C Street SE\, Capital Hill\, Washington\, DC\, United States
CATEGORIES:Antique Shows
END:VEVENT
BEGIN:VEVENT
DTSTART;TZID=America/New_York:20290826T100000
DTEND;TZID=America/New_York:20290826T170000
DTSTAMP:20260425T084842
CREATED:20251217T194809Z
LAST-MODIFIED:20260122T032027Z
UID:10004646-1882432800-1882458000@journalofantiques.com
SUMMARY:The Flea Market at Eastern Market
DESCRIPTION:January-December: Washington\, D.C.\nThe Flea Market at Eastern Market\n7th & C Street SE\, Capital Hill\nEvery Sunday\, 10am-5pm\nDiverse Markets\, 202-215-6993\ninfo@easternmarket.net\nwww.easternmarket.net
URL:https://journalofantiques.com/event/the-flea-market-at-eastern-market/2029-08-26/
LOCATION:The Flea Market at Eastern Market\, 7th & C Street SE\, Capital Hill\, Washington\, DC\, United States
CATEGORIES:Antique Shows
END:VEVENT
BEGIN:VEVENT
DTSTART;TZID=America/New_York:20290902T100000
DTEND;TZID=America/New_York:20290902T170000
DTSTAMP:20260425T084842
CREATED:20251217T194809Z
LAST-MODIFIED:20260122T032027Z
UID:10004647-1883037600-1883062800@journalofantiques.com
SUMMARY:The Flea Market at Eastern Market
DESCRIPTION:January-December: Washington\, D.C.\nThe Flea Market at Eastern Market\n7th & C Street SE\, Capital Hill\nEvery Sunday\, 10am-5pm\nDiverse Markets\, 202-215-6993\ninfo@easternmarket.net\nwww.easternmarket.net
URL:https://journalofantiques.com/event/the-flea-market-at-eastern-market/2029-09-02/
LOCATION:The Flea Market at Eastern Market\, 7th & C Street SE\, Capital Hill\, Washington\, DC\, United States
CATEGORIES:Antique Shows
END:VEVENT
BEGIN:VEVENT
DTSTART;TZID=America/New_York:20290909T100000
DTEND;TZID=America/New_York:20290909T170000
DTSTAMP:20260425T084842
CREATED:20251217T194809Z
LAST-MODIFIED:20260122T032027Z
UID:10004648-1883642400-1883667600@journalofantiques.com
SUMMARY:The Flea Market at Eastern Market
DESCRIPTION:January-December: Washington\, D.C.\nThe Flea Market at Eastern Market\n7th & C Street SE\, Capital Hill\nEvery Sunday\, 10am-5pm\nDiverse Markets\, 202-215-6993\ninfo@easternmarket.net\nwww.easternmarket.net
URL:https://journalofantiques.com/event/the-flea-market-at-eastern-market/2029-09-09/
LOCATION:The Flea Market at Eastern Market\, 7th & C Street SE\, Capital Hill\, Washington\, DC\, United States
CATEGORIES:Antique Shows
END:VEVENT
BEGIN:VEVENT
DTSTART;TZID=America/New_York:20290916T100000
DTEND;TZID=America/New_York:20290916T170000
DTSTAMP:20260425T084842
CREATED:20251217T194809Z
LAST-MODIFIED:20260122T032027Z
UID:10004649-1884247200-1884272400@journalofantiques.com
SUMMARY:The Flea Market at Eastern Market
DESCRIPTION:January-December: Washington\, D.C.\nThe Flea Market at Eastern Market\n7th & C Street SE\, Capital Hill\nEvery Sunday\, 10am-5pm\nDiverse Markets\, 202-215-6993\ninfo@easternmarket.net\nwww.easternmarket.net
URL:https://journalofantiques.com/event/the-flea-market-at-eastern-market/2029-09-16/
LOCATION:The Flea Market at Eastern Market\, 7th & C Street SE\, Capital Hill\, Washington\, DC\, United States
CATEGORIES:Antique Shows
END:VEVENT
BEGIN:VEVENT
DTSTART;TZID=America/New_York:20290923T100000
DTEND;TZID=America/New_York:20290923T170000
DTSTAMP:20260425T084842
CREATED:20251217T194809Z
LAST-MODIFIED:20260122T032027Z
UID:10004650-1884852000-1884877200@journalofantiques.com
SUMMARY:The Flea Market at Eastern Market
DESCRIPTION:January-December: Washington\, D.C.\nThe Flea Market at Eastern Market\n7th & C Street SE\, Capital Hill\nEvery Sunday\, 10am-5pm\nDiverse Markets\, 202-215-6993\ninfo@easternmarket.net\nwww.easternmarket.net
URL:https://journalofantiques.com/event/the-flea-market-at-eastern-market/2029-09-23/
LOCATION:The Flea Market at Eastern Market\, 7th & C Street SE\, Capital Hill\, Washington\, DC\, United States
CATEGORIES:Antique Shows
END:VEVENT
BEGIN:VEVENT
DTSTART;TZID=America/New_York:20290930T100000
DTEND;TZID=America/New_York:20290930T170000
DTSTAMP:20260425T084842
CREATED:20251217T194809Z
LAST-MODIFIED:20260122T032027Z
UID:10004651-1885456800-1885482000@journalofantiques.com
SUMMARY:The Flea Market at Eastern Market
DESCRIPTION:January-December: Washington\, D.C.\nThe Flea Market at Eastern Market\n7th & C Street SE\, Capital Hill\nEvery Sunday\, 10am-5pm\nDiverse Markets\, 202-215-6993\ninfo@easternmarket.net\nwww.easternmarket.net
URL:https://journalofantiques.com/event/the-flea-market-at-eastern-market/2029-09-30/
LOCATION:The Flea Market at Eastern Market\, 7th & C Street SE\, Capital Hill\, Washington\, DC\, United States
CATEGORIES:Antique Shows
END:VEVENT
BEGIN:VEVENT
DTSTART;TZID=America/New_York:20291007T100000
DTEND;TZID=America/New_York:20291007T170000
DTSTAMP:20260425T084842
CREATED:20251217T194809Z
LAST-MODIFIED:20260122T032027Z
UID:10004652-1886061600-1886086800@journalofantiques.com
SUMMARY:The Flea Market at Eastern Market
DESCRIPTION:January-December: Washington\, D.C.\nThe Flea Market at Eastern Market\n7th & C Street SE\, Capital Hill\nEvery Sunday\, 10am-5pm\nDiverse Markets\, 202-215-6993\ninfo@easternmarket.net\nwww.easternmarket.net
URL:https://journalofantiques.com/event/the-flea-market-at-eastern-market/2029-10-07/
LOCATION:The Flea Market at Eastern Market\, 7th & C Street SE\, Capital Hill\, Washington\, DC\, United States
CATEGORIES:Antique Shows
END:VEVENT
BEGIN:VEVENT
DTSTART;TZID=America/New_York:20291014T100000
DTEND;TZID=America/New_York:20291014T170000
DTSTAMP:20260425T084842
CREATED:20251217T194809Z
LAST-MODIFIED:20260122T032027Z
UID:10004653-1886666400-1886691600@journalofantiques.com
SUMMARY:The Flea Market at Eastern Market
DESCRIPTION:January-December: Washington\, D.C.\nThe Flea Market at Eastern Market\n7th & C Street SE\, Capital Hill\nEvery Sunday\, 10am-5pm\nDiverse Markets\, 202-215-6993\ninfo@easternmarket.net\nwww.easternmarket.net
URL:https://journalofantiques.com/event/the-flea-market-at-eastern-market/2029-10-14/
LOCATION:The Flea Market at Eastern Market\, 7th & C Street SE\, Capital Hill\, Washington\, DC\, United States
CATEGORIES:Antique Shows
END:VEVENT
BEGIN:VEVENT
DTSTART;TZID=America/New_York:20291021T100000
DTEND;TZID=America/New_York:20291021T170000
DTSTAMP:20260425T084842
CREATED:20251217T194809Z
LAST-MODIFIED:20260122T032027Z
UID:10004654-1887271200-1887296400@journalofantiques.com
SUMMARY:The Flea Market at Eastern Market
DESCRIPTION:January-December: Washington\, D.C.\nThe Flea Market at Eastern Market\n7th & C Street SE\, Capital Hill\nEvery Sunday\, 10am-5pm\nDiverse Markets\, 202-215-6993\ninfo@easternmarket.net\nwww.easternmarket.net
URL:https://journalofantiques.com/event/the-flea-market-at-eastern-market/2029-10-21/
LOCATION:The Flea Market at Eastern Market\, 7th & C Street SE\, Capital Hill\, Washington\, DC\, United States
CATEGORIES:Antique Shows
END:VEVENT
BEGIN:VEVENT
DTSTART;TZID=America/New_York:20291028T100000
DTEND;TZID=America/New_York:20291028T170000
DTSTAMP:20260425T084842
CREATED:20251217T194809Z
LAST-MODIFIED:20260122T032027Z
UID:10004655-1887876000-1887901200@journalofantiques.com
SUMMARY:The Flea Market at Eastern Market
DESCRIPTION:January-December: Washington\, D.C.\nThe Flea Market at Eastern Market\n7th & C Street SE\, Capital Hill\nEvery Sunday\, 10am-5pm\nDiverse Markets\, 202-215-6993\ninfo@easternmarket.net\nwww.easternmarket.net
URL:https://journalofantiques.com/event/the-flea-market-at-eastern-market/2029-10-28/
LOCATION:The Flea Market at Eastern Market\, 7th & C Street SE\, Capital Hill\, Washington\, DC\, United States
CATEGORIES:Antique Shows
END:VEVENT
BEGIN:VEVENT
DTSTART;TZID=America/New_York:20291104T100000
DTEND;TZID=America/New_York:20291104T170000
DTSTAMP:20260425T084842
CREATED:20251217T194809Z
LAST-MODIFIED:20260122T032027Z
UID:10004656-1888480800-1888506000@journalofantiques.com
SUMMARY:The Flea Market at Eastern Market
DESCRIPTION:January-December: Washington\, D.C.\nThe Flea Market at Eastern Market\n7th & C Street SE\, Capital Hill\nEvery Sunday\, 10am-5pm\nDiverse Markets\, 202-215-6993\ninfo@easternmarket.net\nwww.easternmarket.net
URL:https://journalofantiques.com/event/the-flea-market-at-eastern-market/2029-11-04/
LOCATION:The Flea Market at Eastern Market\, 7th & C Street SE\, Capital Hill\, Washington\, DC\, United States
CATEGORIES:Antique Shows
END:VEVENT
BEGIN:VEVENT
DTSTART;TZID=America/New_York:20291111T100000
DTEND;TZID=America/New_York:20291111T170000
DTSTAMP:20260425T084842
CREATED:20251217T194809Z
LAST-MODIFIED:20260122T032027Z
UID:10004657-1889085600-1889110800@journalofantiques.com
SUMMARY:The Flea Market at Eastern Market
DESCRIPTION:January-December: Washington\, D.C.\nThe Flea Market at Eastern Market\n7th & C Street SE\, Capital Hill\nEvery Sunday\, 10am-5pm\nDiverse Markets\, 202-215-6993\ninfo@easternmarket.net\nwww.easternmarket.net
URL:https://journalofantiques.com/event/the-flea-market-at-eastern-market/2029-11-11/
LOCATION:The Flea Market at Eastern Market\, 7th & C Street SE\, Capital Hill\, Washington\, DC\, United States
CATEGORIES:Antique Shows
END:VEVENT
BEGIN:VEVENT
DTSTART;TZID=America/New_York:20291118T100000
DTEND;TZID=America/New_York:20291118T170000
DTSTAMP:20260425T084842
CREATED:20251217T194809Z
LAST-MODIFIED:20260122T032027Z
UID:10004658-1889690400-1889715600@journalofantiques.com
SUMMARY:The Flea Market at Eastern Market
DESCRIPTION:January-December: Washington\, D.C.\nThe Flea Market at Eastern Market\n7th & C Street SE\, Capital Hill\nEvery Sunday\, 10am-5pm\nDiverse Markets\, 202-215-6993\ninfo@easternmarket.net\nwww.easternmarket.net
URL:https://journalofantiques.com/event/the-flea-market-at-eastern-market/2029-11-18/
LOCATION:The Flea Market at Eastern Market\, 7th & C Street SE\, Capital Hill\, Washington\, DC\, United States
CATEGORIES:Antique Shows
END:VEVENT
BEGIN:VEVENT
DTSTART;TZID=America/New_York:20291125T100000
DTEND;TZID=America/New_York:20291125T170000
DTSTAMP:20260425T084842
CREATED:20251217T194809Z
LAST-MODIFIED:20260122T032027Z
UID:10004659-1890295200-1890320400@journalofantiques.com
SUMMARY:The Flea Market at Eastern Market
DESCRIPTION:January-December: Washington\, D.C.\nThe Flea Market at Eastern Market\n7th & C Street SE\, Capital Hill\nEvery Sunday\, 10am-5pm\nDiverse Markets\, 202-215-6993\ninfo@easternmarket.net\nwww.easternmarket.net
URL:https://journalofantiques.com/event/the-flea-market-at-eastern-market/2029-11-25/
LOCATION:The Flea Market at Eastern Market\, 7th & C Street SE\, Capital Hill\, Washington\, DC\, United States
CATEGORIES:Antique Shows
END:VEVENT
BEGIN:VEVENT
DTSTART;TZID=America/New_York:20291202T100000
DTEND;TZID=America/New_York:20291202T170000
DTSTAMP:20260425T084842
CREATED:20251217T194809Z
LAST-MODIFIED:20260122T032027Z
UID:10004660-1890900000-1890925200@journalofantiques.com
SUMMARY:The Flea Market at Eastern Market
DESCRIPTION:January-December: Washington\, D.C.\nThe Flea Market at Eastern Market\n7th & C Street SE\, Capital Hill\nEvery Sunday\, 10am-5pm\nDiverse Markets\, 202-215-6993\ninfo@easternmarket.net\nwww.easternmarket.net
URL:https://journalofantiques.com/event/the-flea-market-at-eastern-market/2029-12-02/
LOCATION:The Flea Market at Eastern Market\, 7th & C Street SE\, Capital Hill\, Washington\, DC\, United States
CATEGORIES:Antique Shows
END:VEVENT
BEGIN:VEVENT
DTSTART;TZID=America/New_York:20291209T100000
DTEND;TZID=America/New_York:20291209T170000
DTSTAMP:20260425T084842
CREATED:20251217T194809Z
LAST-MODIFIED:20260122T032027Z
UID:10004661-1891504800-1891530000@journalofantiques.com
SUMMARY:The Flea Market at Eastern Market
DESCRIPTION:January-December: Washington\, D.C.\nThe Flea Market at Eastern Market\n7th & C Street SE\, Capital Hill\nEvery Sunday\, 10am-5pm\nDiverse Markets\, 202-215-6993\ninfo@easternmarket.net\nwww.easternmarket.net
URL:https://journalofantiques.com/event/the-flea-market-at-eastern-market/2029-12-09/
LOCATION:The Flea Market at Eastern Market\, 7th & C Street SE\, Capital Hill\, Washington\, DC\, United States
CATEGORIES:Antique Shows
END:VEVENT
END:VCALENDAR