    BEGIN:VCALENDAR
VERSION:2.0
PRODID:-//The Journal of Antiques and Collectibles - ECPv6.15.20//NONSGML v1.0//EN
CALSCALE:GREGORIAN
METHOD:PUBLISH
X-ORIGINAL-URL:https://journalofantiques.com
X-WR-CALDESC:Events for The Journal of Antiques and Collectibles
REFRESH-INTERVAL;VALUE=DURATION:PT1H
X-Robots-Tag:noindex
X-PUBLISHED-TTL:PT1H
BEGIN:VTIMEZONE
TZID:America/New_York
BEGIN:DAYLIGHT
TZOFFSETFROM:-0500
TZOFFSETTO:-0400
TZNAME:EDT
DTSTART:20250309T070000
END:DAYLIGHT
BEGIN:STANDARD
TZOFFSETFROM:-0400
TZOFFSETTO:-0500
TZNAME:EST
DTSTART:20251102T060000
END:STANDARD
BEGIN:DAYLIGHT
TZOFFSETFROM:-0500
TZOFFSETTO:-0400
TZNAME:EDT
DTSTART:20260308T070000
END:DAYLIGHT
BEGIN:STANDARD
TZOFFSETFROM:-0400
TZOFFSETTO:-0500
TZNAME:EST
DTSTART:20261101T060000
END:STANDARD
BEGIN:DAYLIGHT
TZOFFSETFROM:-0500
TZOFFSETTO:-0400
TZNAME:EDT
DTSTART:20270314T070000
END:DAYLIGHT
BEGIN:STANDARD
TZOFFSETFROM:-0400
TZOFFSETTO:-0500
TZNAME:EST
DTSTART:20271107T060000
END:STANDARD
BEGIN:DAYLIGHT
TZOFFSETFROM:-0500
TZOFFSETTO:-0400
TZNAME:EDT
DTSTART:20280312T070000
END:DAYLIGHT
BEGIN:STANDARD
TZOFFSETFROM:-0400
TZOFFSETTO:-0500
TZNAME:EST
DTSTART:20281105T060000
END:STANDARD
END:VTIMEZONE
BEGIN:VEVENT
DTSTART;TZID=America/New_York:20260705T100000
DTEND;TZID=America/New_York:20260705T170000
DTSTAMP:20260424T102441
CREATED:20251217T194809Z
LAST-MODIFIED:20260122T032027Z
UID:10004482-1783245600-1783270800@journalofantiques.com
SUMMARY:The Flea Market at Eastern Market
DESCRIPTION:January-December: Washington\, D.C.\nThe Flea Market at Eastern Market\n7th & C Street SE\, Capital Hill\nEvery Sunday\, 10am-5pm\nDiverse Markets\, 202-215-6993\ninfo@easternmarket.net\nwww.easternmarket.net
URL:https://journalofantiques.com/event/the-flea-market-at-eastern-market/2026-07-05/
LOCATION:The Flea Market at Eastern Market\, 7th & C Street SE\, Capital Hill\, Washington\, DC\, United States
CATEGORIES:Antique Shows
END:VEVENT
BEGIN:VEVENT
DTSTART;TZID=America/New_York:20260712T100000
DTEND;TZID=America/New_York:20260712T170000
DTSTAMP:20260424T102441
CREATED:20251217T194809Z
LAST-MODIFIED:20260122T032027Z
UID:10004483-1783850400-1783875600@journalofantiques.com
SUMMARY:The Flea Market at Eastern Market
DESCRIPTION:January-December: Washington\, D.C.\nThe Flea Market at Eastern Market\n7th & C Street SE\, Capital Hill\nEvery Sunday\, 10am-5pm\nDiverse Markets\, 202-215-6993\ninfo@easternmarket.net\nwww.easternmarket.net
URL:https://journalofantiques.com/event/the-flea-market-at-eastern-market/2026-07-12/
LOCATION:The Flea Market at Eastern Market\, 7th & C Street SE\, Capital Hill\, Washington\, DC\, United States
CATEGORIES:Antique Shows
END:VEVENT
BEGIN:VEVENT
DTSTART;TZID=America/New_York:20260719T100000
DTEND;TZID=America/New_York:20260719T170000
DTSTAMP:20260424T102441
CREATED:20251217T194809Z
LAST-MODIFIED:20260122T032027Z
UID:10004484-1784455200-1784480400@journalofantiques.com
SUMMARY:The Flea Market at Eastern Market
DESCRIPTION:January-December: Washington\, D.C.\nThe Flea Market at Eastern Market\n7th & C Street SE\, Capital Hill\nEvery Sunday\, 10am-5pm\nDiverse Markets\, 202-215-6993\ninfo@easternmarket.net\nwww.easternmarket.net
URL:https://journalofantiques.com/event/the-flea-market-at-eastern-market/2026-07-19/
LOCATION:The Flea Market at Eastern Market\, 7th & C Street SE\, Capital Hill\, Washington\, DC\, United States
CATEGORIES:Antique Shows
END:VEVENT
BEGIN:VEVENT
DTSTART;TZID=America/New_York:20260726T100000
DTEND;TZID=America/New_York:20260726T170000
DTSTAMP:20260424T102441
CREATED:20251217T194809Z
LAST-MODIFIED:20260122T032027Z
UID:10004485-1785060000-1785085200@journalofantiques.com
SUMMARY:The Flea Market at Eastern Market
DESCRIPTION:January-December: Washington\, D.C.\nThe Flea Market at Eastern Market\n7th & C Street SE\, Capital Hill\nEvery Sunday\, 10am-5pm\nDiverse Markets\, 202-215-6993\ninfo@easternmarket.net\nwww.easternmarket.net
URL:https://journalofantiques.com/event/the-flea-market-at-eastern-market/2026-07-26/
LOCATION:The Flea Market at Eastern Market\, 7th & C Street SE\, Capital Hill\, Washington\, DC\, United States
CATEGORIES:Antique Shows
END:VEVENT
BEGIN:VEVENT
DTSTART;TZID=America/New_York:20260802T100000
DTEND;TZID=America/New_York:20260802T170000
DTSTAMP:20260424T102441
CREATED:20251217T194809Z
LAST-MODIFIED:20260122T032027Z
UID:10004486-1785664800-1785690000@journalofantiques.com
SUMMARY:The Flea Market at Eastern Market
DESCRIPTION:January-December: Washington\, D.C.\nThe Flea Market at Eastern Market\n7th & C Street SE\, Capital Hill\nEvery Sunday\, 10am-5pm\nDiverse Markets\, 202-215-6993\ninfo@easternmarket.net\nwww.easternmarket.net
URL:https://journalofantiques.com/event/the-flea-market-at-eastern-market/2026-08-02/
LOCATION:The Flea Market at Eastern Market\, 7th & C Street SE\, Capital Hill\, Washington\, DC\, United States
CATEGORIES:Antique Shows
END:VEVENT
BEGIN:VEVENT
DTSTART;TZID=America/New_York:20260809T100000
DTEND;TZID=America/New_York:20260809T170000
DTSTAMP:20260424T102441
CREATED:20251217T194809Z
LAST-MODIFIED:20260122T032027Z
UID:10004487-1786269600-1786294800@journalofantiques.com
SUMMARY:The Flea Market at Eastern Market
DESCRIPTION:January-December: Washington\, D.C.\nThe Flea Market at Eastern Market\n7th & C Street SE\, Capital Hill\nEvery Sunday\, 10am-5pm\nDiverse Markets\, 202-215-6993\ninfo@easternmarket.net\nwww.easternmarket.net
URL:https://journalofantiques.com/event/the-flea-market-at-eastern-market/2026-08-09/
LOCATION:The Flea Market at Eastern Market\, 7th & C Street SE\, Capital Hill\, Washington\, DC\, United States
CATEGORIES:Antique Shows
END:VEVENT
BEGIN:VEVENT
DTSTART;TZID=America/New_York:20260816T100000
DTEND;TZID=America/New_York:20260816T170000
DTSTAMP:20260424T102441
CREATED:20251217T194809Z
LAST-MODIFIED:20260122T032027Z
UID:10004488-1786874400-1786899600@journalofantiques.com
SUMMARY:The Flea Market at Eastern Market
DESCRIPTION:January-December: Washington\, D.C.\nThe Flea Market at Eastern Market\n7th & C Street SE\, Capital Hill\nEvery Sunday\, 10am-5pm\nDiverse Markets\, 202-215-6993\ninfo@easternmarket.net\nwww.easternmarket.net
URL:https://journalofantiques.com/event/the-flea-market-at-eastern-market/2026-08-16/
LOCATION:The Flea Market at Eastern Market\, 7th & C Street SE\, Capital Hill\, Washington\, DC\, United States
CATEGORIES:Antique Shows
END:VEVENT
BEGIN:VEVENT
DTSTART;TZID=America/New_York:20260823T100000
DTEND;TZID=America/New_York:20260823T170000
DTSTAMP:20260424T102441
CREATED:20251217T194809Z
LAST-MODIFIED:20260122T032027Z
UID:10004489-1787479200-1787504400@journalofantiques.com
SUMMARY:The Flea Market at Eastern Market
DESCRIPTION:January-December: Washington\, D.C.\nThe Flea Market at Eastern Market\n7th & C Street SE\, Capital Hill\nEvery Sunday\, 10am-5pm\nDiverse Markets\, 202-215-6993\ninfo@easternmarket.net\nwww.easternmarket.net
URL:https://journalofantiques.com/event/the-flea-market-at-eastern-market/2026-08-23/
LOCATION:The Flea Market at Eastern Market\, 7th & C Street SE\, Capital Hill\, Washington\, DC\, United States
CATEGORIES:Antique Shows
END:VEVENT
BEGIN:VEVENT
DTSTART;TZID=America/New_York:20260830T100000
DTEND;TZID=America/New_York:20260830T170000
DTSTAMP:20260424T102441
CREATED:20251217T194809Z
LAST-MODIFIED:20260122T032027Z
UID:10004490-1788084000-1788109200@journalofantiques.com
SUMMARY:The Flea Market at Eastern Market
DESCRIPTION:January-December: Washington\, D.C.\nThe Flea Market at Eastern Market\n7th & C Street SE\, Capital Hill\nEvery Sunday\, 10am-5pm\nDiverse Markets\, 202-215-6993\ninfo@easternmarket.net\nwww.easternmarket.net
URL:https://journalofantiques.com/event/the-flea-market-at-eastern-market/2026-08-30/
LOCATION:The Flea Market at Eastern Market\, 7th & C Street SE\, Capital Hill\, Washington\, DC\, United States
CATEGORIES:Antique Shows
END:VEVENT
BEGIN:VEVENT
DTSTART;TZID=America/New_York:20260906T100000
DTEND;TZID=America/New_York:20260906T170000
DTSTAMP:20260424T102441
CREATED:20251217T194809Z
LAST-MODIFIED:20260122T032027Z
UID:10004491-1788688800-1788714000@journalofantiques.com
SUMMARY:The Flea Market at Eastern Market
DESCRIPTION:January-December: Washington\, D.C.\nThe Flea Market at Eastern Market\n7th & C Street SE\, Capital Hill\nEvery Sunday\, 10am-5pm\nDiverse Markets\, 202-215-6993\ninfo@easternmarket.net\nwww.easternmarket.net
URL:https://journalofantiques.com/event/the-flea-market-at-eastern-market/2026-09-06/
LOCATION:The Flea Market at Eastern Market\, 7th & C Street SE\, Capital Hill\, Washington\, DC\, United States
CATEGORIES:Antique Shows
END:VEVENT
BEGIN:VEVENT
DTSTART;TZID=America/New_York:20260913T100000
DTEND;TZID=America/New_York:20260913T170000
DTSTAMP:20260424T102441
CREATED:20251217T194809Z
LAST-MODIFIED:20260122T032027Z
UID:10004492-1789293600-1789318800@journalofantiques.com
SUMMARY:The Flea Market at Eastern Market
DESCRIPTION:January-December: Washington\, D.C.\nThe Flea Market at Eastern Market\n7th & C Street SE\, Capital Hill\nEvery Sunday\, 10am-5pm\nDiverse Markets\, 202-215-6993\ninfo@easternmarket.net\nwww.easternmarket.net
URL:https://journalofantiques.com/event/the-flea-market-at-eastern-market/2026-09-13/
LOCATION:The Flea Market at Eastern Market\, 7th & C Street SE\, Capital Hill\, Washington\, DC\, United States
CATEGORIES:Antique Shows
END:VEVENT
BEGIN:VEVENT
DTSTART;TZID=America/New_York:20260920T100000
DTEND;TZID=America/New_York:20260920T170000
DTSTAMP:20260424T102441
CREATED:20251217T194809Z
LAST-MODIFIED:20260122T032027Z
UID:10004493-1789898400-1789923600@journalofantiques.com
SUMMARY:The Flea Market at Eastern Market
DESCRIPTION:January-December: Washington\, D.C.\nThe Flea Market at Eastern Market\n7th & C Street SE\, Capital Hill\nEvery Sunday\, 10am-5pm\nDiverse Markets\, 202-215-6993\ninfo@easternmarket.net\nwww.easternmarket.net
URL:https://journalofantiques.com/event/the-flea-market-at-eastern-market/2026-09-20/
LOCATION:The Flea Market at Eastern Market\, 7th & C Street SE\, Capital Hill\, Washington\, DC\, United States
CATEGORIES:Antique Shows
END:VEVENT
BEGIN:VEVENT
DTSTART;TZID=America/New_York:20260927T100000
DTEND;TZID=America/New_York:20260927T170000
DTSTAMP:20260424T102441
CREATED:20251217T194809Z
LAST-MODIFIED:20260122T032027Z
UID:10004494-1790503200-1790528400@journalofantiques.com
SUMMARY:The Flea Market at Eastern Market
DESCRIPTION:January-December: Washington\, D.C.\nThe Flea Market at Eastern Market\n7th & C Street SE\, Capital Hill\nEvery Sunday\, 10am-5pm\nDiverse Markets\, 202-215-6993\ninfo@easternmarket.net\nwww.easternmarket.net
URL:https://journalofantiques.com/event/the-flea-market-at-eastern-market/2026-09-27/
LOCATION:The Flea Market at Eastern Market\, 7th & C Street SE\, Capital Hill\, Washington\, DC\, United States
CATEGORIES:Antique Shows
END:VEVENT
BEGIN:VEVENT
DTSTART;TZID=America/New_York:20261004T100000
DTEND;TZID=America/New_York:20261004T170000
DTSTAMP:20260424T102441
CREATED:20251217T194809Z
LAST-MODIFIED:20260122T032027Z
UID:10004495-1791108000-1791133200@journalofantiques.com
SUMMARY:The Flea Market at Eastern Market
DESCRIPTION:January-December: Washington\, D.C.\nThe Flea Market at Eastern Market\n7th & C Street SE\, Capital Hill\nEvery Sunday\, 10am-5pm\nDiverse Markets\, 202-215-6993\ninfo@easternmarket.net\nwww.easternmarket.net
URL:https://journalofantiques.com/event/the-flea-market-at-eastern-market/2026-10-04/
LOCATION:The Flea Market at Eastern Market\, 7th & C Street SE\, Capital Hill\, Washington\, DC\, United States
CATEGORIES:Antique Shows
END:VEVENT
BEGIN:VEVENT
DTSTART;TZID=America/New_York:20261011T100000
DTEND;TZID=America/New_York:20261011T170000
DTSTAMP:20260424T102441
CREATED:20251217T194809Z
LAST-MODIFIED:20260122T032027Z
UID:10004496-1791712800-1791738000@journalofantiques.com
SUMMARY:The Flea Market at Eastern Market
DESCRIPTION:January-December: Washington\, D.C.\nThe Flea Market at Eastern Market\n7th & C Street SE\, Capital Hill\nEvery Sunday\, 10am-5pm\nDiverse Markets\, 202-215-6993\ninfo@easternmarket.net\nwww.easternmarket.net
URL:https://journalofantiques.com/event/the-flea-market-at-eastern-market/2026-10-11/
LOCATION:The Flea Market at Eastern Market\, 7th & C Street SE\, Capital Hill\, Washington\, DC\, United States
CATEGORIES:Antique Shows
END:VEVENT
BEGIN:VEVENT
DTSTART;TZID=America/New_York:20261018T100000
DTEND;TZID=America/New_York:20261018T170000
DTSTAMP:20260424T102441
CREATED:20251217T194809Z
LAST-MODIFIED:20260122T032027Z
UID:10004497-1792317600-1792342800@journalofantiques.com
SUMMARY:The Flea Market at Eastern Market
DESCRIPTION:January-December: Washington\, D.C.\nThe Flea Market at Eastern Market\n7th & C Street SE\, Capital Hill\nEvery Sunday\, 10am-5pm\nDiverse Markets\, 202-215-6993\ninfo@easternmarket.net\nwww.easternmarket.net
URL:https://journalofantiques.com/event/the-flea-market-at-eastern-market/2026-10-18/
LOCATION:The Flea Market at Eastern Market\, 7th & C Street SE\, Capital Hill\, Washington\, DC\, United States
CATEGORIES:Antique Shows
END:VEVENT
BEGIN:VEVENT
DTSTART;TZID=America/New_York:20261025T100000
DTEND;TZID=America/New_York:20261025T170000
DTSTAMP:20260424T102441
CREATED:20251217T194809Z
LAST-MODIFIED:20260122T032027Z
UID:10004498-1792922400-1792947600@journalofantiques.com
SUMMARY:The Flea Market at Eastern Market
DESCRIPTION:January-December: Washington\, D.C.\nThe Flea Market at Eastern Market\n7th & C Street SE\, Capital Hill\nEvery Sunday\, 10am-5pm\nDiverse Markets\, 202-215-6993\ninfo@easternmarket.net\nwww.easternmarket.net
URL:https://journalofantiques.com/event/the-flea-market-at-eastern-market/2026-10-25/
LOCATION:The Flea Market at Eastern Market\, 7th & C Street SE\, Capital Hill\, Washington\, DC\, United States
CATEGORIES:Antique Shows
END:VEVENT
BEGIN:VEVENT
DTSTART;TZID=America/New_York:20261101T100000
DTEND;TZID=America/New_York:20261101T170000
DTSTAMP:20260424T102441
CREATED:20251217T194809Z
LAST-MODIFIED:20260122T032027Z
UID:10004499-1793527200-1793552400@journalofantiques.com
SUMMARY:The Flea Market at Eastern Market
DESCRIPTION:January-December: Washington\, D.C.\nThe Flea Market at Eastern Market\n7th & C Street SE\, Capital Hill\nEvery Sunday\, 10am-5pm\nDiverse Markets\, 202-215-6993\ninfo@easternmarket.net\nwww.easternmarket.net
URL:https://journalofantiques.com/event/the-flea-market-at-eastern-market/2026-11-01/
LOCATION:The Flea Market at Eastern Market\, 7th & C Street SE\, Capital Hill\, Washington\, DC\, United States
CATEGORIES:Antique Shows
END:VEVENT
BEGIN:VEVENT
DTSTART;TZID=America/New_York:20261108T100000
DTEND;TZID=America/New_York:20261108T170000
DTSTAMP:20260424T102441
CREATED:20251217T194809Z
LAST-MODIFIED:20260122T032027Z
UID:10004500-1794132000-1794157200@journalofantiques.com
SUMMARY:The Flea Market at Eastern Market
DESCRIPTION:January-December: Washington\, D.C.\nThe Flea Market at Eastern Market\n7th & C Street SE\, Capital Hill\nEvery Sunday\, 10am-5pm\nDiverse Markets\, 202-215-6993\ninfo@easternmarket.net\nwww.easternmarket.net
URL:https://journalofantiques.com/event/the-flea-market-at-eastern-market/2026-11-08/
LOCATION:The Flea Market at Eastern Market\, 7th & C Street SE\, Capital Hill\, Washington\, DC\, United States
CATEGORIES:Antique Shows
END:VEVENT
BEGIN:VEVENT
DTSTART;TZID=America/New_York:20261115T100000
DTEND;TZID=America/New_York:20261115T170000
DTSTAMP:20260424T102441
CREATED:20251217T194809Z
LAST-MODIFIED:20260122T032027Z
UID:10004501-1794736800-1794762000@journalofantiques.com
SUMMARY:The Flea Market at Eastern Market
DESCRIPTION:January-December: Washington\, D.C.\nThe Flea Market at Eastern Market\n7th & C Street SE\, Capital Hill\nEvery Sunday\, 10am-5pm\nDiverse Markets\, 202-215-6993\ninfo@easternmarket.net\nwww.easternmarket.net
URL:https://journalofantiques.com/event/the-flea-market-at-eastern-market/2026-11-15/
LOCATION:The Flea Market at Eastern Market\, 7th & C Street SE\, Capital Hill\, Washington\, DC\, United States
CATEGORIES:Antique Shows
END:VEVENT
BEGIN:VEVENT
DTSTART;TZID=America/New_York:20261122T100000
DTEND;TZID=America/New_York:20261122T170000
DTSTAMP:20260424T102441
CREATED:20251217T194809Z
LAST-MODIFIED:20260122T032027Z
UID:10004502-1795341600-1795366800@journalofantiques.com
SUMMARY:The Flea Market at Eastern Market
DESCRIPTION:January-December: Washington\, D.C.\nThe Flea Market at Eastern Market\n7th & C Street SE\, Capital Hill\nEvery Sunday\, 10am-5pm\nDiverse Markets\, 202-215-6993\ninfo@easternmarket.net\nwww.easternmarket.net
URL:https://journalofantiques.com/event/the-flea-market-at-eastern-market/2026-11-22/
LOCATION:The Flea Market at Eastern Market\, 7th & C Street SE\, Capital Hill\, Washington\, DC\, United States
CATEGORIES:Antique Shows
END:VEVENT
BEGIN:VEVENT
DTSTART;TZID=America/New_York:20261129T100000
DTEND;TZID=America/New_York:20261129T170000
DTSTAMP:20260424T102441
CREATED:20251217T194809Z
LAST-MODIFIED:20260122T032027Z
UID:10004503-1795946400-1795971600@journalofantiques.com
SUMMARY:The Flea Market at Eastern Market
DESCRIPTION:January-December: Washington\, D.C.\nThe Flea Market at Eastern Market\n7th & C Street SE\, Capital Hill\nEvery Sunday\, 10am-5pm\nDiverse Markets\, 202-215-6993\ninfo@easternmarket.net\nwww.easternmarket.net
URL:https://journalofantiques.com/event/the-flea-market-at-eastern-market/2026-11-29/
LOCATION:The Flea Market at Eastern Market\, 7th & C Street SE\, Capital Hill\, Washington\, DC\, United States
CATEGORIES:Antique Shows
END:VEVENT
BEGIN:VEVENT
DTSTART;TZID=America/New_York:20261206T100000
DTEND;TZID=America/New_York:20261206T170000
DTSTAMP:20260424T102441
CREATED:20251217T194809Z
LAST-MODIFIED:20260122T032027Z
UID:10004504-1796551200-1796576400@journalofantiques.com
SUMMARY:The Flea Market at Eastern Market
DESCRIPTION:January-December: Washington\, D.C.\nThe Flea Market at Eastern Market\n7th & C Street SE\, Capital Hill\nEvery Sunday\, 10am-5pm\nDiverse Markets\, 202-215-6993\ninfo@easternmarket.net\nwww.easternmarket.net
URL:https://journalofantiques.com/event/the-flea-market-at-eastern-market/2026-12-06/
LOCATION:The Flea Market at Eastern Market\, 7th & C Street SE\, Capital Hill\, Washington\, DC\, United States
CATEGORIES:Antique Shows
END:VEVENT
BEGIN:VEVENT
DTSTART;TZID=America/New_York:20261213T100000
DTEND;TZID=America/New_York:20261213T170000
DTSTAMP:20260424T102441
CREATED:20251217T194809Z
LAST-MODIFIED:20260122T032027Z
UID:10004505-1797156000-1797181200@journalofantiques.com
SUMMARY:The Flea Market at Eastern Market
DESCRIPTION:January-December: Washington\, D.C.\nThe Flea Market at Eastern Market\n7th & C Street SE\, Capital Hill\nEvery Sunday\, 10am-5pm\nDiverse Markets\, 202-215-6993\ninfo@easternmarket.net\nwww.easternmarket.net
URL:https://journalofantiques.com/event/the-flea-market-at-eastern-market/2026-12-13/
LOCATION:The Flea Market at Eastern Market\, 7th & C Street SE\, Capital Hill\, Washington\, DC\, United States
CATEGORIES:Antique Shows
END:VEVENT
BEGIN:VEVENT
DTSTART;TZID=America/New_York:20261220T100000
DTEND;TZID=America/New_York:20261220T170000
DTSTAMP:20260424T102441
CREATED:20251217T194809Z
LAST-MODIFIED:20260122T032027Z
UID:10004506-1797760800-1797786000@journalofantiques.com
SUMMARY:The Flea Market at Eastern Market
DESCRIPTION:January-December: Washington\, D.C.\nThe Flea Market at Eastern Market\n7th & C Street SE\, Capital Hill\nEvery Sunday\, 10am-5pm\nDiverse Markets\, 202-215-6993\ninfo@easternmarket.net\nwww.easternmarket.net
URL:https://journalofantiques.com/event/the-flea-market-at-eastern-market/2026-12-20/
LOCATION:The Flea Market at Eastern Market\, 7th & C Street SE\, Capital Hill\, Washington\, DC\, United States
CATEGORIES:Antique Shows
END:VEVENT
BEGIN:VEVENT
DTSTART;TZID=America/New_York:20261227T100000
DTEND;TZID=America/New_York:20261227T170000
DTSTAMP:20260424T102441
CREATED:20251217T194809Z
LAST-MODIFIED:20260122T032027Z
UID:10004507-1798365600-1798390800@journalofantiques.com
SUMMARY:The Flea Market at Eastern Market
DESCRIPTION:January-December: Washington\, D.C.\nThe Flea Market at Eastern Market\n7th & C Street SE\, Capital Hill\nEvery Sunday\, 10am-5pm\nDiverse Markets\, 202-215-6993\ninfo@easternmarket.net\nwww.easternmarket.net
URL:https://journalofantiques.com/event/the-flea-market-at-eastern-market/2026-12-27/
LOCATION:The Flea Market at Eastern Market\, 7th & C Street SE\, Capital Hill\, Washington\, DC\, United States
CATEGORIES:Antique Shows
END:VEVENT
BEGIN:VEVENT
DTSTART;TZID=America/New_York:20270103T100000
DTEND;TZID=America/New_York:20270103T170000
DTSTAMP:20260424T102441
CREATED:20251217T194809Z
LAST-MODIFIED:20260122T032027Z
UID:10004508-1798970400-1798995600@journalofantiques.com
SUMMARY:The Flea Market at Eastern Market
DESCRIPTION:January-December: Washington\, D.C.\nThe Flea Market at Eastern Market\n7th & C Street SE\, Capital Hill\nEvery Sunday\, 10am-5pm\nDiverse Markets\, 202-215-6993\ninfo@easternmarket.net\nwww.easternmarket.net
URL:https://journalofantiques.com/event/the-flea-market-at-eastern-market/2027-01-03/
LOCATION:The Flea Market at Eastern Market\, 7th & C Street SE\, Capital Hill\, Washington\, DC\, United States
CATEGORIES:Antique Shows
END:VEVENT
BEGIN:VEVENT
DTSTART;TZID=America/New_York:20270110T100000
DTEND;TZID=America/New_York:20270110T170000
DTSTAMP:20260424T102441
CREATED:20251217T194809Z
LAST-MODIFIED:20260122T032027Z
UID:10004509-1799575200-1799600400@journalofantiques.com
SUMMARY:The Flea Market at Eastern Market
DESCRIPTION:January-December: Washington\, D.C.\nThe Flea Market at Eastern Market\n7th & C Street SE\, Capital Hill\nEvery Sunday\, 10am-5pm\nDiverse Markets\, 202-215-6993\ninfo@easternmarket.net\nwww.easternmarket.net
URL:https://journalofantiques.com/event/the-flea-market-at-eastern-market/2027-01-10/
LOCATION:The Flea Market at Eastern Market\, 7th & C Street SE\, Capital Hill\, Washington\, DC\, United States
CATEGORIES:Antique Shows
END:VEVENT
BEGIN:VEVENT
DTSTART;TZID=America/New_York:20270117T100000
DTEND;TZID=America/New_York:20270117T170000
DTSTAMP:20260424T102441
CREATED:20251217T194809Z
LAST-MODIFIED:20260122T032027Z
UID:10004510-1800180000-1800205200@journalofantiques.com
SUMMARY:The Flea Market at Eastern Market
DESCRIPTION:January-December: Washington\, D.C.\nThe Flea Market at Eastern Market\n7th & C Street SE\, Capital Hill\nEvery Sunday\, 10am-5pm\nDiverse Markets\, 202-215-6993\ninfo@easternmarket.net\nwww.easternmarket.net
URL:https://journalofantiques.com/event/the-flea-market-at-eastern-market/2027-01-17/
LOCATION:The Flea Market at Eastern Market\, 7th & C Street SE\, Capital Hill\, Washington\, DC\, United States
CATEGORIES:Antique Shows
END:VEVENT
BEGIN:VEVENT
DTSTART;TZID=America/New_York:20270124T100000
DTEND;TZID=America/New_York:20270124T170000
DTSTAMP:20260424T102441
CREATED:20251217T194809Z
LAST-MODIFIED:20260122T032027Z
UID:10004511-1800784800-1800810000@journalofantiques.com
SUMMARY:The Flea Market at Eastern Market
DESCRIPTION:January-December: Washington\, D.C.\nThe Flea Market at Eastern Market\n7th & C Street SE\, Capital Hill\nEvery Sunday\, 10am-5pm\nDiverse Markets\, 202-215-6993\ninfo@easternmarket.net\nwww.easternmarket.net
URL:https://journalofantiques.com/event/the-flea-market-at-eastern-market/2027-01-24/
LOCATION:The Flea Market at Eastern Market\, 7th & C Street SE\, Capital Hill\, Washington\, DC\, United States
CATEGORIES:Antique Shows
END:VEVENT
END:VCALENDAR