    BEGIN:VCALENDAR
VERSION:2.0
PRODID:-//The Journal of Antiques and Collectibles - ECPv6.15.20//NONSGML v1.0//EN
CALSCALE:GREGORIAN
METHOD:PUBLISH
X-WR-CALNAME:The Journal of Antiques and Collectibles
X-ORIGINAL-URL:https://journalofantiques.com
X-WR-CALDESC:Events for The Journal of Antiques and Collectibles
REFRESH-INTERVAL;VALUE=DURATION:PT1H
X-Robots-Tag:noindex
X-PUBLISHED-TTL:PT1H
BEGIN:VTIMEZONE
TZID:America/New_York
BEGIN:DAYLIGHT
TZOFFSETFROM:-0500
TZOFFSETTO:-0400
TZNAME:EDT
DTSTART:20280312T070000
END:DAYLIGHT
BEGIN:STANDARD
TZOFFSETFROM:-0400
TZOFFSETTO:-0500
TZNAME:EST
DTSTART:20281105T060000
END:STANDARD
BEGIN:DAYLIGHT
TZOFFSETFROM:-0500
TZOFFSETTO:-0400
TZNAME:EDT
DTSTART:20290311T070000
END:DAYLIGHT
BEGIN:STANDARD
TZOFFSETFROM:-0400
TZOFFSETTO:-0500
TZNAME:EST
DTSTART:20291104T060000
END:STANDARD
BEGIN:DAYLIGHT
TZOFFSETFROM:-0500
TZOFFSETTO:-0400
TZNAME:EDT
DTSTART:20300310T070000
END:DAYLIGHT
BEGIN:STANDARD
TZOFFSETFROM:-0400
TZOFFSETTO:-0500
TZNAME:EST
DTSTART:20301103T060000
END:STANDARD
BEGIN:DAYLIGHT
TZOFFSETFROM:-0500
TZOFFSETTO:-0400
TZNAME:EDT
DTSTART:20310309T070000
END:DAYLIGHT
BEGIN:STANDARD
TZOFFSETFROM:-0400
TZOFFSETTO:-0500
TZNAME:EST
DTSTART:20311102T060000
END:STANDARD
END:VTIMEZONE
BEGIN:VEVENT
DTSTART;TZID=America/New_York:20291216T100000
DTEND;TZID=America/New_York:20291216T170000
DTSTAMP:20260425T134838
CREATED:20251217T194809Z
LAST-MODIFIED:20260122T032027Z
UID:10004662-1892109600-1892134800@journalofantiques.com
SUMMARY:The Flea Market at Eastern Market
DESCRIPTION:January-December: Washington\, D.C.\nThe Flea Market at Eastern Market\n7th & C Street SE\, Capital Hill\nEvery Sunday\, 10am-5pm\nDiverse Markets\, 202-215-6993\ninfo@easternmarket.net\nwww.easternmarket.net
URL:https://journalofantiques.com/event/the-flea-market-at-eastern-market/2029-12-16/
LOCATION:The Flea Market at Eastern Market\, 7th & C Street SE\, Capital Hill\, Washington\, DC\, United States
CATEGORIES:Antique Shows
END:VEVENT
BEGIN:VEVENT
DTSTART;TZID=America/New_York:20291223T100000
DTEND;TZID=America/New_York:20291223T170000
DTSTAMP:20260425T134838
CREATED:20251217T194809Z
LAST-MODIFIED:20260122T032027Z
UID:10004663-1892714400-1892739600@journalofantiques.com
SUMMARY:The Flea Market at Eastern Market
DESCRIPTION:January-December: Washington\, D.C.\nThe Flea Market at Eastern Market\n7th & C Street SE\, Capital Hill\nEvery Sunday\, 10am-5pm\nDiverse Markets\, 202-215-6993\ninfo@easternmarket.net\nwww.easternmarket.net
URL:https://journalofantiques.com/event/the-flea-market-at-eastern-market/2029-12-23/
LOCATION:The Flea Market at Eastern Market\, 7th & C Street SE\, Capital Hill\, Washington\, DC\, United States
CATEGORIES:Antique Shows
END:VEVENT
BEGIN:VEVENT
DTSTART;TZID=America/New_York:20291230T100000
DTEND;TZID=America/New_York:20291230T170000
DTSTAMP:20260425T134838
CREATED:20251217T194809Z
LAST-MODIFIED:20260122T032027Z
UID:10004664-1893319200-1893344400@journalofantiques.com
SUMMARY:The Flea Market at Eastern Market
DESCRIPTION:January-December: Washington\, D.C.\nThe Flea Market at Eastern Market\n7th & C Street SE\, Capital Hill\nEvery Sunday\, 10am-5pm\nDiverse Markets\, 202-215-6993\ninfo@easternmarket.net\nwww.easternmarket.net
URL:https://journalofantiques.com/event/the-flea-market-at-eastern-market/2029-12-30/
LOCATION:The Flea Market at Eastern Market\, 7th & C Street SE\, Capital Hill\, Washington\, DC\, United States
CATEGORIES:Antique Shows
END:VEVENT
BEGIN:VEVENT
DTSTART;TZID=America/New_York:20300106T100000
DTEND;TZID=America/New_York:20300106T170000
DTSTAMP:20260425T134838
CREATED:20251217T194809Z
LAST-MODIFIED:20260122T032027Z
UID:10004665-1893924000-1893949200@journalofantiques.com
SUMMARY:The Flea Market at Eastern Market
DESCRIPTION:January-December: Washington\, D.C.\nThe Flea Market at Eastern Market\n7th & C Street SE\, Capital Hill\nEvery Sunday\, 10am-5pm\nDiverse Markets\, 202-215-6993\ninfo@easternmarket.net\nwww.easternmarket.net
URL:https://journalofantiques.com/event/the-flea-market-at-eastern-market/2030-01-06/
LOCATION:The Flea Market at Eastern Market\, 7th & C Street SE\, Capital Hill\, Washington\, DC\, United States
CATEGORIES:Antique Shows
END:VEVENT
BEGIN:VEVENT
DTSTART;TZID=America/New_York:20300113T100000
DTEND;TZID=America/New_York:20300113T170000
DTSTAMP:20260425T134838
CREATED:20251217T194809Z
LAST-MODIFIED:20260122T032027Z
UID:10004666-1894528800-1894554000@journalofantiques.com
SUMMARY:The Flea Market at Eastern Market
DESCRIPTION:January-December: Washington\, D.C.\nThe Flea Market at Eastern Market\n7th & C Street SE\, Capital Hill\nEvery Sunday\, 10am-5pm\nDiverse Markets\, 202-215-6993\ninfo@easternmarket.net\nwww.easternmarket.net
URL:https://journalofantiques.com/event/the-flea-market-at-eastern-market/2030-01-13/
LOCATION:The Flea Market at Eastern Market\, 7th & C Street SE\, Capital Hill\, Washington\, DC\, United States
CATEGORIES:Antique Shows
END:VEVENT
BEGIN:VEVENT
DTSTART;TZID=America/New_York:20300120T100000
DTEND;TZID=America/New_York:20300120T170000
DTSTAMP:20260425T134838
CREATED:20251217T194809Z
LAST-MODIFIED:20260122T032027Z
UID:10004667-1895133600-1895158800@journalofantiques.com
SUMMARY:The Flea Market at Eastern Market
DESCRIPTION:January-December: Washington\, D.C.\nThe Flea Market at Eastern Market\n7th & C Street SE\, Capital Hill\nEvery Sunday\, 10am-5pm\nDiverse Markets\, 202-215-6993\ninfo@easternmarket.net\nwww.easternmarket.net
URL:https://journalofantiques.com/event/the-flea-market-at-eastern-market/2030-01-20/
LOCATION:The Flea Market at Eastern Market\, 7th & C Street SE\, Capital Hill\, Washington\, DC\, United States
CATEGORIES:Antique Shows
END:VEVENT
BEGIN:VEVENT
DTSTART;TZID=America/New_York:20300127T100000
DTEND;TZID=America/New_York:20300127T170000
DTSTAMP:20260425T134838
CREATED:20251217T194809Z
LAST-MODIFIED:20260122T032027Z
UID:10004668-1895738400-1895763600@journalofantiques.com
SUMMARY:The Flea Market at Eastern Market
DESCRIPTION:January-December: Washington\, D.C.\nThe Flea Market at Eastern Market\n7th & C Street SE\, Capital Hill\nEvery Sunday\, 10am-5pm\nDiverse Markets\, 202-215-6993\ninfo@easternmarket.net\nwww.easternmarket.net
URL:https://journalofantiques.com/event/the-flea-market-at-eastern-market/2030-01-27/
LOCATION:The Flea Market at Eastern Market\, 7th & C Street SE\, Capital Hill\, Washington\, DC\, United States
CATEGORIES:Antique Shows
END:VEVENT
BEGIN:VEVENT
DTSTART;TZID=America/New_York:20300203T100000
DTEND;TZID=America/New_York:20300203T170000
DTSTAMP:20260425T134838
CREATED:20251217T194809Z
LAST-MODIFIED:20260122T032027Z
UID:10004669-1896343200-1896368400@journalofantiques.com
SUMMARY:The Flea Market at Eastern Market
DESCRIPTION:January-December: Washington\, D.C.\nThe Flea Market at Eastern Market\n7th & C Street SE\, Capital Hill\nEvery Sunday\, 10am-5pm\nDiverse Markets\, 202-215-6993\ninfo@easternmarket.net\nwww.easternmarket.net
URL:https://journalofantiques.com/event/the-flea-market-at-eastern-market/2030-02-03/
LOCATION:The Flea Market at Eastern Market\, 7th & C Street SE\, Capital Hill\, Washington\, DC\, United States
CATEGORIES:Antique Shows
END:VEVENT
BEGIN:VEVENT
DTSTART;TZID=America/New_York:20300210T100000
DTEND;TZID=America/New_York:20300210T170000
DTSTAMP:20260425T134838
CREATED:20251217T194809Z
LAST-MODIFIED:20260122T032027Z
UID:10004670-1896948000-1896973200@journalofantiques.com
SUMMARY:The Flea Market at Eastern Market
DESCRIPTION:January-December: Washington\, D.C.\nThe Flea Market at Eastern Market\n7th & C Street SE\, Capital Hill\nEvery Sunday\, 10am-5pm\nDiverse Markets\, 202-215-6993\ninfo@easternmarket.net\nwww.easternmarket.net
URL:https://journalofantiques.com/event/the-flea-market-at-eastern-market/2030-02-10/
LOCATION:The Flea Market at Eastern Market\, 7th & C Street SE\, Capital Hill\, Washington\, DC\, United States
CATEGORIES:Antique Shows
END:VEVENT
BEGIN:VEVENT
DTSTART;TZID=America/New_York:20300217T100000
DTEND;TZID=America/New_York:20300217T170000
DTSTAMP:20260425T134838
CREATED:20251217T194809Z
LAST-MODIFIED:20260122T032027Z
UID:10004671-1897552800-1897578000@journalofantiques.com
SUMMARY:The Flea Market at Eastern Market
DESCRIPTION:January-December: Washington\, D.C.\nThe Flea Market at Eastern Market\n7th & C Street SE\, Capital Hill\nEvery Sunday\, 10am-5pm\nDiverse Markets\, 202-215-6993\ninfo@easternmarket.net\nwww.easternmarket.net
URL:https://journalofantiques.com/event/the-flea-market-at-eastern-market/2030-02-17/
LOCATION:The Flea Market at Eastern Market\, 7th & C Street SE\, Capital Hill\, Washington\, DC\, United States
CATEGORIES:Antique Shows
END:VEVENT
BEGIN:VEVENT
DTSTART;TZID=America/New_York:20300224T100000
DTEND;TZID=America/New_York:20300224T170000
DTSTAMP:20260425T134838
CREATED:20251217T194809Z
LAST-MODIFIED:20260122T032027Z
UID:10004672-1898157600-1898182800@journalofantiques.com
SUMMARY:The Flea Market at Eastern Market
DESCRIPTION:January-December: Washington\, D.C.\nThe Flea Market at Eastern Market\n7th & C Street SE\, Capital Hill\nEvery Sunday\, 10am-5pm\nDiverse Markets\, 202-215-6993\ninfo@easternmarket.net\nwww.easternmarket.net
URL:https://journalofantiques.com/event/the-flea-market-at-eastern-market/2030-02-24/
LOCATION:The Flea Market at Eastern Market\, 7th & C Street SE\, Capital Hill\, Washington\, DC\, United States
CATEGORIES:Antique Shows
END:VEVENT
BEGIN:VEVENT
DTSTART;TZID=America/New_York:20300303T100000
DTEND;TZID=America/New_York:20300303T170000
DTSTAMP:20260425T134838
CREATED:20251217T194809Z
LAST-MODIFIED:20260122T032027Z
UID:10004673-1898762400-1898787600@journalofantiques.com
SUMMARY:The Flea Market at Eastern Market
DESCRIPTION:January-December: Washington\, D.C.\nThe Flea Market at Eastern Market\n7th & C Street SE\, Capital Hill\nEvery Sunday\, 10am-5pm\nDiverse Markets\, 202-215-6993\ninfo@easternmarket.net\nwww.easternmarket.net
URL:https://journalofantiques.com/event/the-flea-market-at-eastern-market/2030-03-03/
LOCATION:The Flea Market at Eastern Market\, 7th & C Street SE\, Capital Hill\, Washington\, DC\, United States
CATEGORIES:Antique Shows
END:VEVENT
BEGIN:VEVENT
DTSTART;TZID=America/New_York:20300310T100000
DTEND;TZID=America/New_York:20300310T170000
DTSTAMP:20260425T134838
CREATED:20251217T194809Z
LAST-MODIFIED:20260122T032027Z
UID:10004674-1899367200-1899392400@journalofantiques.com
SUMMARY:The Flea Market at Eastern Market
DESCRIPTION:January-December: Washington\, D.C.\nThe Flea Market at Eastern Market\n7th & C Street SE\, Capital Hill\nEvery Sunday\, 10am-5pm\nDiverse Markets\, 202-215-6993\ninfo@easternmarket.net\nwww.easternmarket.net
URL:https://journalofantiques.com/event/the-flea-market-at-eastern-market/2030-03-10/
LOCATION:The Flea Market at Eastern Market\, 7th & C Street SE\, Capital Hill\, Washington\, DC\, United States
CATEGORIES:Antique Shows
END:VEVENT
BEGIN:VEVENT
DTSTART;TZID=America/New_York:20300317T100000
DTEND;TZID=America/New_York:20300317T170000
DTSTAMP:20260425T134838
CREATED:20251217T194809Z
LAST-MODIFIED:20260122T032027Z
UID:10004675-1899972000-1899997200@journalofantiques.com
SUMMARY:The Flea Market at Eastern Market
DESCRIPTION:January-December: Washington\, D.C.\nThe Flea Market at Eastern Market\n7th & C Street SE\, Capital Hill\nEvery Sunday\, 10am-5pm\nDiverse Markets\, 202-215-6993\ninfo@easternmarket.net\nwww.easternmarket.net
URL:https://journalofantiques.com/event/the-flea-market-at-eastern-market/2030-03-17/
LOCATION:The Flea Market at Eastern Market\, 7th & C Street SE\, Capital Hill\, Washington\, DC\, United States
CATEGORIES:Antique Shows
END:VEVENT
BEGIN:VEVENT
DTSTART;TZID=America/New_York:20300324T100000
DTEND;TZID=America/New_York:20300324T170000
DTSTAMP:20260425T134838
CREATED:20251217T194809Z
LAST-MODIFIED:20260122T032027Z
UID:10004676-1900576800-1900602000@journalofantiques.com
SUMMARY:The Flea Market at Eastern Market
DESCRIPTION:January-December: Washington\, D.C.\nThe Flea Market at Eastern Market\n7th & C Street SE\, Capital Hill\nEvery Sunday\, 10am-5pm\nDiverse Markets\, 202-215-6993\ninfo@easternmarket.net\nwww.easternmarket.net
URL:https://journalofantiques.com/event/the-flea-market-at-eastern-market/2030-03-24/
LOCATION:The Flea Market at Eastern Market\, 7th & C Street SE\, Capital Hill\, Washington\, DC\, United States
CATEGORIES:Antique Shows
END:VEVENT
BEGIN:VEVENT
DTSTART;TZID=America/New_York:20300331T100000
DTEND;TZID=America/New_York:20300331T170000
DTSTAMP:20260425T134838
CREATED:20251217T194809Z
LAST-MODIFIED:20260122T032027Z
UID:10004677-1901181600-1901206800@journalofantiques.com
SUMMARY:The Flea Market at Eastern Market
DESCRIPTION:January-December: Washington\, D.C.\nThe Flea Market at Eastern Market\n7th & C Street SE\, Capital Hill\nEvery Sunday\, 10am-5pm\nDiverse Markets\, 202-215-6993\ninfo@easternmarket.net\nwww.easternmarket.net
URL:https://journalofantiques.com/event/the-flea-market-at-eastern-market/2030-03-31/
LOCATION:The Flea Market at Eastern Market\, 7th & C Street SE\, Capital Hill\, Washington\, DC\, United States
CATEGORIES:Antique Shows
END:VEVENT
BEGIN:VEVENT
DTSTART;TZID=America/New_York:20300407T100000
DTEND;TZID=America/New_York:20300407T170000
DTSTAMP:20260425T134838
CREATED:20251217T194809Z
LAST-MODIFIED:20260122T032027Z
UID:10004678-1901786400-1901811600@journalofantiques.com
SUMMARY:The Flea Market at Eastern Market
DESCRIPTION:January-December: Washington\, D.C.\nThe Flea Market at Eastern Market\n7th & C Street SE\, Capital Hill\nEvery Sunday\, 10am-5pm\nDiverse Markets\, 202-215-6993\ninfo@easternmarket.net\nwww.easternmarket.net
URL:https://journalofantiques.com/event/the-flea-market-at-eastern-market/2030-04-07/
LOCATION:The Flea Market at Eastern Market\, 7th & C Street SE\, Capital Hill\, Washington\, DC\, United States
CATEGORIES:Antique Shows
END:VEVENT
BEGIN:VEVENT
DTSTART;TZID=America/New_York:20300414T100000
DTEND;TZID=America/New_York:20300414T170000
DTSTAMP:20260425T134838
CREATED:20251217T194809Z
LAST-MODIFIED:20260122T032027Z
UID:10004679-1902391200-1902416400@journalofantiques.com
SUMMARY:The Flea Market at Eastern Market
DESCRIPTION:January-December: Washington\, D.C.\nThe Flea Market at Eastern Market\n7th & C Street SE\, Capital Hill\nEvery Sunday\, 10am-5pm\nDiverse Markets\, 202-215-6993\ninfo@easternmarket.net\nwww.easternmarket.net
URL:https://journalofantiques.com/event/the-flea-market-at-eastern-market/2030-04-14/
LOCATION:The Flea Market at Eastern Market\, 7th & C Street SE\, Capital Hill\, Washington\, DC\, United States
CATEGORIES:Antique Shows
END:VEVENT
BEGIN:VEVENT
DTSTART;TZID=America/New_York:20300421T100000
DTEND;TZID=America/New_York:20300421T170000
DTSTAMP:20260425T134838
CREATED:20251217T194809Z
LAST-MODIFIED:20260122T032027Z
UID:10004680-1902996000-1903021200@journalofantiques.com
SUMMARY:The Flea Market at Eastern Market
DESCRIPTION:January-December: Washington\, D.C.\nThe Flea Market at Eastern Market\n7th & C Street SE\, Capital Hill\nEvery Sunday\, 10am-5pm\nDiverse Markets\, 202-215-6993\ninfo@easternmarket.net\nwww.easternmarket.net
URL:https://journalofantiques.com/event/the-flea-market-at-eastern-market/2030-04-21/
LOCATION:The Flea Market at Eastern Market\, 7th & C Street SE\, Capital Hill\, Washington\, DC\, United States
CATEGORIES:Antique Shows
END:VEVENT
BEGIN:VEVENT
DTSTART;TZID=America/New_York:20300428T100000
DTEND;TZID=America/New_York:20300428T170000
DTSTAMP:20260425T134838
CREATED:20251217T194809Z
LAST-MODIFIED:20260122T032027Z
UID:10004681-1903600800-1903626000@journalofantiques.com
SUMMARY:The Flea Market at Eastern Market
DESCRIPTION:January-December: Washington\, D.C.\nThe Flea Market at Eastern Market\n7th & C Street SE\, Capital Hill\nEvery Sunday\, 10am-5pm\nDiverse Markets\, 202-215-6993\ninfo@easternmarket.net\nwww.easternmarket.net
URL:https://journalofantiques.com/event/the-flea-market-at-eastern-market/2030-04-28/
LOCATION:The Flea Market at Eastern Market\, 7th & C Street SE\, Capital Hill\, Washington\, DC\, United States
CATEGORIES:Antique Shows
END:VEVENT
BEGIN:VEVENT
DTSTART;TZID=America/New_York:20300505T100000
DTEND;TZID=America/New_York:20300505T170000
DTSTAMP:20260425T134838
CREATED:20251217T194809Z
LAST-MODIFIED:20260122T032027Z
UID:10004682-1904205600-1904230800@journalofantiques.com
SUMMARY:The Flea Market at Eastern Market
DESCRIPTION:January-December: Washington\, D.C.\nThe Flea Market at Eastern Market\n7th & C Street SE\, Capital Hill\nEvery Sunday\, 10am-5pm\nDiverse Markets\, 202-215-6993\ninfo@easternmarket.net\nwww.easternmarket.net
URL:https://journalofantiques.com/event/the-flea-market-at-eastern-market/2030-05-05/
LOCATION:The Flea Market at Eastern Market\, 7th & C Street SE\, Capital Hill\, Washington\, DC\, United States
CATEGORIES:Antique Shows
END:VEVENT
BEGIN:VEVENT
DTSTART;TZID=America/New_York:20300512T100000
DTEND;TZID=America/New_York:20300512T170000
DTSTAMP:20260425T134838
CREATED:20251217T194809Z
LAST-MODIFIED:20260122T032027Z
UID:10004683-1904810400-1904835600@journalofantiques.com
SUMMARY:The Flea Market at Eastern Market
DESCRIPTION:January-December: Washington\, D.C.\nThe Flea Market at Eastern Market\n7th & C Street SE\, Capital Hill\nEvery Sunday\, 10am-5pm\nDiverse Markets\, 202-215-6993\ninfo@easternmarket.net\nwww.easternmarket.net
URL:https://journalofantiques.com/event/the-flea-market-at-eastern-market/2030-05-12/
LOCATION:The Flea Market at Eastern Market\, 7th & C Street SE\, Capital Hill\, Washington\, DC\, United States
CATEGORIES:Antique Shows
END:VEVENT
BEGIN:VEVENT
DTSTART;TZID=America/New_York:20300519T100000
DTEND;TZID=America/New_York:20300519T170000
DTSTAMP:20260425T134838
CREATED:20251217T194809Z
LAST-MODIFIED:20260122T032027Z
UID:10004684-1905415200-1905440400@journalofantiques.com
SUMMARY:The Flea Market at Eastern Market
DESCRIPTION:January-December: Washington\, D.C.\nThe Flea Market at Eastern Market\n7th & C Street SE\, Capital Hill\nEvery Sunday\, 10am-5pm\nDiverse Markets\, 202-215-6993\ninfo@easternmarket.net\nwww.easternmarket.net
URL:https://journalofantiques.com/event/the-flea-market-at-eastern-market/2030-05-19/
LOCATION:The Flea Market at Eastern Market\, 7th & C Street SE\, Capital Hill\, Washington\, DC\, United States
CATEGORIES:Antique Shows
END:VEVENT
BEGIN:VEVENT
DTSTART;TZID=America/New_York:20300526T100000
DTEND;TZID=America/New_York:20300526T170000
DTSTAMP:20260425T134838
CREATED:20251217T194809Z
LAST-MODIFIED:20260122T032027Z
UID:10004685-1906020000-1906045200@journalofantiques.com
SUMMARY:The Flea Market at Eastern Market
DESCRIPTION:January-December: Washington\, D.C.\nThe Flea Market at Eastern Market\n7th & C Street SE\, Capital Hill\nEvery Sunday\, 10am-5pm\nDiverse Markets\, 202-215-6993\ninfo@easternmarket.net\nwww.easternmarket.net
URL:https://journalofantiques.com/event/the-flea-market-at-eastern-market/2030-05-26/
LOCATION:The Flea Market at Eastern Market\, 7th & C Street SE\, Capital Hill\, Washington\, DC\, United States
CATEGORIES:Antique Shows
END:VEVENT
BEGIN:VEVENT
DTSTART;TZID=America/New_York:20300602T100000
DTEND;TZID=America/New_York:20300602T170000
DTSTAMP:20260425T134838
CREATED:20251217T194809Z
LAST-MODIFIED:20260122T032027Z
UID:10004686-1906624800-1906650000@journalofantiques.com
SUMMARY:The Flea Market at Eastern Market
DESCRIPTION:January-December: Washington\, D.C.\nThe Flea Market at Eastern Market\n7th & C Street SE\, Capital Hill\nEvery Sunday\, 10am-5pm\nDiverse Markets\, 202-215-6993\ninfo@easternmarket.net\nwww.easternmarket.net
URL:https://journalofantiques.com/event/the-flea-market-at-eastern-market/2030-06-02/
LOCATION:The Flea Market at Eastern Market\, 7th & C Street SE\, Capital Hill\, Washington\, DC\, United States
CATEGORIES:Antique Shows
END:VEVENT
BEGIN:VEVENT
DTSTART;TZID=America/New_York:20300609T100000
DTEND;TZID=America/New_York:20300609T170000
DTSTAMP:20260425T134838
CREATED:20251217T194809Z
LAST-MODIFIED:20260122T032027Z
UID:10004687-1907229600-1907254800@journalofantiques.com
SUMMARY:The Flea Market at Eastern Market
DESCRIPTION:January-December: Washington\, D.C.\nThe Flea Market at Eastern Market\n7th & C Street SE\, Capital Hill\nEvery Sunday\, 10am-5pm\nDiverse Markets\, 202-215-6993\ninfo@easternmarket.net\nwww.easternmarket.net
URL:https://journalofantiques.com/event/the-flea-market-at-eastern-market/2030-06-09/
LOCATION:The Flea Market at Eastern Market\, 7th & C Street SE\, Capital Hill\, Washington\, DC\, United States
CATEGORIES:Antique Shows
END:VEVENT
BEGIN:VEVENT
DTSTART;TZID=America/New_York:20300616T100000
DTEND;TZID=America/New_York:20300616T170000
DTSTAMP:20260425T134838
CREATED:20251217T194809Z
LAST-MODIFIED:20260122T032027Z
UID:10004688-1907834400-1907859600@journalofantiques.com
SUMMARY:The Flea Market at Eastern Market
DESCRIPTION:January-December: Washington\, D.C.\nThe Flea Market at Eastern Market\n7th & C Street SE\, Capital Hill\nEvery Sunday\, 10am-5pm\nDiverse Markets\, 202-215-6993\ninfo@easternmarket.net\nwww.easternmarket.net
URL:https://journalofantiques.com/event/the-flea-market-at-eastern-market/2030-06-16/
LOCATION:The Flea Market at Eastern Market\, 7th & C Street SE\, Capital Hill\, Washington\, DC\, United States
CATEGORIES:Antique Shows
END:VEVENT
BEGIN:VEVENT
DTSTART;TZID=America/New_York:20300623T100000
DTEND;TZID=America/New_York:20300623T170000
DTSTAMP:20260425T134838
CREATED:20251217T194809Z
LAST-MODIFIED:20260122T032027Z
UID:10004689-1908439200-1908464400@journalofantiques.com
SUMMARY:The Flea Market at Eastern Market
DESCRIPTION:January-December: Washington\, D.C.\nThe Flea Market at Eastern Market\n7th & C Street SE\, Capital Hill\nEvery Sunday\, 10am-5pm\nDiverse Markets\, 202-215-6993\ninfo@easternmarket.net\nwww.easternmarket.net
URL:https://journalofantiques.com/event/the-flea-market-at-eastern-market/2030-06-23/
LOCATION:The Flea Market at Eastern Market\, 7th & C Street SE\, Capital Hill\, Washington\, DC\, United States
CATEGORIES:Antique Shows
END:VEVENT
BEGIN:VEVENT
DTSTART;TZID=America/New_York:20300630T100000
DTEND;TZID=America/New_York:20300630T170000
DTSTAMP:20260425T134838
CREATED:20251217T194809Z
LAST-MODIFIED:20260122T032027Z
UID:10004690-1909044000-1909069200@journalofantiques.com
SUMMARY:The Flea Market at Eastern Market
DESCRIPTION:January-December: Washington\, D.C.\nThe Flea Market at Eastern Market\n7th & C Street SE\, Capital Hill\nEvery Sunday\, 10am-5pm\nDiverse Markets\, 202-215-6993\ninfo@easternmarket.net\nwww.easternmarket.net
URL:https://journalofantiques.com/event/the-flea-market-at-eastern-market/2030-06-30/
LOCATION:The Flea Market at Eastern Market\, 7th & C Street SE\, Capital Hill\, Washington\, DC\, United States
CATEGORIES:Antique Shows
END:VEVENT
BEGIN:VEVENT
DTSTART;TZID=America/New_York:20300707T100000
DTEND;TZID=America/New_York:20300707T170000
DTSTAMP:20260425T134838
CREATED:20251217T194809Z
LAST-MODIFIED:20260122T032027Z
UID:10004691-1909648800-1909674000@journalofantiques.com
SUMMARY:The Flea Market at Eastern Market
DESCRIPTION:January-December: Washington\, D.C.\nThe Flea Market at Eastern Market\n7th & C Street SE\, Capital Hill\nEvery Sunday\, 10am-5pm\nDiverse Markets\, 202-215-6993\ninfo@easternmarket.net\nwww.easternmarket.net
URL:https://journalofantiques.com/event/the-flea-market-at-eastern-market/2030-07-07/
LOCATION:The Flea Market at Eastern Market\, 7th & C Street SE\, Capital Hill\, Washington\, DC\, United States
CATEGORIES:Antique Shows
END:VEVENT
END:VCALENDAR