    BEGIN:VCALENDAR
VERSION:2.0
PRODID:-//The Journal of Antiques and Collectibles - ECPv6.15.20//NONSGML v1.0//EN
CALSCALE:GREGORIAN
METHOD:PUBLISH
X-ORIGINAL-URL:https://journalofantiques.com
X-WR-CALDESC:Events for The Journal of Antiques and Collectibles
REFRESH-INTERVAL;VALUE=DURATION:PT1H
X-Robots-Tag:noindex
X-PUBLISHED-TTL:PT1H
BEGIN:VTIMEZONE
TZID:America/New_York
BEGIN:DAYLIGHT
TZOFFSETFROM:-0500
TZOFFSETTO:-0400
TZNAME:EDT
DTSTART:20290311T070000
END:DAYLIGHT
BEGIN:STANDARD
TZOFFSETFROM:-0400
TZOFFSETTO:-0500
TZNAME:EST
DTSTART:20291104T060000
END:STANDARD
BEGIN:DAYLIGHT
TZOFFSETFROM:-0500
TZOFFSETTO:-0400
TZNAME:EDT
DTSTART:20300310T070000
END:DAYLIGHT
BEGIN:STANDARD
TZOFFSETFROM:-0400
TZOFFSETTO:-0500
TZNAME:EST
DTSTART:20301103T060000
END:STANDARD
BEGIN:DAYLIGHT
TZOFFSETFROM:-0500
TZOFFSETTO:-0400
TZNAME:EDT
DTSTART:20310309T070000
END:DAYLIGHT
BEGIN:STANDARD
TZOFFSETFROM:-0400
TZOFFSETTO:-0500
TZNAME:EST
DTSTART:20311102T060000
END:STANDARD
END:VTIMEZONE
BEGIN:VEVENT
DTSTART;TZID=America/New_York:20300505T100000
DTEND;TZID=America/New_York:20300505T170000
DTSTAMP:20260425T165121
CREATED:20251217T194809Z
LAST-MODIFIED:20260122T032027Z
UID:10004682-1904205600-1904230800@journalofantiques.com
SUMMARY:The Flea Market at Eastern Market
DESCRIPTION:January-December: Washington\, D.C.\nThe Flea Market at Eastern Market\n7th & C Street SE\, Capital Hill\nEvery Sunday\, 10am-5pm\nDiverse Markets\, 202-215-6993\ninfo@easternmarket.net\nwww.easternmarket.net
URL:https://journalofantiques.com/event/the-flea-market-at-eastern-market/2030-05-05/
LOCATION:The Flea Market at Eastern Market\, 7th & C Street SE\, Capital Hill\, Washington\, DC\, United States
CATEGORIES:Antique Shows
END:VEVENT
BEGIN:VEVENT
DTSTART;TZID=America/New_York:20300512T100000
DTEND;TZID=America/New_York:20300512T170000
DTSTAMP:20260425T165121
CREATED:20251217T194809Z
LAST-MODIFIED:20260122T032027Z
UID:10004683-1904810400-1904835600@journalofantiques.com
SUMMARY:The Flea Market at Eastern Market
DESCRIPTION:January-December: Washington\, D.C.\nThe Flea Market at Eastern Market\n7th & C Street SE\, Capital Hill\nEvery Sunday\, 10am-5pm\nDiverse Markets\, 202-215-6993\ninfo@easternmarket.net\nwww.easternmarket.net
URL:https://journalofantiques.com/event/the-flea-market-at-eastern-market/2030-05-12/
LOCATION:The Flea Market at Eastern Market\, 7th & C Street SE\, Capital Hill\, Washington\, DC\, United States
CATEGORIES:Antique Shows
END:VEVENT
BEGIN:VEVENT
DTSTART;TZID=America/New_York:20300519T100000
DTEND;TZID=America/New_York:20300519T170000
DTSTAMP:20260425T165121
CREATED:20251217T194809Z
LAST-MODIFIED:20260122T032027Z
UID:10004684-1905415200-1905440400@journalofantiques.com
SUMMARY:The Flea Market at Eastern Market
DESCRIPTION:January-December: Washington\, D.C.\nThe Flea Market at Eastern Market\n7th & C Street SE\, Capital Hill\nEvery Sunday\, 10am-5pm\nDiverse Markets\, 202-215-6993\ninfo@easternmarket.net\nwww.easternmarket.net
URL:https://journalofantiques.com/event/the-flea-market-at-eastern-market/2030-05-19/
LOCATION:The Flea Market at Eastern Market\, 7th & C Street SE\, Capital Hill\, Washington\, DC\, United States
CATEGORIES:Antique Shows
END:VEVENT
BEGIN:VEVENT
DTSTART;TZID=America/New_York:20300526T100000
DTEND;TZID=America/New_York:20300526T170000
DTSTAMP:20260425T165121
CREATED:20251217T194809Z
LAST-MODIFIED:20260122T032027Z
UID:10004685-1906020000-1906045200@journalofantiques.com
SUMMARY:The Flea Market at Eastern Market
DESCRIPTION:January-December: Washington\, D.C.\nThe Flea Market at Eastern Market\n7th & C Street SE\, Capital Hill\nEvery Sunday\, 10am-5pm\nDiverse Markets\, 202-215-6993\ninfo@easternmarket.net\nwww.easternmarket.net
URL:https://journalofantiques.com/event/the-flea-market-at-eastern-market/2030-05-26/
LOCATION:The Flea Market at Eastern Market\, 7th & C Street SE\, Capital Hill\, Washington\, DC\, United States
CATEGORIES:Antique Shows
END:VEVENT
BEGIN:VEVENT
DTSTART;TZID=America/New_York:20300602T100000
DTEND;TZID=America/New_York:20300602T170000
DTSTAMP:20260425T165121
CREATED:20251217T194809Z
LAST-MODIFIED:20260122T032027Z
UID:10004686-1906624800-1906650000@journalofantiques.com
SUMMARY:The Flea Market at Eastern Market
DESCRIPTION:January-December: Washington\, D.C.\nThe Flea Market at Eastern Market\n7th & C Street SE\, Capital Hill\nEvery Sunday\, 10am-5pm\nDiverse Markets\, 202-215-6993\ninfo@easternmarket.net\nwww.easternmarket.net
URL:https://journalofantiques.com/event/the-flea-market-at-eastern-market/2030-06-02/
LOCATION:The Flea Market at Eastern Market\, 7th & C Street SE\, Capital Hill\, Washington\, DC\, United States
CATEGORIES:Antique Shows
END:VEVENT
BEGIN:VEVENT
DTSTART;TZID=America/New_York:20300609T100000
DTEND;TZID=America/New_York:20300609T170000
DTSTAMP:20260425T165121
CREATED:20251217T194809Z
LAST-MODIFIED:20260122T032027Z
UID:10004687-1907229600-1907254800@journalofantiques.com
SUMMARY:The Flea Market at Eastern Market
DESCRIPTION:January-December: Washington\, D.C.\nThe Flea Market at Eastern Market\n7th & C Street SE\, Capital Hill\nEvery Sunday\, 10am-5pm\nDiverse Markets\, 202-215-6993\ninfo@easternmarket.net\nwww.easternmarket.net
URL:https://journalofantiques.com/event/the-flea-market-at-eastern-market/2030-06-09/
LOCATION:The Flea Market at Eastern Market\, 7th & C Street SE\, Capital Hill\, Washington\, DC\, United States
CATEGORIES:Antique Shows
END:VEVENT
BEGIN:VEVENT
DTSTART;TZID=America/New_York:20300616T100000
DTEND;TZID=America/New_York:20300616T170000
DTSTAMP:20260425T165121
CREATED:20251217T194809Z
LAST-MODIFIED:20260122T032027Z
UID:10004688-1907834400-1907859600@journalofantiques.com
SUMMARY:The Flea Market at Eastern Market
DESCRIPTION:January-December: Washington\, D.C.\nThe Flea Market at Eastern Market\n7th & C Street SE\, Capital Hill\nEvery Sunday\, 10am-5pm\nDiverse Markets\, 202-215-6993\ninfo@easternmarket.net\nwww.easternmarket.net
URL:https://journalofantiques.com/event/the-flea-market-at-eastern-market/2030-06-16/
LOCATION:The Flea Market at Eastern Market\, 7th & C Street SE\, Capital Hill\, Washington\, DC\, United States
CATEGORIES:Antique Shows
END:VEVENT
BEGIN:VEVENT
DTSTART;TZID=America/New_York:20300623T100000
DTEND;TZID=America/New_York:20300623T170000
DTSTAMP:20260425T165121
CREATED:20251217T194809Z
LAST-MODIFIED:20260122T032027Z
UID:10004689-1908439200-1908464400@journalofantiques.com
SUMMARY:The Flea Market at Eastern Market
DESCRIPTION:January-December: Washington\, D.C.\nThe Flea Market at Eastern Market\n7th & C Street SE\, Capital Hill\nEvery Sunday\, 10am-5pm\nDiverse Markets\, 202-215-6993\ninfo@easternmarket.net\nwww.easternmarket.net
URL:https://journalofantiques.com/event/the-flea-market-at-eastern-market/2030-06-23/
LOCATION:The Flea Market at Eastern Market\, 7th & C Street SE\, Capital Hill\, Washington\, DC\, United States
CATEGORIES:Antique Shows
END:VEVENT
BEGIN:VEVENT
DTSTART;TZID=America/New_York:20300630T100000
DTEND;TZID=America/New_York:20300630T170000
DTSTAMP:20260425T165121
CREATED:20251217T194809Z
LAST-MODIFIED:20260122T032027Z
UID:10004690-1909044000-1909069200@journalofantiques.com
SUMMARY:The Flea Market at Eastern Market
DESCRIPTION:January-December: Washington\, D.C.\nThe Flea Market at Eastern Market\n7th & C Street SE\, Capital Hill\nEvery Sunday\, 10am-5pm\nDiverse Markets\, 202-215-6993\ninfo@easternmarket.net\nwww.easternmarket.net
URL:https://journalofantiques.com/event/the-flea-market-at-eastern-market/2030-06-30/
LOCATION:The Flea Market at Eastern Market\, 7th & C Street SE\, Capital Hill\, Washington\, DC\, United States
CATEGORIES:Antique Shows
END:VEVENT
BEGIN:VEVENT
DTSTART;TZID=America/New_York:20300707T100000
DTEND;TZID=America/New_York:20300707T170000
DTSTAMP:20260425T165121
CREATED:20251217T194809Z
LAST-MODIFIED:20260122T032027Z
UID:10004691-1909648800-1909674000@journalofantiques.com
SUMMARY:The Flea Market at Eastern Market
DESCRIPTION:January-December: Washington\, D.C.\nThe Flea Market at Eastern Market\n7th & C Street SE\, Capital Hill\nEvery Sunday\, 10am-5pm\nDiverse Markets\, 202-215-6993\ninfo@easternmarket.net\nwww.easternmarket.net
URL:https://journalofantiques.com/event/the-flea-market-at-eastern-market/2030-07-07/
LOCATION:The Flea Market at Eastern Market\, 7th & C Street SE\, Capital Hill\, Washington\, DC\, United States
CATEGORIES:Antique Shows
END:VEVENT
BEGIN:VEVENT
DTSTART;TZID=America/New_York:20300714T100000
DTEND;TZID=America/New_York:20300714T170000
DTSTAMP:20260425T165121
CREATED:20251217T194809Z
LAST-MODIFIED:20260122T032027Z
UID:10004692-1910253600-1910278800@journalofantiques.com
SUMMARY:The Flea Market at Eastern Market
DESCRIPTION:January-December: Washington\, D.C.\nThe Flea Market at Eastern Market\n7th & C Street SE\, Capital Hill\nEvery Sunday\, 10am-5pm\nDiverse Markets\, 202-215-6993\ninfo@easternmarket.net\nwww.easternmarket.net
URL:https://journalofantiques.com/event/the-flea-market-at-eastern-market/2030-07-14/
LOCATION:The Flea Market at Eastern Market\, 7th & C Street SE\, Capital Hill\, Washington\, DC\, United States
CATEGORIES:Antique Shows
END:VEVENT
BEGIN:VEVENT
DTSTART;TZID=America/New_York:20300721T100000
DTEND;TZID=America/New_York:20300721T170000
DTSTAMP:20260425T165121
CREATED:20251217T194809Z
LAST-MODIFIED:20260122T032027Z
UID:10004693-1910858400-1910883600@journalofantiques.com
SUMMARY:The Flea Market at Eastern Market
DESCRIPTION:January-December: Washington\, D.C.\nThe Flea Market at Eastern Market\n7th & C Street SE\, Capital Hill\nEvery Sunday\, 10am-5pm\nDiverse Markets\, 202-215-6993\ninfo@easternmarket.net\nwww.easternmarket.net
URL:https://journalofantiques.com/event/the-flea-market-at-eastern-market/2030-07-21/
LOCATION:The Flea Market at Eastern Market\, 7th & C Street SE\, Capital Hill\, Washington\, DC\, United States
CATEGORIES:Antique Shows
END:VEVENT
BEGIN:VEVENT
DTSTART;TZID=America/New_York:20300728T100000
DTEND;TZID=America/New_York:20300728T170000
DTSTAMP:20260425T165121
CREATED:20251217T194809Z
LAST-MODIFIED:20260122T032027Z
UID:10004694-1911463200-1911488400@journalofantiques.com
SUMMARY:The Flea Market at Eastern Market
DESCRIPTION:January-December: Washington\, D.C.\nThe Flea Market at Eastern Market\n7th & C Street SE\, Capital Hill\nEvery Sunday\, 10am-5pm\nDiverse Markets\, 202-215-6993\ninfo@easternmarket.net\nwww.easternmarket.net
URL:https://journalofantiques.com/event/the-flea-market-at-eastern-market/2030-07-28/
LOCATION:The Flea Market at Eastern Market\, 7th & C Street SE\, Capital Hill\, Washington\, DC\, United States
CATEGORIES:Antique Shows
END:VEVENT
BEGIN:VEVENT
DTSTART;TZID=America/New_York:20300804T100000
DTEND;TZID=America/New_York:20300804T170000
DTSTAMP:20260425T165121
CREATED:20251217T194809Z
LAST-MODIFIED:20260122T032027Z
UID:10004695-1912068000-1912093200@journalofantiques.com
SUMMARY:The Flea Market at Eastern Market
DESCRIPTION:January-December: Washington\, D.C.\nThe Flea Market at Eastern Market\n7th & C Street SE\, Capital Hill\nEvery Sunday\, 10am-5pm\nDiverse Markets\, 202-215-6993\ninfo@easternmarket.net\nwww.easternmarket.net
URL:https://journalofantiques.com/event/the-flea-market-at-eastern-market/2030-08-04/
LOCATION:The Flea Market at Eastern Market\, 7th & C Street SE\, Capital Hill\, Washington\, DC\, United States
CATEGORIES:Antique Shows
END:VEVENT
BEGIN:VEVENT
DTSTART;TZID=America/New_York:20300811T100000
DTEND;TZID=America/New_York:20300811T170000
DTSTAMP:20260425T165121
CREATED:20251217T194809Z
LAST-MODIFIED:20260122T032027Z
UID:10004696-1912672800-1912698000@journalofantiques.com
SUMMARY:The Flea Market at Eastern Market
DESCRIPTION:January-December: Washington\, D.C.\nThe Flea Market at Eastern Market\n7th & C Street SE\, Capital Hill\nEvery Sunday\, 10am-5pm\nDiverse Markets\, 202-215-6993\ninfo@easternmarket.net\nwww.easternmarket.net
URL:https://journalofantiques.com/event/the-flea-market-at-eastern-market/2030-08-11/
LOCATION:The Flea Market at Eastern Market\, 7th & C Street SE\, Capital Hill\, Washington\, DC\, United States
CATEGORIES:Antique Shows
END:VEVENT
BEGIN:VEVENT
DTSTART;TZID=America/New_York:20300818T100000
DTEND;TZID=America/New_York:20300818T170000
DTSTAMP:20260425T165121
CREATED:20251217T194809Z
LAST-MODIFIED:20260122T032027Z
UID:10004697-1913277600-1913302800@journalofantiques.com
SUMMARY:The Flea Market at Eastern Market
DESCRIPTION:January-December: Washington\, D.C.\nThe Flea Market at Eastern Market\n7th & C Street SE\, Capital Hill\nEvery Sunday\, 10am-5pm\nDiverse Markets\, 202-215-6993\ninfo@easternmarket.net\nwww.easternmarket.net
URL:https://journalofantiques.com/event/the-flea-market-at-eastern-market/2030-08-18/
LOCATION:The Flea Market at Eastern Market\, 7th & C Street SE\, Capital Hill\, Washington\, DC\, United States
CATEGORIES:Antique Shows
END:VEVENT
BEGIN:VEVENT
DTSTART;TZID=America/New_York:20300825T100000
DTEND;TZID=America/New_York:20300825T170000
DTSTAMP:20260425T165121
CREATED:20251217T194809Z
LAST-MODIFIED:20260122T032027Z
UID:10004698-1913882400-1913907600@journalofantiques.com
SUMMARY:The Flea Market at Eastern Market
DESCRIPTION:January-December: Washington\, D.C.\nThe Flea Market at Eastern Market\n7th & C Street SE\, Capital Hill\nEvery Sunday\, 10am-5pm\nDiverse Markets\, 202-215-6993\ninfo@easternmarket.net\nwww.easternmarket.net
URL:https://journalofantiques.com/event/the-flea-market-at-eastern-market/2030-08-25/
LOCATION:The Flea Market at Eastern Market\, 7th & C Street SE\, Capital Hill\, Washington\, DC\, United States
CATEGORIES:Antique Shows
END:VEVENT
BEGIN:VEVENT
DTSTART;TZID=America/New_York:20300901T100000
DTEND;TZID=America/New_York:20300901T170000
DTSTAMP:20260425T165121
CREATED:20251217T194809Z
LAST-MODIFIED:20260122T032027Z
UID:10004699-1914487200-1914512400@journalofantiques.com
SUMMARY:The Flea Market at Eastern Market
DESCRIPTION:January-December: Washington\, D.C.\nThe Flea Market at Eastern Market\n7th & C Street SE\, Capital Hill\nEvery Sunday\, 10am-5pm\nDiverse Markets\, 202-215-6993\ninfo@easternmarket.net\nwww.easternmarket.net
URL:https://journalofantiques.com/event/the-flea-market-at-eastern-market/2030-09-01/
LOCATION:The Flea Market at Eastern Market\, 7th & C Street SE\, Capital Hill\, Washington\, DC\, United States
CATEGORIES:Antique Shows
END:VEVENT
BEGIN:VEVENT
DTSTART;TZID=America/New_York:20300908T100000
DTEND;TZID=America/New_York:20300908T170000
DTSTAMP:20260425T165121
CREATED:20251217T194809Z
LAST-MODIFIED:20260122T032027Z
UID:10004700-1915092000-1915117200@journalofantiques.com
SUMMARY:The Flea Market at Eastern Market
DESCRIPTION:January-December: Washington\, D.C.\nThe Flea Market at Eastern Market\n7th & C Street SE\, Capital Hill\nEvery Sunday\, 10am-5pm\nDiverse Markets\, 202-215-6993\ninfo@easternmarket.net\nwww.easternmarket.net
URL:https://journalofantiques.com/event/the-flea-market-at-eastern-market/2030-09-08/
LOCATION:The Flea Market at Eastern Market\, 7th & C Street SE\, Capital Hill\, Washington\, DC\, United States
CATEGORIES:Antique Shows
END:VEVENT
BEGIN:VEVENT
DTSTART;TZID=America/New_York:20300915T100000
DTEND;TZID=America/New_York:20300915T170000
DTSTAMP:20260425T165121
CREATED:20251217T194809Z
LAST-MODIFIED:20260122T032027Z
UID:10004701-1915696800-1915722000@journalofantiques.com
SUMMARY:The Flea Market at Eastern Market
DESCRIPTION:January-December: Washington\, D.C.\nThe Flea Market at Eastern Market\n7th & C Street SE\, Capital Hill\nEvery Sunday\, 10am-5pm\nDiverse Markets\, 202-215-6993\ninfo@easternmarket.net\nwww.easternmarket.net
URL:https://journalofantiques.com/event/the-flea-market-at-eastern-market/2030-09-15/
LOCATION:The Flea Market at Eastern Market\, 7th & C Street SE\, Capital Hill\, Washington\, DC\, United States
CATEGORIES:Antique Shows
END:VEVENT
BEGIN:VEVENT
DTSTART;TZID=America/New_York:20300922T100000
DTEND;TZID=America/New_York:20300922T170000
DTSTAMP:20260425T165121
CREATED:20251217T194809Z
LAST-MODIFIED:20260122T032027Z
UID:10004702-1916301600-1916326800@journalofantiques.com
SUMMARY:The Flea Market at Eastern Market
DESCRIPTION:January-December: Washington\, D.C.\nThe Flea Market at Eastern Market\n7th & C Street SE\, Capital Hill\nEvery Sunday\, 10am-5pm\nDiverse Markets\, 202-215-6993\ninfo@easternmarket.net\nwww.easternmarket.net
URL:https://journalofantiques.com/event/the-flea-market-at-eastern-market/2030-09-22/
LOCATION:The Flea Market at Eastern Market\, 7th & C Street SE\, Capital Hill\, Washington\, DC\, United States
CATEGORIES:Antique Shows
END:VEVENT
BEGIN:VEVENT
DTSTART;TZID=America/New_York:20300929T100000
DTEND;TZID=America/New_York:20300929T170000
DTSTAMP:20260425T165121
CREATED:20251217T194809Z
LAST-MODIFIED:20260122T032027Z
UID:10004703-1916906400-1916931600@journalofantiques.com
SUMMARY:The Flea Market at Eastern Market
DESCRIPTION:January-December: Washington\, D.C.\nThe Flea Market at Eastern Market\n7th & C Street SE\, Capital Hill\nEvery Sunday\, 10am-5pm\nDiverse Markets\, 202-215-6993\ninfo@easternmarket.net\nwww.easternmarket.net
URL:https://journalofantiques.com/event/the-flea-market-at-eastern-market/2030-09-29/
LOCATION:The Flea Market at Eastern Market\, 7th & C Street SE\, Capital Hill\, Washington\, DC\, United States
CATEGORIES:Antique Shows
END:VEVENT
BEGIN:VEVENT
DTSTART;TZID=America/New_York:20301006T100000
DTEND;TZID=America/New_York:20301006T170000
DTSTAMP:20260425T165121
CREATED:20251217T194809Z
LAST-MODIFIED:20260122T032027Z
UID:10004704-1917511200-1917536400@journalofantiques.com
SUMMARY:The Flea Market at Eastern Market
DESCRIPTION:January-December: Washington\, D.C.\nThe Flea Market at Eastern Market\n7th & C Street SE\, Capital Hill\nEvery Sunday\, 10am-5pm\nDiverse Markets\, 202-215-6993\ninfo@easternmarket.net\nwww.easternmarket.net
URL:https://journalofantiques.com/event/the-flea-market-at-eastern-market/2030-10-06/
LOCATION:The Flea Market at Eastern Market\, 7th & C Street SE\, Capital Hill\, Washington\, DC\, United States
CATEGORIES:Antique Shows
END:VEVENT
BEGIN:VEVENT
DTSTART;TZID=America/New_York:20301013T100000
DTEND;TZID=America/New_York:20301013T170000
DTSTAMP:20260425T165121
CREATED:20251217T194809Z
LAST-MODIFIED:20260122T032027Z
UID:10004705-1918116000-1918141200@journalofantiques.com
SUMMARY:The Flea Market at Eastern Market
DESCRIPTION:January-December: Washington\, D.C.\nThe Flea Market at Eastern Market\n7th & C Street SE\, Capital Hill\nEvery Sunday\, 10am-5pm\nDiverse Markets\, 202-215-6993\ninfo@easternmarket.net\nwww.easternmarket.net
URL:https://journalofantiques.com/event/the-flea-market-at-eastern-market/2030-10-13/
LOCATION:The Flea Market at Eastern Market\, 7th & C Street SE\, Capital Hill\, Washington\, DC\, United States
CATEGORIES:Antique Shows
END:VEVENT
BEGIN:VEVENT
DTSTART;TZID=America/New_York:20301020T100000
DTEND;TZID=America/New_York:20301020T170000
DTSTAMP:20260425T165121
CREATED:20251217T194809Z
LAST-MODIFIED:20260122T032027Z
UID:10004706-1918720800-1918746000@journalofantiques.com
SUMMARY:The Flea Market at Eastern Market
DESCRIPTION:January-December: Washington\, D.C.\nThe Flea Market at Eastern Market\n7th & C Street SE\, Capital Hill\nEvery Sunday\, 10am-5pm\nDiverse Markets\, 202-215-6993\ninfo@easternmarket.net\nwww.easternmarket.net
URL:https://journalofantiques.com/event/the-flea-market-at-eastern-market/2030-10-20/
LOCATION:The Flea Market at Eastern Market\, 7th & C Street SE\, Capital Hill\, Washington\, DC\, United States
CATEGORIES:Antique Shows
END:VEVENT
BEGIN:VEVENT
DTSTART;TZID=America/New_York:20301027T100000
DTEND;TZID=America/New_York:20301027T170000
DTSTAMP:20260425T165121
CREATED:20251217T194809Z
LAST-MODIFIED:20260122T032027Z
UID:10004707-1919325600-1919350800@journalofantiques.com
SUMMARY:The Flea Market at Eastern Market
DESCRIPTION:January-December: Washington\, D.C.\nThe Flea Market at Eastern Market\n7th & C Street SE\, Capital Hill\nEvery Sunday\, 10am-5pm\nDiverse Markets\, 202-215-6993\ninfo@easternmarket.net\nwww.easternmarket.net
URL:https://journalofantiques.com/event/the-flea-market-at-eastern-market/2030-10-27/
LOCATION:The Flea Market at Eastern Market\, 7th & C Street SE\, Capital Hill\, Washington\, DC\, United States
CATEGORIES:Antique Shows
END:VEVENT
BEGIN:VEVENT
DTSTART;TZID=America/New_York:20301103T100000
DTEND;TZID=America/New_York:20301103T170000
DTSTAMP:20260425T165121
CREATED:20251217T194809Z
LAST-MODIFIED:20260122T032027Z
UID:10004708-1919930400-1919955600@journalofantiques.com
SUMMARY:The Flea Market at Eastern Market
DESCRIPTION:January-December: Washington\, D.C.\nThe Flea Market at Eastern Market\n7th & C Street SE\, Capital Hill\nEvery Sunday\, 10am-5pm\nDiverse Markets\, 202-215-6993\ninfo@easternmarket.net\nwww.easternmarket.net
URL:https://journalofantiques.com/event/the-flea-market-at-eastern-market/2030-11-03/
LOCATION:The Flea Market at Eastern Market\, 7th & C Street SE\, Capital Hill\, Washington\, DC\, United States
CATEGORIES:Antique Shows
END:VEVENT
BEGIN:VEVENT
DTSTART;TZID=America/New_York:20301110T100000
DTEND;TZID=America/New_York:20301110T170000
DTSTAMP:20260425T165121
CREATED:20251217T194809Z
LAST-MODIFIED:20260122T032027Z
UID:10004709-1920535200-1920560400@journalofantiques.com
SUMMARY:The Flea Market at Eastern Market
DESCRIPTION:January-December: Washington\, D.C.\nThe Flea Market at Eastern Market\n7th & C Street SE\, Capital Hill\nEvery Sunday\, 10am-5pm\nDiverse Markets\, 202-215-6993\ninfo@easternmarket.net\nwww.easternmarket.net
URL:https://journalofantiques.com/event/the-flea-market-at-eastern-market/2030-11-10/
LOCATION:The Flea Market at Eastern Market\, 7th & C Street SE\, Capital Hill\, Washington\, DC\, United States
CATEGORIES:Antique Shows
END:VEVENT
BEGIN:VEVENT
DTSTART;TZID=America/New_York:20301117T100000
DTEND;TZID=America/New_York:20301117T170000
DTSTAMP:20260425T165121
CREATED:20251217T194809Z
LAST-MODIFIED:20260122T032027Z
UID:10004710-1921140000-1921165200@journalofantiques.com
SUMMARY:The Flea Market at Eastern Market
DESCRIPTION:January-December: Washington\, D.C.\nThe Flea Market at Eastern Market\n7th & C Street SE\, Capital Hill\nEvery Sunday\, 10am-5pm\nDiverse Markets\, 202-215-6993\ninfo@easternmarket.net\nwww.easternmarket.net
URL:https://journalofantiques.com/event/the-flea-market-at-eastern-market/2030-11-17/
LOCATION:The Flea Market at Eastern Market\, 7th & C Street SE\, Capital Hill\, Washington\, DC\, United States
CATEGORIES:Antique Shows
END:VEVENT
BEGIN:VEVENT
DTSTART;TZID=America/New_York:20301124T100000
DTEND;TZID=America/New_York:20301124T170000
DTSTAMP:20260425T165121
CREATED:20251217T194809Z
LAST-MODIFIED:20260122T032027Z
UID:10004711-1921744800-1921770000@journalofantiques.com
SUMMARY:The Flea Market at Eastern Market
DESCRIPTION:January-December: Washington\, D.C.\nThe Flea Market at Eastern Market\n7th & C Street SE\, Capital Hill\nEvery Sunday\, 10am-5pm\nDiverse Markets\, 202-215-6993\ninfo@easternmarket.net\nwww.easternmarket.net
URL:https://journalofantiques.com/event/the-flea-market-at-eastern-market/2030-11-24/
LOCATION:The Flea Market at Eastern Market\, 7th & C Street SE\, Capital Hill\, Washington\, DC\, United States
CATEGORIES:Antique Shows
END:VEVENT
END:VCALENDAR