    BEGIN:VCALENDAR
VERSION:2.0
PRODID:-//The Journal of Antiques and Collectibles - ECPv6.15.20//NONSGML v1.0//EN
CALSCALE:GREGORIAN
METHOD:PUBLISH
X-WR-CALNAME:The Journal of Antiques and Collectibles
X-ORIGINAL-URL:https://journalofantiques.com
X-WR-CALDESC:Events for The Journal of Antiques and Collectibles
REFRESH-INTERVAL;VALUE=DURATION:PT1H
X-Robots-Tag:noindex
X-PUBLISHED-TTL:PT1H
BEGIN:VTIMEZONE
TZID:America/New_York
BEGIN:DAYLIGHT
TZOFFSETFROM:-0500
TZOFFSETTO:-0400
TZNAME:EDT
DTSTART:20300310T070000
END:DAYLIGHT
BEGIN:STANDARD
TZOFFSETFROM:-0400
TZOFFSETTO:-0500
TZNAME:EST
DTSTART:20301103T060000
END:STANDARD
BEGIN:DAYLIGHT
TZOFFSETFROM:-0500
TZOFFSETTO:-0400
TZNAME:EDT
DTSTART:20310309T070000
END:DAYLIGHT
BEGIN:STANDARD
TZOFFSETFROM:-0400
TZOFFSETTO:-0500
TZNAME:EST
DTSTART:20311102T060000
END:STANDARD
BEGIN:DAYLIGHT
TZOFFSETFROM:-0500
TZOFFSETTO:-0400
TZNAME:EDT
DTSTART:20320314T070000
END:DAYLIGHT
BEGIN:STANDARD
TZOFFSETFROM:-0400
TZOFFSETTO:-0500
TZNAME:EST
DTSTART:20321107T060000
END:STANDARD
END:VTIMEZONE
BEGIN:VEVENT
DTSTART;TZID=America/New_York:20310209T100000
DTEND;TZID=America/New_York:20310209T170000
DTSTAMP:20260425T224348
CREATED:20251217T194809Z
LAST-MODIFIED:20260122T032027Z
UID:10005907-1928397600-1928422800@journalofantiques.com
SUMMARY:The Flea Market at Eastern Market
DESCRIPTION:January-December: Washington\, D.C.\nThe Flea Market at Eastern Market\n7th & C Street SE\, Capital Hill\nEvery Sunday\, 10am-5pm\nDiverse Markets\, 202-215-6993\ninfo@easternmarket.net\nwww.easternmarket.net
URL:https://journalofantiques.com/event/the-flea-market-at-eastern-market/2031-02-09/
LOCATION:The Flea Market at Eastern Market\, 7th & C Street SE\, Capital Hill\, Washington\, DC\, United States
CATEGORIES:Antique Shows
END:VEVENT
BEGIN:VEVENT
DTSTART;TZID=America/New_York:20310216T100000
DTEND;TZID=America/New_York:20310216T170000
DTSTAMP:20260425T224348
CREATED:20251217T194809Z
LAST-MODIFIED:20260122T032027Z
UID:10005908-1929002400-1929027600@journalofantiques.com
SUMMARY:The Flea Market at Eastern Market
DESCRIPTION:January-December: Washington\, D.C.\nThe Flea Market at Eastern Market\n7th & C Street SE\, Capital Hill\nEvery Sunday\, 10am-5pm\nDiverse Markets\, 202-215-6993\ninfo@easternmarket.net\nwww.easternmarket.net
URL:https://journalofantiques.com/event/the-flea-market-at-eastern-market/2031-02-16/
LOCATION:The Flea Market at Eastern Market\, 7th & C Street SE\, Capital Hill\, Washington\, DC\, United States
CATEGORIES:Antique Shows
END:VEVENT
BEGIN:VEVENT
DTSTART;TZID=America/New_York:20310223T100000
DTEND;TZID=America/New_York:20310223T170000
DTSTAMP:20260425T224348
CREATED:20251217T194809Z
LAST-MODIFIED:20260122T032027Z
UID:10005909-1929607200-1929632400@journalofantiques.com
SUMMARY:The Flea Market at Eastern Market
DESCRIPTION:January-December: Washington\, D.C.\nThe Flea Market at Eastern Market\n7th & C Street SE\, Capital Hill\nEvery Sunday\, 10am-5pm\nDiverse Markets\, 202-215-6993\ninfo@easternmarket.net\nwww.easternmarket.net
URL:https://journalofantiques.com/event/the-flea-market-at-eastern-market/2031-02-23/
LOCATION:The Flea Market at Eastern Market\, 7th & C Street SE\, Capital Hill\, Washington\, DC\, United States
CATEGORIES:Antique Shows
END:VEVENT
BEGIN:VEVENT
DTSTART;TZID=America/New_York:20310302T100000
DTEND;TZID=America/New_York:20310302T170000
DTSTAMP:20260425T224348
CREATED:20251217T194809Z
LAST-MODIFIED:20260122T032027Z
UID:10005910-1930212000-1930237200@journalofantiques.com
SUMMARY:The Flea Market at Eastern Market
DESCRIPTION:January-December: Washington\, D.C.\nThe Flea Market at Eastern Market\n7th & C Street SE\, Capital Hill\nEvery Sunday\, 10am-5pm\nDiverse Markets\, 202-215-6993\ninfo@easternmarket.net\nwww.easternmarket.net
URL:https://journalofantiques.com/event/the-flea-market-at-eastern-market/2031-03-02/
LOCATION:The Flea Market at Eastern Market\, 7th & C Street SE\, Capital Hill\, Washington\, DC\, United States
CATEGORIES:Antique Shows
END:VEVENT
BEGIN:VEVENT
DTSTART;TZID=America/New_York:20310309T100000
DTEND;TZID=America/New_York:20310309T170000
DTSTAMP:20260425T224348
CREATED:20251217T194809Z
LAST-MODIFIED:20260122T032027Z
UID:10005911-1930816800-1930842000@journalofantiques.com
SUMMARY:The Flea Market at Eastern Market
DESCRIPTION:January-December: Washington\, D.C.\nThe Flea Market at Eastern Market\n7th & C Street SE\, Capital Hill\nEvery Sunday\, 10am-5pm\nDiverse Markets\, 202-215-6993\ninfo@easternmarket.net\nwww.easternmarket.net
URL:https://journalofantiques.com/event/the-flea-market-at-eastern-market/2031-03-09/
LOCATION:The Flea Market at Eastern Market\, 7th & C Street SE\, Capital Hill\, Washington\, DC\, United States
CATEGORIES:Antique Shows
END:VEVENT
BEGIN:VEVENT
DTSTART;TZID=America/New_York:20310316T100000
DTEND;TZID=America/New_York:20310316T170000
DTSTAMP:20260425T224348
CREATED:20251217T194809Z
LAST-MODIFIED:20260122T032027Z
UID:10005912-1931421600-1931446800@journalofantiques.com
SUMMARY:The Flea Market at Eastern Market
DESCRIPTION:January-December: Washington\, D.C.\nThe Flea Market at Eastern Market\n7th & C Street SE\, Capital Hill\nEvery Sunday\, 10am-5pm\nDiverse Markets\, 202-215-6993\ninfo@easternmarket.net\nwww.easternmarket.net
URL:https://journalofantiques.com/event/the-flea-market-at-eastern-market/2031-03-16/
LOCATION:The Flea Market at Eastern Market\, 7th & C Street SE\, Capital Hill\, Washington\, DC\, United States
CATEGORIES:Antique Shows
END:VEVENT
BEGIN:VEVENT
DTSTART;TZID=America/New_York:20310323T100000
DTEND;TZID=America/New_York:20310323T170000
DTSTAMP:20260425T224348
CREATED:20251217T194809Z
LAST-MODIFIED:20260122T032027Z
UID:10005913-1932026400-1932051600@journalofantiques.com
SUMMARY:The Flea Market at Eastern Market
DESCRIPTION:January-December: Washington\, D.C.\nThe Flea Market at Eastern Market\n7th & C Street SE\, Capital Hill\nEvery Sunday\, 10am-5pm\nDiverse Markets\, 202-215-6993\ninfo@easternmarket.net\nwww.easternmarket.net
URL:https://journalofantiques.com/event/the-flea-market-at-eastern-market/2031-03-23/
LOCATION:The Flea Market at Eastern Market\, 7th & C Street SE\, Capital Hill\, Washington\, DC\, United States
CATEGORIES:Antique Shows
END:VEVENT
BEGIN:VEVENT
DTSTART;TZID=America/New_York:20310330T100000
DTEND;TZID=America/New_York:20310330T170000
DTSTAMP:20260425T224348
CREATED:20251217T194809Z
LAST-MODIFIED:20260122T032027Z
UID:10005914-1932631200-1932656400@journalofantiques.com
SUMMARY:The Flea Market at Eastern Market
DESCRIPTION:January-December: Washington\, D.C.\nThe Flea Market at Eastern Market\n7th & C Street SE\, Capital Hill\nEvery Sunday\, 10am-5pm\nDiverse Markets\, 202-215-6993\ninfo@easternmarket.net\nwww.easternmarket.net
URL:https://journalofantiques.com/event/the-flea-market-at-eastern-market/2031-03-30/
LOCATION:The Flea Market at Eastern Market\, 7th & C Street SE\, Capital Hill\, Washington\, DC\, United States
CATEGORIES:Antique Shows
END:VEVENT
BEGIN:VEVENT
DTSTART;TZID=America/New_York:20310406T100000
DTEND;TZID=America/New_York:20310406T170000
DTSTAMP:20260425T224348
CREATED:20251217T194809Z
LAST-MODIFIED:20260122T032027Z
UID:10005952-1933236000-1933261200@journalofantiques.com
SUMMARY:The Flea Market at Eastern Market
DESCRIPTION:January-December: Washington\, D.C.\nThe Flea Market at Eastern Market\n7th & C Street SE\, Capital Hill\nEvery Sunday\, 10am-5pm\nDiverse Markets\, 202-215-6993\ninfo@easternmarket.net\nwww.easternmarket.net
URL:https://journalofantiques.com/event/the-flea-market-at-eastern-market/2031-04-06/
LOCATION:The Flea Market at Eastern Market\, 7th & C Street SE\, Capital Hill\, Washington\, DC\, United States
CATEGORIES:Antique Shows
END:VEVENT
BEGIN:VEVENT
DTSTART;TZID=America/New_York:20310413T100000
DTEND;TZID=America/New_York:20310413T170000
DTSTAMP:20260425T224348
CREATED:20251217T194809Z
LAST-MODIFIED:20260122T032027Z
UID:10005971-1933840800-1933866000@journalofantiques.com
SUMMARY:The Flea Market at Eastern Market
DESCRIPTION:January-December: Washington\, D.C.\nThe Flea Market at Eastern Market\n7th & C Street SE\, Capital Hill\nEvery Sunday\, 10am-5pm\nDiverse Markets\, 202-215-6993\ninfo@easternmarket.net\nwww.easternmarket.net
URL:https://journalofantiques.com/event/the-flea-market-at-eastern-market/2031-04-13/
LOCATION:The Flea Market at Eastern Market\, 7th & C Street SE\, Capital Hill\, Washington\, DC\, United States
CATEGORIES:Antique Shows
END:VEVENT
END:VCALENDAR