    BEGIN:VCALENDAR
VERSION:2.0
PRODID:-//The Journal of Antiques and Collectibles - ECPv6.15.20//NONSGML v1.0//EN
CALSCALE:GREGORIAN
METHOD:PUBLISH
X-ORIGINAL-URL:https://journalofantiques.com
X-WR-CALDESC:Events for The Journal of Antiques and Collectibles
REFRESH-INTERVAL;VALUE=DURATION:PT1H
X-Robots-Tag:noindex
X-PUBLISHED-TTL:PT1H
BEGIN:VTIMEZONE
TZID:America/New_York
BEGIN:DAYLIGHT
TZOFFSETFROM:-0500
TZOFFSETTO:-0400
TZNAME:EDT
DTSTART:20250309T070000
END:DAYLIGHT
BEGIN:STANDARD
TZOFFSETFROM:-0400
TZOFFSETTO:-0500
TZNAME:EST
DTSTART:20251102T060000
END:STANDARD
BEGIN:DAYLIGHT
TZOFFSETFROM:-0500
TZOFFSETTO:-0400
TZNAME:EDT
DTSTART:20260308T070000
END:DAYLIGHT
BEGIN:STANDARD
TZOFFSETFROM:-0400
TZOFFSETTO:-0500
TZNAME:EST
DTSTART:20261101T060000
END:STANDARD
BEGIN:DAYLIGHT
TZOFFSETFROM:-0500
TZOFFSETTO:-0400
TZNAME:EDT
DTSTART:20270314T070000
END:DAYLIGHT
BEGIN:STANDARD
TZOFFSETFROM:-0400
TZOFFSETTO:-0500
TZNAME:EST
DTSTART:20271107T060000
END:STANDARD
END:VTIMEZONE
BEGIN:VEVENT
DTSTART;TZID=America/New_York:20260301T090000
DTEND;TZID=America/New_York:20260301T150000
DTSTAMP:20260424T172450
CREATED:20251217T225213Z
LAST-MODIFIED:20251217T225724Z
UID:10005238-1772355600-1772377200@journalofantiques.com
SUMMARY:57th Tolland Antiques Show
DESCRIPTION:March 1: Tolland\, CT \n57th Tolland Antiques Show \nTolland Middle School\, 1 Falcon Way \n9 am-3 pm \nGoosefare Antiques & Promotions \nJohn & Elizabeth DeSimone\, 800-641-6908 \ngoosefare@gwi.net\, www.goosefareantiques.com
URL:https://journalofantiques.com/event/57th-tolland-antiques-show/
LOCATION:Tolland Middle School\, 1 Falcon Way\, Tolland\, CT\, United States
CATEGORIES:Antique Shows
END:VEVENT
END:VCALENDAR