    BEGIN:VCALENDAR
VERSION:2.0
PRODID:-//The Journal of Antiques and Collectibles - ECPv6.15.20//NONSGML v1.0//EN
CALSCALE:GREGORIAN
METHOD:PUBLISH
X-WR-CALNAME:The Journal of Antiques and Collectibles
X-ORIGINAL-URL:https://journalofantiques.com
X-WR-CALDESC:Events for The Journal of Antiques and Collectibles
REFRESH-INTERVAL;VALUE=DURATION:PT1H
X-Robots-Tag:noindex
X-PUBLISHED-TTL:PT1H
BEGIN:VTIMEZONE
TZID:America/New_York
BEGIN:DAYLIGHT
TZOFFSETFROM:-0500
TZOFFSETTO:-0400
TZNAME:EDT
DTSTART:20280312T070000
END:DAYLIGHT
BEGIN:STANDARD
TZOFFSETFROM:-0400
TZOFFSETTO:-0500
TZNAME:EST
DTSTART:20281105T060000
END:STANDARD
BEGIN:DAYLIGHT
TZOFFSETFROM:-0500
TZOFFSETTO:-0400
TZNAME:EDT
DTSTART:20290311T070000
END:DAYLIGHT
BEGIN:STANDARD
TZOFFSETFROM:-0400
TZOFFSETTO:-0500
TZNAME:EST
DTSTART:20291104T060000
END:STANDARD
BEGIN:DAYLIGHT
TZOFFSETFROM:-0500
TZOFFSETTO:-0400
TZNAME:EDT
DTSTART:20300310T070000
END:DAYLIGHT
BEGIN:STANDARD
TZOFFSETFROM:-0400
TZOFFSETTO:-0500
TZNAME:EST
DTSTART:20301103T060000
END:STANDARD
END:VTIMEZONE
BEGIN:VEVENT
DTSTART;TZID=America/New_York:20290310T073000
DTEND;TZID=America/New_York:20290310T143000
DTSTAMP:20260425T074220
CREATED:20251217T195441Z
LAST-MODIFIED:20260409T174040Z
UID:10004872-1867822200-1867847400@journalofantiques.com
SUMMARY:Woodbury Antiques and Flea Market
DESCRIPTION:April-November: Woodbury\, CT\n44 Sherman Hill Road (Jct 6 & 64)\nEvery Saturday\, 7:30am-2:30pm\nFree Admission & Free Parking\n203-263-6217\nthenewwoodburyfleamarket@gmail.com\nhttps://www.facebook.com/woodburyflea/
URL:https://journalofantiques.com/event/woodbury-antiques-and-flea-market/2029-03-10/
LOCATION:Woodbury Antiques and Flea Market\, 44 Sherman Hill Road (Jct 6 & 64)\, Woodbury\, CT\, United States
CATEGORIES:Antique Shows
END:VEVENT
BEGIN:VEVENT
DTSTART;TZID=America/New_York:20290317T073000
DTEND;TZID=America/New_York:20290317T143000
DTSTAMP:20260425T074220
CREATED:20251217T195441Z
LAST-MODIFIED:20260409T174040Z
UID:10004873-1868427000-1868452200@journalofantiques.com
SUMMARY:Woodbury Antiques and Flea Market
DESCRIPTION:April-November: Woodbury\, CT\n44 Sherman Hill Road (Jct 6 & 64)\nEvery Saturday\, 7:30am-2:30pm\nFree Admission & Free Parking\n203-263-6217\nthenewwoodburyfleamarket@gmail.com\nhttps://www.facebook.com/woodburyflea/
URL:https://journalofantiques.com/event/woodbury-antiques-and-flea-market/2029-03-17/
LOCATION:Woodbury Antiques and Flea Market\, 44 Sherman Hill Road (Jct 6 & 64)\, Woodbury\, CT\, United States
CATEGORIES:Antique Shows
END:VEVENT
BEGIN:VEVENT
DTSTART;TZID=America/New_York:20290324T073000
DTEND;TZID=America/New_York:20290324T143000
DTSTAMP:20260425T074220
CREATED:20251217T195441Z
LAST-MODIFIED:20260409T174040Z
UID:10004874-1869031800-1869057000@journalofantiques.com
SUMMARY:Woodbury Antiques and Flea Market
DESCRIPTION:April-November: Woodbury\, CT\n44 Sherman Hill Road (Jct 6 & 64)\nEvery Saturday\, 7:30am-2:30pm\nFree Admission & Free Parking\n203-263-6217\nthenewwoodburyfleamarket@gmail.com\nhttps://www.facebook.com/woodburyflea/
URL:https://journalofantiques.com/event/woodbury-antiques-and-flea-market/2029-03-24/
LOCATION:Woodbury Antiques and Flea Market\, 44 Sherman Hill Road (Jct 6 & 64)\, Woodbury\, CT\, United States
CATEGORIES:Antique Shows
END:VEVENT
BEGIN:VEVENT
DTSTART;TZID=America/New_York:20290331T073000
DTEND;TZID=America/New_York:20290331T143000
DTSTAMP:20260425T074220
CREATED:20251217T195441Z
LAST-MODIFIED:20260409T174040Z
UID:10004875-1869636600-1869661800@journalofantiques.com
SUMMARY:Woodbury Antiques and Flea Market
DESCRIPTION:April-November: Woodbury\, CT\n44 Sherman Hill Road (Jct 6 & 64)\nEvery Saturday\, 7:30am-2:30pm\nFree Admission & Free Parking\n203-263-6217\nthenewwoodburyfleamarket@gmail.com\nhttps://www.facebook.com/woodburyflea/
URL:https://journalofantiques.com/event/woodbury-antiques-and-flea-market/2029-03-31/
LOCATION:Woodbury Antiques and Flea Market\, 44 Sherman Hill Road (Jct 6 & 64)\, Woodbury\, CT\, United States
CATEGORIES:Antique Shows
END:VEVENT
BEGIN:VEVENT
DTSTART;TZID=America/New_York:20290407T073000
DTEND;TZID=America/New_York:20290407T143000
DTSTAMP:20260425T074220
CREATED:20251217T195441Z
LAST-MODIFIED:20260409T174040Z
UID:10004876-1870241400-1870266600@journalofantiques.com
SUMMARY:Woodbury Antiques and Flea Market
DESCRIPTION:April-November: Woodbury\, CT\n44 Sherman Hill Road (Jct 6 & 64)\nEvery Saturday\, 7:30am-2:30pm\nFree Admission & Free Parking\n203-263-6217\nthenewwoodburyfleamarket@gmail.com\nhttps://www.facebook.com/woodburyflea/
URL:https://journalofantiques.com/event/woodbury-antiques-and-flea-market/2029-04-07/
LOCATION:Woodbury Antiques and Flea Market\, 44 Sherman Hill Road (Jct 6 & 64)\, Woodbury\, CT\, United States
CATEGORIES:Antique Shows
END:VEVENT
BEGIN:VEVENT
DTSTART;TZID=America/New_York:20290414T073000
DTEND;TZID=America/New_York:20290414T143000
DTSTAMP:20260425T074220
CREATED:20251217T195441Z
LAST-MODIFIED:20260409T174040Z
UID:10004877-1870846200-1870871400@journalofantiques.com
SUMMARY:Woodbury Antiques and Flea Market
DESCRIPTION:April-November: Woodbury\, CT\n44 Sherman Hill Road (Jct 6 & 64)\nEvery Saturday\, 7:30am-2:30pm\nFree Admission & Free Parking\n203-263-6217\nthenewwoodburyfleamarket@gmail.com\nhttps://www.facebook.com/woodburyflea/
URL:https://journalofantiques.com/event/woodbury-antiques-and-flea-market/2029-04-14/
LOCATION:Woodbury Antiques and Flea Market\, 44 Sherman Hill Road (Jct 6 & 64)\, Woodbury\, CT\, United States
CATEGORIES:Antique Shows
END:VEVENT
BEGIN:VEVENT
DTSTART;TZID=America/New_York:20290421T073000
DTEND;TZID=America/New_York:20290421T143000
DTSTAMP:20260425T074220
CREATED:20251217T195441Z
LAST-MODIFIED:20260409T174040Z
UID:10004878-1871451000-1871476200@journalofantiques.com
SUMMARY:Woodbury Antiques and Flea Market
DESCRIPTION:April-November: Woodbury\, CT\n44 Sherman Hill Road (Jct 6 & 64)\nEvery Saturday\, 7:30am-2:30pm\nFree Admission & Free Parking\n203-263-6217\nthenewwoodburyfleamarket@gmail.com\nhttps://www.facebook.com/woodburyflea/
URL:https://journalofantiques.com/event/woodbury-antiques-and-flea-market/2029-04-21/
LOCATION:Woodbury Antiques and Flea Market\, 44 Sherman Hill Road (Jct 6 & 64)\, Woodbury\, CT\, United States
CATEGORIES:Antique Shows
END:VEVENT
BEGIN:VEVENT
DTSTART;TZID=America/New_York:20290428T073000
DTEND;TZID=America/New_York:20290428T143000
DTSTAMP:20260425T074220
CREATED:20251217T195441Z
LAST-MODIFIED:20260409T174040Z
UID:10004879-1872055800-1872081000@journalofantiques.com
SUMMARY:Woodbury Antiques and Flea Market
DESCRIPTION:April-November: Woodbury\, CT\n44 Sherman Hill Road (Jct 6 & 64)\nEvery Saturday\, 7:30am-2:30pm\nFree Admission & Free Parking\n203-263-6217\nthenewwoodburyfleamarket@gmail.com\nhttps://www.facebook.com/woodburyflea/
URL:https://journalofantiques.com/event/woodbury-antiques-and-flea-market/2029-04-28/
LOCATION:Woodbury Antiques and Flea Market\, 44 Sherman Hill Road (Jct 6 & 64)\, Woodbury\, CT\, United States
CATEGORIES:Antique Shows
END:VEVENT
BEGIN:VEVENT
DTSTART;TZID=America/New_York:20290505T073000
DTEND;TZID=America/New_York:20290505T143000
DTSTAMP:20260425T074220
CREATED:20251217T195441Z
LAST-MODIFIED:20260409T174040Z
UID:10004880-1872660600-1872685800@journalofantiques.com
SUMMARY:Woodbury Antiques and Flea Market
DESCRIPTION:April-November: Woodbury\, CT\n44 Sherman Hill Road (Jct 6 & 64)\nEvery Saturday\, 7:30am-2:30pm\nFree Admission & Free Parking\n203-263-6217\nthenewwoodburyfleamarket@gmail.com\nhttps://www.facebook.com/woodburyflea/
URL:https://journalofantiques.com/event/woodbury-antiques-and-flea-market/2029-05-05/
LOCATION:Woodbury Antiques and Flea Market\, 44 Sherman Hill Road (Jct 6 & 64)\, Woodbury\, CT\, United States
CATEGORIES:Antique Shows
END:VEVENT
BEGIN:VEVENT
DTSTART;TZID=America/New_York:20290512T073000
DTEND;TZID=America/New_York:20290512T143000
DTSTAMP:20260425T074220
CREATED:20251217T195441Z
LAST-MODIFIED:20260409T174040Z
UID:10004881-1873265400-1873290600@journalofantiques.com
SUMMARY:Woodbury Antiques and Flea Market
DESCRIPTION:April-November: Woodbury\, CT\n44 Sherman Hill Road (Jct 6 & 64)\nEvery Saturday\, 7:30am-2:30pm\nFree Admission & Free Parking\n203-263-6217\nthenewwoodburyfleamarket@gmail.com\nhttps://www.facebook.com/woodburyflea/
URL:https://journalofantiques.com/event/woodbury-antiques-and-flea-market/2029-05-12/
LOCATION:Woodbury Antiques and Flea Market\, 44 Sherman Hill Road (Jct 6 & 64)\, Woodbury\, CT\, United States
CATEGORIES:Antique Shows
END:VEVENT
BEGIN:VEVENT
DTSTART;TZID=America/New_York:20290519T073000
DTEND;TZID=America/New_York:20290519T143000
DTSTAMP:20260425T074220
CREATED:20251217T195441Z
LAST-MODIFIED:20260409T174040Z
UID:10004882-1873870200-1873895400@journalofantiques.com
SUMMARY:Woodbury Antiques and Flea Market
DESCRIPTION:April-November: Woodbury\, CT\n44 Sherman Hill Road (Jct 6 & 64)\nEvery Saturday\, 7:30am-2:30pm\nFree Admission & Free Parking\n203-263-6217\nthenewwoodburyfleamarket@gmail.com\nhttps://www.facebook.com/woodburyflea/
URL:https://journalofantiques.com/event/woodbury-antiques-and-flea-market/2029-05-19/
LOCATION:Woodbury Antiques and Flea Market\, 44 Sherman Hill Road (Jct 6 & 64)\, Woodbury\, CT\, United States
CATEGORIES:Antique Shows
END:VEVENT
BEGIN:VEVENT
DTSTART;TZID=America/New_York:20290526T073000
DTEND;TZID=America/New_York:20290526T143000
DTSTAMP:20260425T074220
CREATED:20251217T195441Z
LAST-MODIFIED:20260409T174040Z
UID:10004883-1874475000-1874500200@journalofantiques.com
SUMMARY:Woodbury Antiques and Flea Market
DESCRIPTION:April-November: Woodbury\, CT\n44 Sherman Hill Road (Jct 6 & 64)\nEvery Saturday\, 7:30am-2:30pm\nFree Admission & Free Parking\n203-263-6217\nthenewwoodburyfleamarket@gmail.com\nhttps://www.facebook.com/woodburyflea/
URL:https://journalofantiques.com/event/woodbury-antiques-and-flea-market/2029-05-26/
LOCATION:Woodbury Antiques and Flea Market\, 44 Sherman Hill Road (Jct 6 & 64)\, Woodbury\, CT\, United States
CATEGORIES:Antique Shows
END:VEVENT
BEGIN:VEVENT
DTSTART;TZID=America/New_York:20290602T073000
DTEND;TZID=America/New_York:20290602T143000
DTSTAMP:20260425T074220
CREATED:20251217T195441Z
LAST-MODIFIED:20260409T174040Z
UID:10004884-1875079800-1875105000@journalofantiques.com
SUMMARY:Woodbury Antiques and Flea Market
DESCRIPTION:April-November: Woodbury\, CT\n44 Sherman Hill Road (Jct 6 & 64)\nEvery Saturday\, 7:30am-2:30pm\nFree Admission & Free Parking\n203-263-6217\nthenewwoodburyfleamarket@gmail.com\nhttps://www.facebook.com/woodburyflea/
URL:https://journalofantiques.com/event/woodbury-antiques-and-flea-market/2029-06-02/
LOCATION:Woodbury Antiques and Flea Market\, 44 Sherman Hill Road (Jct 6 & 64)\, Woodbury\, CT\, United States
CATEGORIES:Antique Shows
END:VEVENT
BEGIN:VEVENT
DTSTART;TZID=America/New_York:20290609T073000
DTEND;TZID=America/New_York:20290609T143000
DTSTAMP:20260425T074220
CREATED:20251217T195441Z
LAST-MODIFIED:20260409T174040Z
UID:10004885-1875684600-1875709800@journalofantiques.com
SUMMARY:Woodbury Antiques and Flea Market
DESCRIPTION:April-November: Woodbury\, CT\n44 Sherman Hill Road (Jct 6 & 64)\nEvery Saturday\, 7:30am-2:30pm\nFree Admission & Free Parking\n203-263-6217\nthenewwoodburyfleamarket@gmail.com\nhttps://www.facebook.com/woodburyflea/
URL:https://journalofantiques.com/event/woodbury-antiques-and-flea-market/2029-06-09/
LOCATION:Woodbury Antiques and Flea Market\, 44 Sherman Hill Road (Jct 6 & 64)\, Woodbury\, CT\, United States
CATEGORIES:Antique Shows
END:VEVENT
BEGIN:VEVENT
DTSTART;TZID=America/New_York:20290616T073000
DTEND;TZID=America/New_York:20290616T143000
DTSTAMP:20260425T074220
CREATED:20251217T195441Z
LAST-MODIFIED:20260409T174040Z
UID:10004886-1876289400-1876314600@journalofantiques.com
SUMMARY:Woodbury Antiques and Flea Market
DESCRIPTION:April-November: Woodbury\, CT\n44 Sherman Hill Road (Jct 6 & 64)\nEvery Saturday\, 7:30am-2:30pm\nFree Admission & Free Parking\n203-263-6217\nthenewwoodburyfleamarket@gmail.com\nhttps://www.facebook.com/woodburyflea/
URL:https://journalofantiques.com/event/woodbury-antiques-and-flea-market/2029-06-16/
LOCATION:Woodbury Antiques and Flea Market\, 44 Sherman Hill Road (Jct 6 & 64)\, Woodbury\, CT\, United States
CATEGORIES:Antique Shows
END:VEVENT
BEGIN:VEVENT
DTSTART;TZID=America/New_York:20290623T073000
DTEND;TZID=America/New_York:20290623T143000
DTSTAMP:20260425T074220
CREATED:20251217T195441Z
LAST-MODIFIED:20260409T174040Z
UID:10004887-1876894200-1876919400@journalofantiques.com
SUMMARY:Woodbury Antiques and Flea Market
DESCRIPTION:April-November: Woodbury\, CT\n44 Sherman Hill Road (Jct 6 & 64)\nEvery Saturday\, 7:30am-2:30pm\nFree Admission & Free Parking\n203-263-6217\nthenewwoodburyfleamarket@gmail.com\nhttps://www.facebook.com/woodburyflea/
URL:https://journalofantiques.com/event/woodbury-antiques-and-flea-market/2029-06-23/
LOCATION:Woodbury Antiques and Flea Market\, 44 Sherman Hill Road (Jct 6 & 64)\, Woodbury\, CT\, United States
CATEGORIES:Antique Shows
END:VEVENT
BEGIN:VEVENT
DTSTART;TZID=America/New_York:20290630T073000
DTEND;TZID=America/New_York:20290630T143000
DTSTAMP:20260425T074220
CREATED:20251217T195441Z
LAST-MODIFIED:20260409T174040Z
UID:10004888-1877499000-1877524200@journalofantiques.com
SUMMARY:Woodbury Antiques and Flea Market
DESCRIPTION:April-November: Woodbury\, CT\n44 Sherman Hill Road (Jct 6 & 64)\nEvery Saturday\, 7:30am-2:30pm\nFree Admission & Free Parking\n203-263-6217\nthenewwoodburyfleamarket@gmail.com\nhttps://www.facebook.com/woodburyflea/
URL:https://journalofantiques.com/event/woodbury-antiques-and-flea-market/2029-06-30/
LOCATION:Woodbury Antiques and Flea Market\, 44 Sherman Hill Road (Jct 6 & 64)\, Woodbury\, CT\, United States
CATEGORIES:Antique Shows
END:VEVENT
BEGIN:VEVENT
DTSTART;TZID=America/New_York:20290707T073000
DTEND;TZID=America/New_York:20290707T143000
DTSTAMP:20260425T074220
CREATED:20251217T195441Z
LAST-MODIFIED:20260409T174040Z
UID:10004889-1878103800-1878129000@journalofantiques.com
SUMMARY:Woodbury Antiques and Flea Market
DESCRIPTION:April-November: Woodbury\, CT\n44 Sherman Hill Road (Jct 6 & 64)\nEvery Saturday\, 7:30am-2:30pm\nFree Admission & Free Parking\n203-263-6217\nthenewwoodburyfleamarket@gmail.com\nhttps://www.facebook.com/woodburyflea/
URL:https://journalofantiques.com/event/woodbury-antiques-and-flea-market/2029-07-07/
LOCATION:Woodbury Antiques and Flea Market\, 44 Sherman Hill Road (Jct 6 & 64)\, Woodbury\, CT\, United States
CATEGORIES:Antique Shows
END:VEVENT
BEGIN:VEVENT
DTSTART;TZID=America/New_York:20290714T073000
DTEND;TZID=America/New_York:20290714T143000
DTSTAMP:20260425T074220
CREATED:20251217T195441Z
LAST-MODIFIED:20260409T174040Z
UID:10004890-1878708600-1878733800@journalofantiques.com
SUMMARY:Woodbury Antiques and Flea Market
DESCRIPTION:April-November: Woodbury\, CT\n44 Sherman Hill Road (Jct 6 & 64)\nEvery Saturday\, 7:30am-2:30pm\nFree Admission & Free Parking\n203-263-6217\nthenewwoodburyfleamarket@gmail.com\nhttps://www.facebook.com/woodburyflea/
URL:https://journalofantiques.com/event/woodbury-antiques-and-flea-market/2029-07-14/
LOCATION:Woodbury Antiques and Flea Market\, 44 Sherman Hill Road (Jct 6 & 64)\, Woodbury\, CT\, United States
CATEGORIES:Antique Shows
END:VEVENT
BEGIN:VEVENT
DTSTART;TZID=America/New_York:20290721T073000
DTEND;TZID=America/New_York:20290721T143000
DTSTAMP:20260425T074220
CREATED:20251217T195441Z
LAST-MODIFIED:20260409T174040Z
UID:10004891-1879313400-1879338600@journalofantiques.com
SUMMARY:Woodbury Antiques and Flea Market
DESCRIPTION:April-November: Woodbury\, CT\n44 Sherman Hill Road (Jct 6 & 64)\nEvery Saturday\, 7:30am-2:30pm\nFree Admission & Free Parking\n203-263-6217\nthenewwoodburyfleamarket@gmail.com\nhttps://www.facebook.com/woodburyflea/
URL:https://journalofantiques.com/event/woodbury-antiques-and-flea-market/2029-07-21/
LOCATION:Woodbury Antiques and Flea Market\, 44 Sherman Hill Road (Jct 6 & 64)\, Woodbury\, CT\, United States
CATEGORIES:Antique Shows
END:VEVENT
BEGIN:VEVENT
DTSTART;TZID=America/New_York:20290728T073000
DTEND;TZID=America/New_York:20290728T143000
DTSTAMP:20260425T074220
CREATED:20251217T195441Z
LAST-MODIFIED:20260409T174040Z
UID:10004892-1879918200-1879943400@journalofantiques.com
SUMMARY:Woodbury Antiques and Flea Market
DESCRIPTION:April-November: Woodbury\, CT\n44 Sherman Hill Road (Jct 6 & 64)\nEvery Saturday\, 7:30am-2:30pm\nFree Admission & Free Parking\n203-263-6217\nthenewwoodburyfleamarket@gmail.com\nhttps://www.facebook.com/woodburyflea/
URL:https://journalofantiques.com/event/woodbury-antiques-and-flea-market/2029-07-28/
LOCATION:Woodbury Antiques and Flea Market\, 44 Sherman Hill Road (Jct 6 & 64)\, Woodbury\, CT\, United States
CATEGORIES:Antique Shows
END:VEVENT
BEGIN:VEVENT
DTSTART;TZID=America/New_York:20290804T073000
DTEND;TZID=America/New_York:20290804T143000
DTSTAMP:20260425T074220
CREATED:20251217T195441Z
LAST-MODIFIED:20260409T174040Z
UID:10004893-1880523000-1880548200@journalofantiques.com
SUMMARY:Woodbury Antiques and Flea Market
DESCRIPTION:April-November: Woodbury\, CT\n44 Sherman Hill Road (Jct 6 & 64)\nEvery Saturday\, 7:30am-2:30pm\nFree Admission & Free Parking\n203-263-6217\nthenewwoodburyfleamarket@gmail.com\nhttps://www.facebook.com/woodburyflea/
URL:https://journalofantiques.com/event/woodbury-antiques-and-flea-market/2029-08-04/
LOCATION:Woodbury Antiques and Flea Market\, 44 Sherman Hill Road (Jct 6 & 64)\, Woodbury\, CT\, United States
CATEGORIES:Antique Shows
END:VEVENT
BEGIN:VEVENT
DTSTART;TZID=America/New_York:20290811T073000
DTEND;TZID=America/New_York:20290811T143000
DTSTAMP:20260425T074220
CREATED:20251217T195441Z
LAST-MODIFIED:20260409T174040Z
UID:10004894-1881127800-1881153000@journalofantiques.com
SUMMARY:Woodbury Antiques and Flea Market
DESCRIPTION:April-November: Woodbury\, CT\n44 Sherman Hill Road (Jct 6 & 64)\nEvery Saturday\, 7:30am-2:30pm\nFree Admission & Free Parking\n203-263-6217\nthenewwoodburyfleamarket@gmail.com\nhttps://www.facebook.com/woodburyflea/
URL:https://journalofantiques.com/event/woodbury-antiques-and-flea-market/2029-08-11/
LOCATION:Woodbury Antiques and Flea Market\, 44 Sherman Hill Road (Jct 6 & 64)\, Woodbury\, CT\, United States
CATEGORIES:Antique Shows
END:VEVENT
BEGIN:VEVENT
DTSTART;TZID=America/New_York:20290818T073000
DTEND;TZID=America/New_York:20290818T143000
DTSTAMP:20260425T074220
CREATED:20251217T195441Z
LAST-MODIFIED:20260409T174040Z
UID:10004895-1881732600-1881757800@journalofantiques.com
SUMMARY:Woodbury Antiques and Flea Market
DESCRIPTION:April-November: Woodbury\, CT\n44 Sherman Hill Road (Jct 6 & 64)\nEvery Saturday\, 7:30am-2:30pm\nFree Admission & Free Parking\n203-263-6217\nthenewwoodburyfleamarket@gmail.com\nhttps://www.facebook.com/woodburyflea/
URL:https://journalofantiques.com/event/woodbury-antiques-and-flea-market/2029-08-18/
LOCATION:Woodbury Antiques and Flea Market\, 44 Sherman Hill Road (Jct 6 & 64)\, Woodbury\, CT\, United States
CATEGORIES:Antique Shows
END:VEVENT
BEGIN:VEVENT
DTSTART;TZID=America/New_York:20290825T073000
DTEND;TZID=America/New_York:20290825T143000
DTSTAMP:20260425T074220
CREATED:20251217T195441Z
LAST-MODIFIED:20260409T174040Z
UID:10004896-1882337400-1882362600@journalofantiques.com
SUMMARY:Woodbury Antiques and Flea Market
DESCRIPTION:April-November: Woodbury\, CT\n44 Sherman Hill Road (Jct 6 & 64)\nEvery Saturday\, 7:30am-2:30pm\nFree Admission & Free Parking\n203-263-6217\nthenewwoodburyfleamarket@gmail.com\nhttps://www.facebook.com/woodburyflea/
URL:https://journalofantiques.com/event/woodbury-antiques-and-flea-market/2029-08-25/
LOCATION:Woodbury Antiques and Flea Market\, 44 Sherman Hill Road (Jct 6 & 64)\, Woodbury\, CT\, United States
CATEGORIES:Antique Shows
END:VEVENT
BEGIN:VEVENT
DTSTART;TZID=America/New_York:20290901T073000
DTEND;TZID=America/New_York:20290901T143000
DTSTAMP:20260425T074220
CREATED:20251217T195441Z
LAST-MODIFIED:20260409T174040Z
UID:10004897-1882942200-1882967400@journalofantiques.com
SUMMARY:Woodbury Antiques and Flea Market
DESCRIPTION:April-November: Woodbury\, CT\n44 Sherman Hill Road (Jct 6 & 64)\nEvery Saturday\, 7:30am-2:30pm\nFree Admission & Free Parking\n203-263-6217\nthenewwoodburyfleamarket@gmail.com\nhttps://www.facebook.com/woodburyflea/
URL:https://journalofantiques.com/event/woodbury-antiques-and-flea-market/2029-09-01/
LOCATION:Woodbury Antiques and Flea Market\, 44 Sherman Hill Road (Jct 6 & 64)\, Woodbury\, CT\, United States
CATEGORIES:Antique Shows
END:VEVENT
BEGIN:VEVENT
DTSTART;TZID=America/New_York:20290908T073000
DTEND;TZID=America/New_York:20290908T143000
DTSTAMP:20260425T074220
CREATED:20251217T195441Z
LAST-MODIFIED:20260409T174040Z
UID:10004898-1883547000-1883572200@journalofantiques.com
SUMMARY:Woodbury Antiques and Flea Market
DESCRIPTION:April-November: Woodbury\, CT\n44 Sherman Hill Road (Jct 6 & 64)\nEvery Saturday\, 7:30am-2:30pm\nFree Admission & Free Parking\n203-263-6217\nthenewwoodburyfleamarket@gmail.com\nhttps://www.facebook.com/woodburyflea/
URL:https://journalofantiques.com/event/woodbury-antiques-and-flea-market/2029-09-08/
LOCATION:Woodbury Antiques and Flea Market\, 44 Sherman Hill Road (Jct 6 & 64)\, Woodbury\, CT\, United States
CATEGORIES:Antique Shows
END:VEVENT
BEGIN:VEVENT
DTSTART;TZID=America/New_York:20290915T073000
DTEND;TZID=America/New_York:20290915T143000
DTSTAMP:20260425T074220
CREATED:20251217T195441Z
LAST-MODIFIED:20260409T174040Z
UID:10004899-1884151800-1884177000@journalofantiques.com
SUMMARY:Woodbury Antiques and Flea Market
DESCRIPTION:April-November: Woodbury\, CT\n44 Sherman Hill Road (Jct 6 & 64)\nEvery Saturday\, 7:30am-2:30pm\nFree Admission & Free Parking\n203-263-6217\nthenewwoodburyfleamarket@gmail.com\nhttps://www.facebook.com/woodburyflea/
URL:https://journalofantiques.com/event/woodbury-antiques-and-flea-market/2029-09-15/
LOCATION:Woodbury Antiques and Flea Market\, 44 Sherman Hill Road (Jct 6 & 64)\, Woodbury\, CT\, United States
CATEGORIES:Antique Shows
END:VEVENT
BEGIN:VEVENT
DTSTART;TZID=America/New_York:20290922T073000
DTEND;TZID=America/New_York:20290922T143000
DTSTAMP:20260425T074220
CREATED:20251217T195441Z
LAST-MODIFIED:20260409T174040Z
UID:10004900-1884756600-1884781800@journalofantiques.com
SUMMARY:Woodbury Antiques and Flea Market
DESCRIPTION:April-November: Woodbury\, CT\n44 Sherman Hill Road (Jct 6 & 64)\nEvery Saturday\, 7:30am-2:30pm\nFree Admission & Free Parking\n203-263-6217\nthenewwoodburyfleamarket@gmail.com\nhttps://www.facebook.com/woodburyflea/
URL:https://journalofantiques.com/event/woodbury-antiques-and-flea-market/2029-09-22/
LOCATION:Woodbury Antiques and Flea Market\, 44 Sherman Hill Road (Jct 6 & 64)\, Woodbury\, CT\, United States
CATEGORIES:Antique Shows
END:VEVENT
BEGIN:VEVENT
DTSTART;TZID=America/New_York:20290929T073000
DTEND;TZID=America/New_York:20290929T143000
DTSTAMP:20260425T074220
CREATED:20251217T195441Z
LAST-MODIFIED:20260409T174040Z
UID:10004901-1885361400-1885386600@journalofantiques.com
SUMMARY:Woodbury Antiques and Flea Market
DESCRIPTION:April-November: Woodbury\, CT\n44 Sherman Hill Road (Jct 6 & 64)\nEvery Saturday\, 7:30am-2:30pm\nFree Admission & Free Parking\n203-263-6217\nthenewwoodburyfleamarket@gmail.com\nhttps://www.facebook.com/woodburyflea/
URL:https://journalofantiques.com/event/woodbury-antiques-and-flea-market/2029-09-29/
LOCATION:Woodbury Antiques and Flea Market\, 44 Sherman Hill Road (Jct 6 & 64)\, Woodbury\, CT\, United States
CATEGORIES:Antique Shows
END:VEVENT
END:VCALENDAR