    BEGIN:VCALENDAR
VERSION:2.0
PRODID:-//The Journal of Antiques and Collectibles - ECPv6.15.20//NONSGML v1.0//EN
CALSCALE:GREGORIAN
METHOD:PUBLISH
X-WR-CALNAME:The Journal of Antiques and Collectibles
X-ORIGINAL-URL:https://journalofantiques.com
X-WR-CALDESC:Events for The Journal of Antiques and Collectibles
REFRESH-INTERVAL;VALUE=DURATION:PT1H
X-Robots-Tag:noindex
X-PUBLISHED-TTL:PT1H
BEGIN:VTIMEZONE
TZID:America/New_York
BEGIN:DAYLIGHT
TZOFFSETFROM:-0500
TZOFFSETTO:-0400
TZNAME:EDT
DTSTART:20280312T070000
END:DAYLIGHT
BEGIN:STANDARD
TZOFFSETFROM:-0400
TZOFFSETTO:-0500
TZNAME:EST
DTSTART:20281105T060000
END:STANDARD
BEGIN:DAYLIGHT
TZOFFSETFROM:-0500
TZOFFSETTO:-0400
TZNAME:EDT
DTSTART:20290311T070000
END:DAYLIGHT
BEGIN:STANDARD
TZOFFSETFROM:-0400
TZOFFSETTO:-0500
TZNAME:EST
DTSTART:20291104T060000
END:STANDARD
BEGIN:DAYLIGHT
TZOFFSETFROM:-0500
TZOFFSETTO:-0400
TZNAME:EDT
DTSTART:20300310T070000
END:DAYLIGHT
BEGIN:STANDARD
TZOFFSETFROM:-0400
TZOFFSETTO:-0500
TZNAME:EST
DTSTART:20301103T060000
END:STANDARD
BEGIN:DAYLIGHT
TZOFFSETFROM:-0500
TZOFFSETTO:-0400
TZNAME:EDT
DTSTART:20310309T070000
END:DAYLIGHT
BEGIN:STANDARD
TZOFFSETFROM:-0400
TZOFFSETTO:-0500
TZNAME:EST
DTSTART:20311102T060000
END:STANDARD
END:VTIMEZONE
BEGIN:VEVENT
DTSTART;TZID=America/New_York:20290728T073000
DTEND;TZID=America/New_York:20290728T143000
DTSTAMP:20260425T105927
CREATED:20251217T195441Z
LAST-MODIFIED:20260409T174040Z
UID:10004892-1879918200-1879943400@journalofantiques.com
SUMMARY:Woodbury Antiques and Flea Market
DESCRIPTION:April-November: Woodbury\, CT\n44 Sherman Hill Road (Jct 6 & 64)\nEvery Saturday\, 7:30am-2:30pm\nFree Admission & Free Parking\n203-263-6217\nthenewwoodburyfleamarket@gmail.com\nhttps://www.facebook.com/woodburyflea/
URL:https://journalofantiques.com/event/woodbury-antiques-and-flea-market/2029-07-28/
LOCATION:Woodbury Antiques and Flea Market\, 44 Sherman Hill Road (Jct 6 & 64)\, Woodbury\, CT\, United States
CATEGORIES:Antique Shows
END:VEVENT
BEGIN:VEVENT
DTSTART;TZID=America/New_York:20290804T073000
DTEND;TZID=America/New_York:20290804T143000
DTSTAMP:20260425T105927
CREATED:20251217T195441Z
LAST-MODIFIED:20260409T174040Z
UID:10004893-1880523000-1880548200@journalofantiques.com
SUMMARY:Woodbury Antiques and Flea Market
DESCRIPTION:April-November: Woodbury\, CT\n44 Sherman Hill Road (Jct 6 & 64)\nEvery Saturday\, 7:30am-2:30pm\nFree Admission & Free Parking\n203-263-6217\nthenewwoodburyfleamarket@gmail.com\nhttps://www.facebook.com/woodburyflea/
URL:https://journalofantiques.com/event/woodbury-antiques-and-flea-market/2029-08-04/
LOCATION:Woodbury Antiques and Flea Market\, 44 Sherman Hill Road (Jct 6 & 64)\, Woodbury\, CT\, United States
CATEGORIES:Antique Shows
END:VEVENT
BEGIN:VEVENT
DTSTART;TZID=America/New_York:20290811T073000
DTEND;TZID=America/New_York:20290811T143000
DTSTAMP:20260425T105927
CREATED:20251217T195441Z
LAST-MODIFIED:20260409T174040Z
UID:10004894-1881127800-1881153000@journalofantiques.com
SUMMARY:Woodbury Antiques and Flea Market
DESCRIPTION:April-November: Woodbury\, CT\n44 Sherman Hill Road (Jct 6 & 64)\nEvery Saturday\, 7:30am-2:30pm\nFree Admission & Free Parking\n203-263-6217\nthenewwoodburyfleamarket@gmail.com\nhttps://www.facebook.com/woodburyflea/
URL:https://journalofantiques.com/event/woodbury-antiques-and-flea-market/2029-08-11/
LOCATION:Woodbury Antiques and Flea Market\, 44 Sherman Hill Road (Jct 6 & 64)\, Woodbury\, CT\, United States
CATEGORIES:Antique Shows
END:VEVENT
BEGIN:VEVENT
DTSTART;TZID=America/New_York:20290818T073000
DTEND;TZID=America/New_York:20290818T143000
DTSTAMP:20260425T105927
CREATED:20251217T195441Z
LAST-MODIFIED:20260409T174040Z
UID:10004895-1881732600-1881757800@journalofantiques.com
SUMMARY:Woodbury Antiques and Flea Market
DESCRIPTION:April-November: Woodbury\, CT\n44 Sherman Hill Road (Jct 6 & 64)\nEvery Saturday\, 7:30am-2:30pm\nFree Admission & Free Parking\n203-263-6217\nthenewwoodburyfleamarket@gmail.com\nhttps://www.facebook.com/woodburyflea/
URL:https://journalofantiques.com/event/woodbury-antiques-and-flea-market/2029-08-18/
LOCATION:Woodbury Antiques and Flea Market\, 44 Sherman Hill Road (Jct 6 & 64)\, Woodbury\, CT\, United States
CATEGORIES:Antique Shows
END:VEVENT
BEGIN:VEVENT
DTSTART;TZID=America/New_York:20290825T073000
DTEND;TZID=America/New_York:20290825T143000
DTSTAMP:20260425T105927
CREATED:20251217T195441Z
LAST-MODIFIED:20260409T174040Z
UID:10004896-1882337400-1882362600@journalofantiques.com
SUMMARY:Woodbury Antiques and Flea Market
DESCRIPTION:April-November: Woodbury\, CT\n44 Sherman Hill Road (Jct 6 & 64)\nEvery Saturday\, 7:30am-2:30pm\nFree Admission & Free Parking\n203-263-6217\nthenewwoodburyfleamarket@gmail.com\nhttps://www.facebook.com/woodburyflea/
URL:https://journalofantiques.com/event/woodbury-antiques-and-flea-market/2029-08-25/
LOCATION:Woodbury Antiques and Flea Market\, 44 Sherman Hill Road (Jct 6 & 64)\, Woodbury\, CT\, United States
CATEGORIES:Antique Shows
END:VEVENT
BEGIN:VEVENT
DTSTART;TZID=America/New_York:20290901T073000
DTEND;TZID=America/New_York:20290901T143000
DTSTAMP:20260425T105927
CREATED:20251217T195441Z
LAST-MODIFIED:20260409T174040Z
UID:10004897-1882942200-1882967400@journalofantiques.com
SUMMARY:Woodbury Antiques and Flea Market
DESCRIPTION:April-November: Woodbury\, CT\n44 Sherman Hill Road (Jct 6 & 64)\nEvery Saturday\, 7:30am-2:30pm\nFree Admission & Free Parking\n203-263-6217\nthenewwoodburyfleamarket@gmail.com\nhttps://www.facebook.com/woodburyflea/
URL:https://journalofantiques.com/event/woodbury-antiques-and-flea-market/2029-09-01/
LOCATION:Woodbury Antiques and Flea Market\, 44 Sherman Hill Road (Jct 6 & 64)\, Woodbury\, CT\, United States
CATEGORIES:Antique Shows
END:VEVENT
BEGIN:VEVENT
DTSTART;TZID=America/New_York:20290908T073000
DTEND;TZID=America/New_York:20290908T143000
DTSTAMP:20260425T105927
CREATED:20251217T195441Z
LAST-MODIFIED:20260409T174040Z
UID:10004898-1883547000-1883572200@journalofantiques.com
SUMMARY:Woodbury Antiques and Flea Market
DESCRIPTION:April-November: Woodbury\, CT\n44 Sherman Hill Road (Jct 6 & 64)\nEvery Saturday\, 7:30am-2:30pm\nFree Admission & Free Parking\n203-263-6217\nthenewwoodburyfleamarket@gmail.com\nhttps://www.facebook.com/woodburyflea/
URL:https://journalofantiques.com/event/woodbury-antiques-and-flea-market/2029-09-08/
LOCATION:Woodbury Antiques and Flea Market\, 44 Sherman Hill Road (Jct 6 & 64)\, Woodbury\, CT\, United States
CATEGORIES:Antique Shows
END:VEVENT
BEGIN:VEVENT
DTSTART;TZID=America/New_York:20290915T073000
DTEND;TZID=America/New_York:20290915T143000
DTSTAMP:20260425T105927
CREATED:20251217T195441Z
LAST-MODIFIED:20260409T174040Z
UID:10004899-1884151800-1884177000@journalofantiques.com
SUMMARY:Woodbury Antiques and Flea Market
DESCRIPTION:April-November: Woodbury\, CT\n44 Sherman Hill Road (Jct 6 & 64)\nEvery Saturday\, 7:30am-2:30pm\nFree Admission & Free Parking\n203-263-6217\nthenewwoodburyfleamarket@gmail.com\nhttps://www.facebook.com/woodburyflea/
URL:https://journalofantiques.com/event/woodbury-antiques-and-flea-market/2029-09-15/
LOCATION:Woodbury Antiques and Flea Market\, 44 Sherman Hill Road (Jct 6 & 64)\, Woodbury\, CT\, United States
CATEGORIES:Antique Shows
END:VEVENT
BEGIN:VEVENT
DTSTART;TZID=America/New_York:20290922T073000
DTEND;TZID=America/New_York:20290922T143000
DTSTAMP:20260425T105927
CREATED:20251217T195441Z
LAST-MODIFIED:20260409T174040Z
UID:10004900-1884756600-1884781800@journalofantiques.com
SUMMARY:Woodbury Antiques and Flea Market
DESCRIPTION:April-November: Woodbury\, CT\n44 Sherman Hill Road (Jct 6 & 64)\nEvery Saturday\, 7:30am-2:30pm\nFree Admission & Free Parking\n203-263-6217\nthenewwoodburyfleamarket@gmail.com\nhttps://www.facebook.com/woodburyflea/
URL:https://journalofantiques.com/event/woodbury-antiques-and-flea-market/2029-09-22/
LOCATION:Woodbury Antiques and Flea Market\, 44 Sherman Hill Road (Jct 6 & 64)\, Woodbury\, CT\, United States
CATEGORIES:Antique Shows
END:VEVENT
BEGIN:VEVENT
DTSTART;TZID=America/New_York:20290929T073000
DTEND;TZID=America/New_York:20290929T143000
DTSTAMP:20260425T105927
CREATED:20251217T195441Z
LAST-MODIFIED:20260409T174040Z
UID:10004901-1885361400-1885386600@journalofantiques.com
SUMMARY:Woodbury Antiques and Flea Market
DESCRIPTION:April-November: Woodbury\, CT\n44 Sherman Hill Road (Jct 6 & 64)\nEvery Saturday\, 7:30am-2:30pm\nFree Admission & Free Parking\n203-263-6217\nthenewwoodburyfleamarket@gmail.com\nhttps://www.facebook.com/woodburyflea/
URL:https://journalofantiques.com/event/woodbury-antiques-and-flea-market/2029-09-29/
LOCATION:Woodbury Antiques and Flea Market\, 44 Sherman Hill Road (Jct 6 & 64)\, Woodbury\, CT\, United States
CATEGORIES:Antique Shows
END:VEVENT
BEGIN:VEVENT
DTSTART;TZID=America/New_York:20291006T073000
DTEND;TZID=America/New_York:20291006T143000
DTSTAMP:20260425T105927
CREATED:20251217T195441Z
LAST-MODIFIED:20260409T174040Z
UID:10004902-1885966200-1885991400@journalofantiques.com
SUMMARY:Woodbury Antiques and Flea Market
DESCRIPTION:April-November: Woodbury\, CT\n44 Sherman Hill Road (Jct 6 & 64)\nEvery Saturday\, 7:30am-2:30pm\nFree Admission & Free Parking\n203-263-6217\nthenewwoodburyfleamarket@gmail.com\nhttps://www.facebook.com/woodburyflea/
URL:https://journalofantiques.com/event/woodbury-antiques-and-flea-market/2029-10-06/
LOCATION:Woodbury Antiques and Flea Market\, 44 Sherman Hill Road (Jct 6 & 64)\, Woodbury\, CT\, United States
CATEGORIES:Antique Shows
END:VEVENT
BEGIN:VEVENT
DTSTART;TZID=America/New_York:20291013T073000
DTEND;TZID=America/New_York:20291013T143000
DTSTAMP:20260425T105927
CREATED:20251217T195441Z
LAST-MODIFIED:20260409T174040Z
UID:10004903-1886571000-1886596200@journalofantiques.com
SUMMARY:Woodbury Antiques and Flea Market
DESCRIPTION:April-November: Woodbury\, CT\n44 Sherman Hill Road (Jct 6 & 64)\nEvery Saturday\, 7:30am-2:30pm\nFree Admission & Free Parking\n203-263-6217\nthenewwoodburyfleamarket@gmail.com\nhttps://www.facebook.com/woodburyflea/
URL:https://journalofantiques.com/event/woodbury-antiques-and-flea-market/2029-10-13/
LOCATION:Woodbury Antiques and Flea Market\, 44 Sherman Hill Road (Jct 6 & 64)\, Woodbury\, CT\, United States
CATEGORIES:Antique Shows
END:VEVENT
BEGIN:VEVENT
DTSTART;TZID=America/New_York:20291020T073000
DTEND;TZID=America/New_York:20291020T143000
DTSTAMP:20260425T105927
CREATED:20251217T195441Z
LAST-MODIFIED:20260409T174040Z
UID:10004904-1887175800-1887201000@journalofantiques.com
SUMMARY:Woodbury Antiques and Flea Market
DESCRIPTION:April-November: Woodbury\, CT\n44 Sherman Hill Road (Jct 6 & 64)\nEvery Saturday\, 7:30am-2:30pm\nFree Admission & Free Parking\n203-263-6217\nthenewwoodburyfleamarket@gmail.com\nhttps://www.facebook.com/woodburyflea/
URL:https://journalofantiques.com/event/woodbury-antiques-and-flea-market/2029-10-20/
LOCATION:Woodbury Antiques and Flea Market\, 44 Sherman Hill Road (Jct 6 & 64)\, Woodbury\, CT\, United States
CATEGORIES:Antique Shows
END:VEVENT
BEGIN:VEVENT
DTSTART;TZID=America/New_York:20291027T073000
DTEND;TZID=America/New_York:20291027T143000
DTSTAMP:20260425T105927
CREATED:20251217T195441Z
LAST-MODIFIED:20260409T174040Z
UID:10004905-1887780600-1887805800@journalofantiques.com
SUMMARY:Woodbury Antiques and Flea Market
DESCRIPTION:April-November: Woodbury\, CT\n44 Sherman Hill Road (Jct 6 & 64)\nEvery Saturday\, 7:30am-2:30pm\nFree Admission & Free Parking\n203-263-6217\nthenewwoodburyfleamarket@gmail.com\nhttps://www.facebook.com/woodburyflea/
URL:https://journalofantiques.com/event/woodbury-antiques-and-flea-market/2029-10-27/
LOCATION:Woodbury Antiques and Flea Market\, 44 Sherman Hill Road (Jct 6 & 64)\, Woodbury\, CT\, United States
CATEGORIES:Antique Shows
END:VEVENT
BEGIN:VEVENT
DTSTART;TZID=America/New_York:20291103T073000
DTEND;TZID=America/New_York:20291103T143000
DTSTAMP:20260425T105927
CREATED:20251217T195441Z
LAST-MODIFIED:20260409T174040Z
UID:10004906-1888385400-1888410600@journalofantiques.com
SUMMARY:Woodbury Antiques and Flea Market
DESCRIPTION:April-November: Woodbury\, CT\n44 Sherman Hill Road (Jct 6 & 64)\nEvery Saturday\, 7:30am-2:30pm\nFree Admission & Free Parking\n203-263-6217\nthenewwoodburyfleamarket@gmail.com\nhttps://www.facebook.com/woodburyflea/
URL:https://journalofantiques.com/event/woodbury-antiques-and-flea-market/2029-11-03/
LOCATION:Woodbury Antiques and Flea Market\, 44 Sherman Hill Road (Jct 6 & 64)\, Woodbury\, CT\, United States
CATEGORIES:Antique Shows
END:VEVENT
BEGIN:VEVENT
DTSTART;TZID=America/New_York:20291110T073000
DTEND;TZID=America/New_York:20291110T143000
DTSTAMP:20260425T105927
CREATED:20251217T195441Z
LAST-MODIFIED:20260409T174040Z
UID:10004907-1888990200-1889015400@journalofantiques.com
SUMMARY:Woodbury Antiques and Flea Market
DESCRIPTION:April-November: Woodbury\, CT\n44 Sherman Hill Road (Jct 6 & 64)\nEvery Saturday\, 7:30am-2:30pm\nFree Admission & Free Parking\n203-263-6217\nthenewwoodburyfleamarket@gmail.com\nhttps://www.facebook.com/woodburyflea/
URL:https://journalofantiques.com/event/woodbury-antiques-and-flea-market/2029-11-10/
LOCATION:Woodbury Antiques and Flea Market\, 44 Sherman Hill Road (Jct 6 & 64)\, Woodbury\, CT\, United States
CATEGORIES:Antique Shows
END:VEVENT
BEGIN:VEVENT
DTSTART;TZID=America/New_York:20291117T073000
DTEND;TZID=America/New_York:20291117T143000
DTSTAMP:20260425T105927
CREATED:20251217T195441Z
LAST-MODIFIED:20260409T174040Z
UID:10004908-1889595000-1889620200@journalofantiques.com
SUMMARY:Woodbury Antiques and Flea Market
DESCRIPTION:April-November: Woodbury\, CT\n44 Sherman Hill Road (Jct 6 & 64)\nEvery Saturday\, 7:30am-2:30pm\nFree Admission & Free Parking\n203-263-6217\nthenewwoodburyfleamarket@gmail.com\nhttps://www.facebook.com/woodburyflea/
URL:https://journalofantiques.com/event/woodbury-antiques-and-flea-market/2029-11-17/
LOCATION:Woodbury Antiques and Flea Market\, 44 Sherman Hill Road (Jct 6 & 64)\, Woodbury\, CT\, United States
CATEGORIES:Antique Shows
END:VEVENT
BEGIN:VEVENT
DTSTART;TZID=America/New_York:20291124T073000
DTEND;TZID=America/New_York:20291124T143000
DTSTAMP:20260425T105927
CREATED:20251217T195441Z
LAST-MODIFIED:20260409T174040Z
UID:10004909-1890199800-1890225000@journalofantiques.com
SUMMARY:Woodbury Antiques and Flea Market
DESCRIPTION:April-November: Woodbury\, CT\n44 Sherman Hill Road (Jct 6 & 64)\nEvery Saturday\, 7:30am-2:30pm\nFree Admission & Free Parking\n203-263-6217\nthenewwoodburyfleamarket@gmail.com\nhttps://www.facebook.com/woodburyflea/
URL:https://journalofantiques.com/event/woodbury-antiques-and-flea-market/2029-11-24/
LOCATION:Woodbury Antiques and Flea Market\, 44 Sherman Hill Road (Jct 6 & 64)\, Woodbury\, CT\, United States
CATEGORIES:Antique Shows
END:VEVENT
BEGIN:VEVENT
DTSTART;TZID=America/New_York:20291201T073000
DTEND;TZID=America/New_York:20291201T143000
DTSTAMP:20260425T105927
CREATED:20251217T195441Z
LAST-MODIFIED:20260409T174040Z
UID:10004910-1890804600-1890829800@journalofantiques.com
SUMMARY:Woodbury Antiques and Flea Market
DESCRIPTION:April-November: Woodbury\, CT\n44 Sherman Hill Road (Jct 6 & 64)\nEvery Saturday\, 7:30am-2:30pm\nFree Admission & Free Parking\n203-263-6217\nthenewwoodburyfleamarket@gmail.com\nhttps://www.facebook.com/woodburyflea/
URL:https://journalofantiques.com/event/woodbury-antiques-and-flea-market/2029-12-01/
LOCATION:Woodbury Antiques and Flea Market\, 44 Sherman Hill Road (Jct 6 & 64)\, Woodbury\, CT\, United States
CATEGORIES:Antique Shows
END:VEVENT
BEGIN:VEVENT
DTSTART;TZID=America/New_York:20291208T073000
DTEND;TZID=America/New_York:20291208T143000
DTSTAMP:20260425T105927
CREATED:20251217T195441Z
LAST-MODIFIED:20260409T174040Z
UID:10004911-1891409400-1891434600@journalofantiques.com
SUMMARY:Woodbury Antiques and Flea Market
DESCRIPTION:April-November: Woodbury\, CT\n44 Sherman Hill Road (Jct 6 & 64)\nEvery Saturday\, 7:30am-2:30pm\nFree Admission & Free Parking\n203-263-6217\nthenewwoodburyfleamarket@gmail.com\nhttps://www.facebook.com/woodburyflea/
URL:https://journalofantiques.com/event/woodbury-antiques-and-flea-market/2029-12-08/
LOCATION:Woodbury Antiques and Flea Market\, 44 Sherman Hill Road (Jct 6 & 64)\, Woodbury\, CT\, United States
CATEGORIES:Antique Shows
END:VEVENT
BEGIN:VEVENT
DTSTART;TZID=America/New_York:20291215T073000
DTEND;TZID=America/New_York:20291215T143000
DTSTAMP:20260425T105927
CREATED:20251217T195441Z
LAST-MODIFIED:20260409T174040Z
UID:10004912-1892014200-1892039400@journalofantiques.com
SUMMARY:Woodbury Antiques and Flea Market
DESCRIPTION:April-November: Woodbury\, CT\n44 Sherman Hill Road (Jct 6 & 64)\nEvery Saturday\, 7:30am-2:30pm\nFree Admission & Free Parking\n203-263-6217\nthenewwoodburyfleamarket@gmail.com\nhttps://www.facebook.com/woodburyflea/
URL:https://journalofantiques.com/event/woodbury-antiques-and-flea-market/2029-12-15/
LOCATION:Woodbury Antiques and Flea Market\, 44 Sherman Hill Road (Jct 6 & 64)\, Woodbury\, CT\, United States
CATEGORIES:Antique Shows
END:VEVENT
BEGIN:VEVENT
DTSTART;TZID=America/New_York:20291222T073000
DTEND;TZID=America/New_York:20291222T143000
DTSTAMP:20260425T105927
CREATED:20251217T195441Z
LAST-MODIFIED:20260409T174040Z
UID:10004913-1892619000-1892644200@journalofantiques.com
SUMMARY:Woodbury Antiques and Flea Market
DESCRIPTION:April-November: Woodbury\, CT\n44 Sherman Hill Road (Jct 6 & 64)\nEvery Saturday\, 7:30am-2:30pm\nFree Admission & Free Parking\n203-263-6217\nthenewwoodburyfleamarket@gmail.com\nhttps://www.facebook.com/woodburyflea/
URL:https://journalofantiques.com/event/woodbury-antiques-and-flea-market/2029-12-22/
LOCATION:Woodbury Antiques and Flea Market\, 44 Sherman Hill Road (Jct 6 & 64)\, Woodbury\, CT\, United States
CATEGORIES:Antique Shows
END:VEVENT
BEGIN:VEVENT
DTSTART;TZID=America/New_York:20291229T073000
DTEND;TZID=America/New_York:20291229T143000
DTSTAMP:20260425T105927
CREATED:20251217T195441Z
LAST-MODIFIED:20260409T174040Z
UID:10004914-1893223800-1893249000@journalofantiques.com
SUMMARY:Woodbury Antiques and Flea Market
DESCRIPTION:April-November: Woodbury\, CT\n44 Sherman Hill Road (Jct 6 & 64)\nEvery Saturday\, 7:30am-2:30pm\nFree Admission & Free Parking\n203-263-6217\nthenewwoodburyfleamarket@gmail.com\nhttps://www.facebook.com/woodburyflea/
URL:https://journalofantiques.com/event/woodbury-antiques-and-flea-market/2029-12-29/
LOCATION:Woodbury Antiques and Flea Market\, 44 Sherman Hill Road (Jct 6 & 64)\, Woodbury\, CT\, United States
CATEGORIES:Antique Shows
END:VEVENT
BEGIN:VEVENT
DTSTART;TZID=America/New_York:20300105T073000
DTEND;TZID=America/New_York:20300105T143000
DTSTAMP:20260425T105927
CREATED:20251217T195441Z
LAST-MODIFIED:20260409T174040Z
UID:10004915-1893828600-1893853800@journalofantiques.com
SUMMARY:Woodbury Antiques and Flea Market
DESCRIPTION:April-November: Woodbury\, CT\n44 Sherman Hill Road (Jct 6 & 64)\nEvery Saturday\, 7:30am-2:30pm\nFree Admission & Free Parking\n203-263-6217\nthenewwoodburyfleamarket@gmail.com\nhttps://www.facebook.com/woodburyflea/
URL:https://journalofantiques.com/event/woodbury-antiques-and-flea-market/2030-01-05/
LOCATION:Woodbury Antiques and Flea Market\, 44 Sherman Hill Road (Jct 6 & 64)\, Woodbury\, CT\, United States
CATEGORIES:Antique Shows
END:VEVENT
BEGIN:VEVENT
DTSTART;TZID=America/New_York:20300112T073000
DTEND;TZID=America/New_York:20300112T143000
DTSTAMP:20260425T105927
CREATED:20251217T195441Z
LAST-MODIFIED:20260409T174040Z
UID:10004916-1894433400-1894458600@journalofantiques.com
SUMMARY:Woodbury Antiques and Flea Market
DESCRIPTION:April-November: Woodbury\, CT\n44 Sherman Hill Road (Jct 6 & 64)\nEvery Saturday\, 7:30am-2:30pm\nFree Admission & Free Parking\n203-263-6217\nthenewwoodburyfleamarket@gmail.com\nhttps://www.facebook.com/woodburyflea/
URL:https://journalofantiques.com/event/woodbury-antiques-and-flea-market/2030-01-12/
LOCATION:Woodbury Antiques and Flea Market\, 44 Sherman Hill Road (Jct 6 & 64)\, Woodbury\, CT\, United States
CATEGORIES:Antique Shows
END:VEVENT
BEGIN:VEVENT
DTSTART;TZID=America/New_York:20300119T073000
DTEND;TZID=America/New_York:20300119T143000
DTSTAMP:20260425T105927
CREATED:20251217T195441Z
LAST-MODIFIED:20260409T174040Z
UID:10004917-1895038200-1895063400@journalofantiques.com
SUMMARY:Woodbury Antiques and Flea Market
DESCRIPTION:April-November: Woodbury\, CT\n44 Sherman Hill Road (Jct 6 & 64)\nEvery Saturday\, 7:30am-2:30pm\nFree Admission & Free Parking\n203-263-6217\nthenewwoodburyfleamarket@gmail.com\nhttps://www.facebook.com/woodburyflea/
URL:https://journalofantiques.com/event/woodbury-antiques-and-flea-market/2030-01-19/
LOCATION:Woodbury Antiques and Flea Market\, 44 Sherman Hill Road (Jct 6 & 64)\, Woodbury\, CT\, United States
CATEGORIES:Antique Shows
END:VEVENT
BEGIN:VEVENT
DTSTART;TZID=America/New_York:20300126T073000
DTEND;TZID=America/New_York:20300126T143000
DTSTAMP:20260425T105927
CREATED:20251217T195441Z
LAST-MODIFIED:20260409T174040Z
UID:10004918-1895643000-1895668200@journalofantiques.com
SUMMARY:Woodbury Antiques and Flea Market
DESCRIPTION:April-November: Woodbury\, CT\n44 Sherman Hill Road (Jct 6 & 64)\nEvery Saturday\, 7:30am-2:30pm\nFree Admission & Free Parking\n203-263-6217\nthenewwoodburyfleamarket@gmail.com\nhttps://www.facebook.com/woodburyflea/
URL:https://journalofantiques.com/event/woodbury-antiques-and-flea-market/2030-01-26/
LOCATION:Woodbury Antiques and Flea Market\, 44 Sherman Hill Road (Jct 6 & 64)\, Woodbury\, CT\, United States
CATEGORIES:Antique Shows
END:VEVENT
BEGIN:VEVENT
DTSTART;TZID=America/New_York:20300202T073000
DTEND;TZID=America/New_York:20300202T143000
DTSTAMP:20260425T105927
CREATED:20251217T195441Z
LAST-MODIFIED:20260409T174040Z
UID:10004919-1896247800-1896273000@journalofantiques.com
SUMMARY:Woodbury Antiques and Flea Market
DESCRIPTION:April-November: Woodbury\, CT\n44 Sherman Hill Road (Jct 6 & 64)\nEvery Saturday\, 7:30am-2:30pm\nFree Admission & Free Parking\n203-263-6217\nthenewwoodburyfleamarket@gmail.com\nhttps://www.facebook.com/woodburyflea/
URL:https://journalofantiques.com/event/woodbury-antiques-and-flea-market/2030-02-02/
LOCATION:Woodbury Antiques and Flea Market\, 44 Sherman Hill Road (Jct 6 & 64)\, Woodbury\, CT\, United States
CATEGORIES:Antique Shows
END:VEVENT
BEGIN:VEVENT
DTSTART;TZID=America/New_York:20300209T073000
DTEND;TZID=America/New_York:20300209T143000
DTSTAMP:20260425T105927
CREATED:20251217T195441Z
LAST-MODIFIED:20260409T174040Z
UID:10004920-1896852600-1896877800@journalofantiques.com
SUMMARY:Woodbury Antiques and Flea Market
DESCRIPTION:April-November: Woodbury\, CT\n44 Sherman Hill Road (Jct 6 & 64)\nEvery Saturday\, 7:30am-2:30pm\nFree Admission & Free Parking\n203-263-6217\nthenewwoodburyfleamarket@gmail.com\nhttps://www.facebook.com/woodburyflea/
URL:https://journalofantiques.com/event/woodbury-antiques-and-flea-market/2030-02-09/
LOCATION:Woodbury Antiques and Flea Market\, 44 Sherman Hill Road (Jct 6 & 64)\, Woodbury\, CT\, United States
CATEGORIES:Antique Shows
END:VEVENT
BEGIN:VEVENT
DTSTART;TZID=America/New_York:20300216T073000
DTEND;TZID=America/New_York:20300216T143000
DTSTAMP:20260425T105927
CREATED:20251217T195441Z
LAST-MODIFIED:20260409T174040Z
UID:10004921-1897457400-1897482600@journalofantiques.com
SUMMARY:Woodbury Antiques and Flea Market
DESCRIPTION:April-November: Woodbury\, CT\n44 Sherman Hill Road (Jct 6 & 64)\nEvery Saturday\, 7:30am-2:30pm\nFree Admission & Free Parking\n203-263-6217\nthenewwoodburyfleamarket@gmail.com\nhttps://www.facebook.com/woodburyflea/
URL:https://journalofantiques.com/event/woodbury-antiques-and-flea-market/2030-02-16/
LOCATION:Woodbury Antiques and Flea Market\, 44 Sherman Hill Road (Jct 6 & 64)\, Woodbury\, CT\, United States
CATEGORIES:Antique Shows
END:VEVENT
END:VCALENDAR