    BEGIN:VCALENDAR
VERSION:2.0
PRODID:-//The Journal of Antiques and Collectibles - ECPv6.15.20//NONSGML v1.0//EN
CALSCALE:GREGORIAN
METHOD:PUBLISH
X-WR-CALNAME:The Journal of Antiques and Collectibles
X-ORIGINAL-URL:https://journalofantiques.com
X-WR-CALDESC:Events for The Journal of Antiques and Collectibles
REFRESH-INTERVAL;VALUE=DURATION:PT1H
X-Robots-Tag:noindex
X-PUBLISHED-TTL:PT1H
BEGIN:VTIMEZONE
TZID:America/New_York
BEGIN:DAYLIGHT
TZOFFSETFROM:-0500
TZOFFSETTO:-0400
TZNAME:EDT
DTSTART:20280312T070000
END:DAYLIGHT
BEGIN:STANDARD
TZOFFSETFROM:-0400
TZOFFSETTO:-0500
TZNAME:EST
DTSTART:20281105T060000
END:STANDARD
BEGIN:DAYLIGHT
TZOFFSETFROM:-0500
TZOFFSETTO:-0400
TZNAME:EDT
DTSTART:20290311T070000
END:DAYLIGHT
BEGIN:STANDARD
TZOFFSETFROM:-0400
TZOFFSETTO:-0500
TZNAME:EST
DTSTART:20291104T060000
END:STANDARD
BEGIN:DAYLIGHT
TZOFFSETFROM:-0500
TZOFFSETTO:-0400
TZNAME:EDT
DTSTART:20300310T070000
END:DAYLIGHT
BEGIN:STANDARD
TZOFFSETFROM:-0400
TZOFFSETTO:-0500
TZNAME:EST
DTSTART:20301103T060000
END:STANDARD
BEGIN:DAYLIGHT
TZOFFSETFROM:-0500
TZOFFSETTO:-0400
TZNAME:EDT
DTSTART:20310309T070000
END:DAYLIGHT
BEGIN:STANDARD
TZOFFSETFROM:-0400
TZOFFSETTO:-0500
TZNAME:EST
DTSTART:20311102T060000
END:STANDARD
END:VTIMEZONE
BEGIN:VEVENT
DTSTART;TZID=America/New_York:20291215T073000
DTEND;TZID=America/New_York:20291215T143000
DTSTAMP:20260425T135854
CREATED:20251217T195441Z
LAST-MODIFIED:20260409T174040Z
UID:10004912-1892014200-1892039400@journalofantiques.com
SUMMARY:Woodbury Antiques and Flea Market
DESCRIPTION:April-November: Woodbury\, CT\n44 Sherman Hill Road (Jct 6 & 64)\nEvery Saturday\, 7:30am-2:30pm\nFree Admission & Free Parking\n203-263-6217\nthenewwoodburyfleamarket@gmail.com\nhttps://www.facebook.com/woodburyflea/
URL:https://journalofantiques.com/event/woodbury-antiques-and-flea-market/2029-12-15/
LOCATION:Woodbury Antiques and Flea Market\, 44 Sherman Hill Road (Jct 6 & 64)\, Woodbury\, CT\, United States
CATEGORIES:Antique Shows
END:VEVENT
BEGIN:VEVENT
DTSTART;TZID=America/New_York:20291222T073000
DTEND;TZID=America/New_York:20291222T143000
DTSTAMP:20260425T135854
CREATED:20251217T195441Z
LAST-MODIFIED:20260409T174040Z
UID:10004913-1892619000-1892644200@journalofantiques.com
SUMMARY:Woodbury Antiques and Flea Market
DESCRIPTION:April-November: Woodbury\, CT\n44 Sherman Hill Road (Jct 6 & 64)\nEvery Saturday\, 7:30am-2:30pm\nFree Admission & Free Parking\n203-263-6217\nthenewwoodburyfleamarket@gmail.com\nhttps://www.facebook.com/woodburyflea/
URL:https://journalofantiques.com/event/woodbury-antiques-and-flea-market/2029-12-22/
LOCATION:Woodbury Antiques and Flea Market\, 44 Sherman Hill Road (Jct 6 & 64)\, Woodbury\, CT\, United States
CATEGORIES:Antique Shows
END:VEVENT
BEGIN:VEVENT
DTSTART;TZID=America/New_York:20291229T073000
DTEND;TZID=America/New_York:20291229T143000
DTSTAMP:20260425T135854
CREATED:20251217T195441Z
LAST-MODIFIED:20260409T174040Z
UID:10004914-1893223800-1893249000@journalofantiques.com
SUMMARY:Woodbury Antiques and Flea Market
DESCRIPTION:April-November: Woodbury\, CT\n44 Sherman Hill Road (Jct 6 & 64)\nEvery Saturday\, 7:30am-2:30pm\nFree Admission & Free Parking\n203-263-6217\nthenewwoodburyfleamarket@gmail.com\nhttps://www.facebook.com/woodburyflea/
URL:https://journalofantiques.com/event/woodbury-antiques-and-flea-market/2029-12-29/
LOCATION:Woodbury Antiques and Flea Market\, 44 Sherman Hill Road (Jct 6 & 64)\, Woodbury\, CT\, United States
CATEGORIES:Antique Shows
END:VEVENT
BEGIN:VEVENT
DTSTART;TZID=America/New_York:20300105T073000
DTEND;TZID=America/New_York:20300105T143000
DTSTAMP:20260425T135854
CREATED:20251217T195441Z
LAST-MODIFIED:20260409T174040Z
UID:10004915-1893828600-1893853800@journalofantiques.com
SUMMARY:Woodbury Antiques and Flea Market
DESCRIPTION:April-November: Woodbury\, CT\n44 Sherman Hill Road (Jct 6 & 64)\nEvery Saturday\, 7:30am-2:30pm\nFree Admission & Free Parking\n203-263-6217\nthenewwoodburyfleamarket@gmail.com\nhttps://www.facebook.com/woodburyflea/
URL:https://journalofantiques.com/event/woodbury-antiques-and-flea-market/2030-01-05/
LOCATION:Woodbury Antiques and Flea Market\, 44 Sherman Hill Road (Jct 6 & 64)\, Woodbury\, CT\, United States
CATEGORIES:Antique Shows
END:VEVENT
BEGIN:VEVENT
DTSTART;TZID=America/New_York:20300112T073000
DTEND;TZID=America/New_York:20300112T143000
DTSTAMP:20260425T135854
CREATED:20251217T195441Z
LAST-MODIFIED:20260409T174040Z
UID:10004916-1894433400-1894458600@journalofantiques.com
SUMMARY:Woodbury Antiques and Flea Market
DESCRIPTION:April-November: Woodbury\, CT\n44 Sherman Hill Road (Jct 6 & 64)\nEvery Saturday\, 7:30am-2:30pm\nFree Admission & Free Parking\n203-263-6217\nthenewwoodburyfleamarket@gmail.com\nhttps://www.facebook.com/woodburyflea/
URL:https://journalofantiques.com/event/woodbury-antiques-and-flea-market/2030-01-12/
LOCATION:Woodbury Antiques and Flea Market\, 44 Sherman Hill Road (Jct 6 & 64)\, Woodbury\, CT\, United States
CATEGORIES:Antique Shows
END:VEVENT
BEGIN:VEVENT
DTSTART;TZID=America/New_York:20300119T073000
DTEND;TZID=America/New_York:20300119T143000
DTSTAMP:20260425T135854
CREATED:20251217T195441Z
LAST-MODIFIED:20260409T174040Z
UID:10004917-1895038200-1895063400@journalofantiques.com
SUMMARY:Woodbury Antiques and Flea Market
DESCRIPTION:April-November: Woodbury\, CT\n44 Sherman Hill Road (Jct 6 & 64)\nEvery Saturday\, 7:30am-2:30pm\nFree Admission & Free Parking\n203-263-6217\nthenewwoodburyfleamarket@gmail.com\nhttps://www.facebook.com/woodburyflea/
URL:https://journalofantiques.com/event/woodbury-antiques-and-flea-market/2030-01-19/
LOCATION:Woodbury Antiques and Flea Market\, 44 Sherman Hill Road (Jct 6 & 64)\, Woodbury\, CT\, United States
CATEGORIES:Antique Shows
END:VEVENT
BEGIN:VEVENT
DTSTART;TZID=America/New_York:20300126T073000
DTEND;TZID=America/New_York:20300126T143000
DTSTAMP:20260425T135854
CREATED:20251217T195441Z
LAST-MODIFIED:20260409T174040Z
UID:10004918-1895643000-1895668200@journalofantiques.com
SUMMARY:Woodbury Antiques and Flea Market
DESCRIPTION:April-November: Woodbury\, CT\n44 Sherman Hill Road (Jct 6 & 64)\nEvery Saturday\, 7:30am-2:30pm\nFree Admission & Free Parking\n203-263-6217\nthenewwoodburyfleamarket@gmail.com\nhttps://www.facebook.com/woodburyflea/
URL:https://journalofantiques.com/event/woodbury-antiques-and-flea-market/2030-01-26/
LOCATION:Woodbury Antiques and Flea Market\, 44 Sherman Hill Road (Jct 6 & 64)\, Woodbury\, CT\, United States
CATEGORIES:Antique Shows
END:VEVENT
BEGIN:VEVENT
DTSTART;TZID=America/New_York:20300202T073000
DTEND;TZID=America/New_York:20300202T143000
DTSTAMP:20260425T135854
CREATED:20251217T195441Z
LAST-MODIFIED:20260409T174040Z
UID:10004919-1896247800-1896273000@journalofantiques.com
SUMMARY:Woodbury Antiques and Flea Market
DESCRIPTION:April-November: Woodbury\, CT\n44 Sherman Hill Road (Jct 6 & 64)\nEvery Saturday\, 7:30am-2:30pm\nFree Admission & Free Parking\n203-263-6217\nthenewwoodburyfleamarket@gmail.com\nhttps://www.facebook.com/woodburyflea/
URL:https://journalofantiques.com/event/woodbury-antiques-and-flea-market/2030-02-02/
LOCATION:Woodbury Antiques and Flea Market\, 44 Sherman Hill Road (Jct 6 & 64)\, Woodbury\, CT\, United States
CATEGORIES:Antique Shows
END:VEVENT
BEGIN:VEVENT
DTSTART;TZID=America/New_York:20300209T073000
DTEND;TZID=America/New_York:20300209T143000
DTSTAMP:20260425T135854
CREATED:20251217T195441Z
LAST-MODIFIED:20260409T174040Z
UID:10004920-1896852600-1896877800@journalofantiques.com
SUMMARY:Woodbury Antiques and Flea Market
DESCRIPTION:April-November: Woodbury\, CT\n44 Sherman Hill Road (Jct 6 & 64)\nEvery Saturday\, 7:30am-2:30pm\nFree Admission & Free Parking\n203-263-6217\nthenewwoodburyfleamarket@gmail.com\nhttps://www.facebook.com/woodburyflea/
URL:https://journalofantiques.com/event/woodbury-antiques-and-flea-market/2030-02-09/
LOCATION:Woodbury Antiques and Flea Market\, 44 Sherman Hill Road (Jct 6 & 64)\, Woodbury\, CT\, United States
CATEGORIES:Antique Shows
END:VEVENT
BEGIN:VEVENT
DTSTART;TZID=America/New_York:20300216T073000
DTEND;TZID=America/New_York:20300216T143000
DTSTAMP:20260425T135854
CREATED:20251217T195441Z
LAST-MODIFIED:20260409T174040Z
UID:10004921-1897457400-1897482600@journalofantiques.com
SUMMARY:Woodbury Antiques and Flea Market
DESCRIPTION:April-November: Woodbury\, CT\n44 Sherman Hill Road (Jct 6 & 64)\nEvery Saturday\, 7:30am-2:30pm\nFree Admission & Free Parking\n203-263-6217\nthenewwoodburyfleamarket@gmail.com\nhttps://www.facebook.com/woodburyflea/
URL:https://journalofantiques.com/event/woodbury-antiques-and-flea-market/2030-02-16/
LOCATION:Woodbury Antiques and Flea Market\, 44 Sherman Hill Road (Jct 6 & 64)\, Woodbury\, CT\, United States
CATEGORIES:Antique Shows
END:VEVENT
BEGIN:VEVENT
DTSTART;TZID=America/New_York:20300223T073000
DTEND;TZID=America/New_York:20300223T143000
DTSTAMP:20260425T135854
CREATED:20251217T195441Z
LAST-MODIFIED:20260409T174040Z
UID:10004922-1898062200-1898087400@journalofantiques.com
SUMMARY:Woodbury Antiques and Flea Market
DESCRIPTION:April-November: Woodbury\, CT\n44 Sherman Hill Road (Jct 6 & 64)\nEvery Saturday\, 7:30am-2:30pm\nFree Admission & Free Parking\n203-263-6217\nthenewwoodburyfleamarket@gmail.com\nhttps://www.facebook.com/woodburyflea/
URL:https://journalofantiques.com/event/woodbury-antiques-and-flea-market/2030-02-23/
LOCATION:Woodbury Antiques and Flea Market\, 44 Sherman Hill Road (Jct 6 & 64)\, Woodbury\, CT\, United States
CATEGORIES:Antique Shows
END:VEVENT
BEGIN:VEVENT
DTSTART;TZID=America/New_York:20300302T073000
DTEND;TZID=America/New_York:20300302T143000
DTSTAMP:20260425T135854
CREATED:20251217T195441Z
LAST-MODIFIED:20260409T174040Z
UID:10004923-1898667000-1898692200@journalofantiques.com
SUMMARY:Woodbury Antiques and Flea Market
DESCRIPTION:April-November: Woodbury\, CT\n44 Sherman Hill Road (Jct 6 & 64)\nEvery Saturday\, 7:30am-2:30pm\nFree Admission & Free Parking\n203-263-6217\nthenewwoodburyfleamarket@gmail.com\nhttps://www.facebook.com/woodburyflea/
URL:https://journalofantiques.com/event/woodbury-antiques-and-flea-market/2030-03-02/
LOCATION:Woodbury Antiques and Flea Market\, 44 Sherman Hill Road (Jct 6 & 64)\, Woodbury\, CT\, United States
CATEGORIES:Antique Shows
END:VEVENT
BEGIN:VEVENT
DTSTART;TZID=America/New_York:20300309T073000
DTEND;TZID=America/New_York:20300309T143000
DTSTAMP:20260425T135854
CREATED:20251217T195441Z
LAST-MODIFIED:20260409T174040Z
UID:10004924-1899271800-1899297000@journalofantiques.com
SUMMARY:Woodbury Antiques and Flea Market
DESCRIPTION:April-November: Woodbury\, CT\n44 Sherman Hill Road (Jct 6 & 64)\nEvery Saturday\, 7:30am-2:30pm\nFree Admission & Free Parking\n203-263-6217\nthenewwoodburyfleamarket@gmail.com\nhttps://www.facebook.com/woodburyflea/
URL:https://journalofantiques.com/event/woodbury-antiques-and-flea-market/2030-03-09/
LOCATION:Woodbury Antiques and Flea Market\, 44 Sherman Hill Road (Jct 6 & 64)\, Woodbury\, CT\, United States
CATEGORIES:Antique Shows
END:VEVENT
BEGIN:VEVENT
DTSTART;TZID=America/New_York:20300316T073000
DTEND;TZID=America/New_York:20300316T143000
DTSTAMP:20260425T135854
CREATED:20251217T195441Z
LAST-MODIFIED:20260409T174040Z
UID:10004925-1899876600-1899901800@journalofantiques.com
SUMMARY:Woodbury Antiques and Flea Market
DESCRIPTION:April-November: Woodbury\, CT\n44 Sherman Hill Road (Jct 6 & 64)\nEvery Saturday\, 7:30am-2:30pm\nFree Admission & Free Parking\n203-263-6217\nthenewwoodburyfleamarket@gmail.com\nhttps://www.facebook.com/woodburyflea/
URL:https://journalofantiques.com/event/woodbury-antiques-and-flea-market/2030-03-16/
LOCATION:Woodbury Antiques and Flea Market\, 44 Sherman Hill Road (Jct 6 & 64)\, Woodbury\, CT\, United States
CATEGORIES:Antique Shows
END:VEVENT
BEGIN:VEVENT
DTSTART;TZID=America/New_York:20300323T073000
DTEND;TZID=America/New_York:20300323T143000
DTSTAMP:20260425T135854
CREATED:20251217T195441Z
LAST-MODIFIED:20260409T174040Z
UID:10004926-1900481400-1900506600@journalofantiques.com
SUMMARY:Woodbury Antiques and Flea Market
DESCRIPTION:April-November: Woodbury\, CT\n44 Sherman Hill Road (Jct 6 & 64)\nEvery Saturday\, 7:30am-2:30pm\nFree Admission & Free Parking\n203-263-6217\nthenewwoodburyfleamarket@gmail.com\nhttps://www.facebook.com/woodburyflea/
URL:https://journalofantiques.com/event/woodbury-antiques-and-flea-market/2030-03-23/
LOCATION:Woodbury Antiques and Flea Market\, 44 Sherman Hill Road (Jct 6 & 64)\, Woodbury\, CT\, United States
CATEGORIES:Antique Shows
END:VEVENT
BEGIN:VEVENT
DTSTART;TZID=America/New_York:20300330T073000
DTEND;TZID=America/New_York:20300330T143000
DTSTAMP:20260425T135854
CREATED:20251217T195441Z
LAST-MODIFIED:20260409T174040Z
UID:10004927-1901086200-1901111400@journalofantiques.com
SUMMARY:Woodbury Antiques and Flea Market
DESCRIPTION:April-November: Woodbury\, CT\n44 Sherman Hill Road (Jct 6 & 64)\nEvery Saturday\, 7:30am-2:30pm\nFree Admission & Free Parking\n203-263-6217\nthenewwoodburyfleamarket@gmail.com\nhttps://www.facebook.com/woodburyflea/
URL:https://journalofantiques.com/event/woodbury-antiques-and-flea-market/2030-03-30/
LOCATION:Woodbury Antiques and Flea Market\, 44 Sherman Hill Road (Jct 6 & 64)\, Woodbury\, CT\, United States
CATEGORIES:Antique Shows
END:VEVENT
BEGIN:VEVENT
DTSTART;TZID=America/New_York:20300406T073000
DTEND;TZID=America/New_York:20300406T143000
DTSTAMP:20260425T135854
CREATED:20251217T195441Z
LAST-MODIFIED:20260409T174040Z
UID:10004928-1901691000-1901716200@journalofantiques.com
SUMMARY:Woodbury Antiques and Flea Market
DESCRIPTION:April-November: Woodbury\, CT\n44 Sherman Hill Road (Jct 6 & 64)\nEvery Saturday\, 7:30am-2:30pm\nFree Admission & Free Parking\n203-263-6217\nthenewwoodburyfleamarket@gmail.com\nhttps://www.facebook.com/woodburyflea/
URL:https://journalofantiques.com/event/woodbury-antiques-and-flea-market/2030-04-06/
LOCATION:Woodbury Antiques and Flea Market\, 44 Sherman Hill Road (Jct 6 & 64)\, Woodbury\, CT\, United States
CATEGORIES:Antique Shows
END:VEVENT
BEGIN:VEVENT
DTSTART;TZID=America/New_York:20300413T073000
DTEND;TZID=America/New_York:20300413T143000
DTSTAMP:20260425T135854
CREATED:20251217T195441Z
LAST-MODIFIED:20260409T174040Z
UID:10004929-1902295800-1902321000@journalofantiques.com
SUMMARY:Woodbury Antiques and Flea Market
DESCRIPTION:April-November: Woodbury\, CT\n44 Sherman Hill Road (Jct 6 & 64)\nEvery Saturday\, 7:30am-2:30pm\nFree Admission & Free Parking\n203-263-6217\nthenewwoodburyfleamarket@gmail.com\nhttps://www.facebook.com/woodburyflea/
URL:https://journalofantiques.com/event/woodbury-antiques-and-flea-market/2030-04-13/
LOCATION:Woodbury Antiques and Flea Market\, 44 Sherman Hill Road (Jct 6 & 64)\, Woodbury\, CT\, United States
CATEGORIES:Antique Shows
END:VEVENT
BEGIN:VEVENT
DTSTART;TZID=America/New_York:20300420T073000
DTEND;TZID=America/New_York:20300420T143000
DTSTAMP:20260425T135854
CREATED:20251217T195441Z
LAST-MODIFIED:20260409T174040Z
UID:10004930-1902900600-1902925800@journalofantiques.com
SUMMARY:Woodbury Antiques and Flea Market
DESCRIPTION:April-November: Woodbury\, CT\n44 Sherman Hill Road (Jct 6 & 64)\nEvery Saturday\, 7:30am-2:30pm\nFree Admission & Free Parking\n203-263-6217\nthenewwoodburyfleamarket@gmail.com\nhttps://www.facebook.com/woodburyflea/
URL:https://journalofantiques.com/event/woodbury-antiques-and-flea-market/2030-04-20/
LOCATION:Woodbury Antiques and Flea Market\, 44 Sherman Hill Road (Jct 6 & 64)\, Woodbury\, CT\, United States
CATEGORIES:Antique Shows
END:VEVENT
BEGIN:VEVENT
DTSTART;TZID=America/New_York:20300427T073000
DTEND;TZID=America/New_York:20300427T143000
DTSTAMP:20260425T135854
CREATED:20251217T195441Z
LAST-MODIFIED:20260409T174040Z
UID:10004931-1903505400-1903530600@journalofantiques.com
SUMMARY:Woodbury Antiques and Flea Market
DESCRIPTION:April-November: Woodbury\, CT\n44 Sherman Hill Road (Jct 6 & 64)\nEvery Saturday\, 7:30am-2:30pm\nFree Admission & Free Parking\n203-263-6217\nthenewwoodburyfleamarket@gmail.com\nhttps://www.facebook.com/woodburyflea/
URL:https://journalofantiques.com/event/woodbury-antiques-and-flea-market/2030-04-27/
LOCATION:Woodbury Antiques and Flea Market\, 44 Sherman Hill Road (Jct 6 & 64)\, Woodbury\, CT\, United States
CATEGORIES:Antique Shows
END:VEVENT
BEGIN:VEVENT
DTSTART;TZID=America/New_York:20300504T073000
DTEND;TZID=America/New_York:20300504T143000
DTSTAMP:20260425T135854
CREATED:20251217T195441Z
LAST-MODIFIED:20260409T174040Z
UID:10004932-1904110200-1904135400@journalofantiques.com
SUMMARY:Woodbury Antiques and Flea Market
DESCRIPTION:April-November: Woodbury\, CT\n44 Sherman Hill Road (Jct 6 & 64)\nEvery Saturday\, 7:30am-2:30pm\nFree Admission & Free Parking\n203-263-6217\nthenewwoodburyfleamarket@gmail.com\nhttps://www.facebook.com/woodburyflea/
URL:https://journalofantiques.com/event/woodbury-antiques-and-flea-market/2030-05-04/
LOCATION:Woodbury Antiques and Flea Market\, 44 Sherman Hill Road (Jct 6 & 64)\, Woodbury\, CT\, United States
CATEGORIES:Antique Shows
END:VEVENT
BEGIN:VEVENT
DTSTART;TZID=America/New_York:20300511T073000
DTEND;TZID=America/New_York:20300511T143000
DTSTAMP:20260425T135854
CREATED:20251217T195441Z
LAST-MODIFIED:20260409T174040Z
UID:10004933-1904715000-1904740200@journalofantiques.com
SUMMARY:Woodbury Antiques and Flea Market
DESCRIPTION:April-November: Woodbury\, CT\n44 Sherman Hill Road (Jct 6 & 64)\nEvery Saturday\, 7:30am-2:30pm\nFree Admission & Free Parking\n203-263-6217\nthenewwoodburyfleamarket@gmail.com\nhttps://www.facebook.com/woodburyflea/
URL:https://journalofantiques.com/event/woodbury-antiques-and-flea-market/2030-05-11/
LOCATION:Woodbury Antiques and Flea Market\, 44 Sherman Hill Road (Jct 6 & 64)\, Woodbury\, CT\, United States
CATEGORIES:Antique Shows
END:VEVENT
BEGIN:VEVENT
DTSTART;TZID=America/New_York:20300518T073000
DTEND;TZID=America/New_York:20300518T143000
DTSTAMP:20260425T135854
CREATED:20251217T195441Z
LAST-MODIFIED:20260409T174040Z
UID:10004934-1905319800-1905345000@journalofantiques.com
SUMMARY:Woodbury Antiques and Flea Market
DESCRIPTION:April-November: Woodbury\, CT\n44 Sherman Hill Road (Jct 6 & 64)\nEvery Saturday\, 7:30am-2:30pm\nFree Admission & Free Parking\n203-263-6217\nthenewwoodburyfleamarket@gmail.com\nhttps://www.facebook.com/woodburyflea/
URL:https://journalofantiques.com/event/woodbury-antiques-and-flea-market/2030-05-18/
LOCATION:Woodbury Antiques and Flea Market\, 44 Sherman Hill Road (Jct 6 & 64)\, Woodbury\, CT\, United States
CATEGORIES:Antique Shows
END:VEVENT
BEGIN:VEVENT
DTSTART;TZID=America/New_York:20300525T073000
DTEND;TZID=America/New_York:20300525T143000
DTSTAMP:20260425T135854
CREATED:20251217T195441Z
LAST-MODIFIED:20260409T174040Z
UID:10004935-1905924600-1905949800@journalofantiques.com
SUMMARY:Woodbury Antiques and Flea Market
DESCRIPTION:April-November: Woodbury\, CT\n44 Sherman Hill Road (Jct 6 & 64)\nEvery Saturday\, 7:30am-2:30pm\nFree Admission & Free Parking\n203-263-6217\nthenewwoodburyfleamarket@gmail.com\nhttps://www.facebook.com/woodburyflea/
URL:https://journalofantiques.com/event/woodbury-antiques-and-flea-market/2030-05-25/
LOCATION:Woodbury Antiques and Flea Market\, 44 Sherman Hill Road (Jct 6 & 64)\, Woodbury\, CT\, United States
CATEGORIES:Antique Shows
END:VEVENT
BEGIN:VEVENT
DTSTART;TZID=America/New_York:20300601T073000
DTEND;TZID=America/New_York:20300601T143000
DTSTAMP:20260425T135854
CREATED:20251217T195441Z
LAST-MODIFIED:20260409T174040Z
UID:10004936-1906529400-1906554600@journalofantiques.com
SUMMARY:Woodbury Antiques and Flea Market
DESCRIPTION:April-November: Woodbury\, CT\n44 Sherman Hill Road (Jct 6 & 64)\nEvery Saturday\, 7:30am-2:30pm\nFree Admission & Free Parking\n203-263-6217\nthenewwoodburyfleamarket@gmail.com\nhttps://www.facebook.com/woodburyflea/
URL:https://journalofantiques.com/event/woodbury-antiques-and-flea-market/2030-06-01/
LOCATION:Woodbury Antiques and Flea Market\, 44 Sherman Hill Road (Jct 6 & 64)\, Woodbury\, CT\, United States
CATEGORIES:Antique Shows
END:VEVENT
BEGIN:VEVENT
DTSTART;TZID=America/New_York:20300608T073000
DTEND;TZID=America/New_York:20300608T143000
DTSTAMP:20260425T135854
CREATED:20251217T195441Z
LAST-MODIFIED:20260409T174040Z
UID:10004937-1907134200-1907159400@journalofantiques.com
SUMMARY:Woodbury Antiques and Flea Market
DESCRIPTION:April-November: Woodbury\, CT\n44 Sherman Hill Road (Jct 6 & 64)\nEvery Saturday\, 7:30am-2:30pm\nFree Admission & Free Parking\n203-263-6217\nthenewwoodburyfleamarket@gmail.com\nhttps://www.facebook.com/woodburyflea/
URL:https://journalofantiques.com/event/woodbury-antiques-and-flea-market/2030-06-08/
LOCATION:Woodbury Antiques and Flea Market\, 44 Sherman Hill Road (Jct 6 & 64)\, Woodbury\, CT\, United States
CATEGORIES:Antique Shows
END:VEVENT
BEGIN:VEVENT
DTSTART;TZID=America/New_York:20300615T073000
DTEND;TZID=America/New_York:20300615T143000
DTSTAMP:20260425T135854
CREATED:20251217T195441Z
LAST-MODIFIED:20260409T174040Z
UID:10004938-1907739000-1907764200@journalofantiques.com
SUMMARY:Woodbury Antiques and Flea Market
DESCRIPTION:April-November: Woodbury\, CT\n44 Sherman Hill Road (Jct 6 & 64)\nEvery Saturday\, 7:30am-2:30pm\nFree Admission & Free Parking\n203-263-6217\nthenewwoodburyfleamarket@gmail.com\nhttps://www.facebook.com/woodburyflea/
URL:https://journalofantiques.com/event/woodbury-antiques-and-flea-market/2030-06-15/
LOCATION:Woodbury Antiques and Flea Market\, 44 Sherman Hill Road (Jct 6 & 64)\, Woodbury\, CT\, United States
CATEGORIES:Antique Shows
END:VEVENT
BEGIN:VEVENT
DTSTART;TZID=America/New_York:20300622T073000
DTEND;TZID=America/New_York:20300622T143000
DTSTAMP:20260425T135854
CREATED:20251217T195441Z
LAST-MODIFIED:20260409T174040Z
UID:10004939-1908343800-1908369000@journalofantiques.com
SUMMARY:Woodbury Antiques and Flea Market
DESCRIPTION:April-November: Woodbury\, CT\n44 Sherman Hill Road (Jct 6 & 64)\nEvery Saturday\, 7:30am-2:30pm\nFree Admission & Free Parking\n203-263-6217\nthenewwoodburyfleamarket@gmail.com\nhttps://www.facebook.com/woodburyflea/
URL:https://journalofantiques.com/event/woodbury-antiques-and-flea-market/2030-06-22/
LOCATION:Woodbury Antiques and Flea Market\, 44 Sherman Hill Road (Jct 6 & 64)\, Woodbury\, CT\, United States
CATEGORIES:Antique Shows
END:VEVENT
BEGIN:VEVENT
DTSTART;TZID=America/New_York:20300629T073000
DTEND;TZID=America/New_York:20300629T143000
DTSTAMP:20260425T135854
CREATED:20251217T195441Z
LAST-MODIFIED:20260409T174040Z
UID:10004940-1908948600-1908973800@journalofantiques.com
SUMMARY:Woodbury Antiques and Flea Market
DESCRIPTION:April-November: Woodbury\, CT\n44 Sherman Hill Road (Jct 6 & 64)\nEvery Saturday\, 7:30am-2:30pm\nFree Admission & Free Parking\n203-263-6217\nthenewwoodburyfleamarket@gmail.com\nhttps://www.facebook.com/woodburyflea/
URL:https://journalofantiques.com/event/woodbury-antiques-and-flea-market/2030-06-29/
LOCATION:Woodbury Antiques and Flea Market\, 44 Sherman Hill Road (Jct 6 & 64)\, Woodbury\, CT\, United States
CATEGORIES:Antique Shows
END:VEVENT
BEGIN:VEVENT
DTSTART;TZID=America/New_York:20300706T073000
DTEND;TZID=America/New_York:20300706T143000
DTSTAMP:20260425T135854
CREATED:20251217T195441Z
LAST-MODIFIED:20260409T174040Z
UID:10004941-1909553400-1909578600@journalofantiques.com
SUMMARY:Woodbury Antiques and Flea Market
DESCRIPTION:April-November: Woodbury\, CT\n44 Sherman Hill Road (Jct 6 & 64)\nEvery Saturday\, 7:30am-2:30pm\nFree Admission & Free Parking\n203-263-6217\nthenewwoodburyfleamarket@gmail.com\nhttps://www.facebook.com/woodburyflea/
URL:https://journalofantiques.com/event/woodbury-antiques-and-flea-market/2030-07-06/
LOCATION:Woodbury Antiques and Flea Market\, 44 Sherman Hill Road (Jct 6 & 64)\, Woodbury\, CT\, United States
CATEGORIES:Antique Shows
END:VEVENT
END:VCALENDAR