    BEGIN:VCALENDAR
VERSION:2.0
PRODID:-//The Journal of Antiques and Collectibles - ECPv6.15.20//NONSGML v1.0//EN
CALSCALE:GREGORIAN
METHOD:PUBLISH
X-WR-CALNAME:The Journal of Antiques and Collectibles
X-ORIGINAL-URL:https://journalofantiques.com
X-WR-CALDESC:Events for The Journal of Antiques and Collectibles
REFRESH-INTERVAL;VALUE=DURATION:PT1H
X-Robots-Tag:noindex
X-PUBLISHED-TTL:PT1H
BEGIN:VTIMEZONE
TZID:America/New_York
BEGIN:DAYLIGHT
TZOFFSETFROM:-0500
TZOFFSETTO:-0400
TZNAME:EDT
DTSTART:20300310T070000
END:DAYLIGHT
BEGIN:STANDARD
TZOFFSETFROM:-0400
TZOFFSETTO:-0500
TZNAME:EST
DTSTART:20301103T060000
END:STANDARD
BEGIN:DAYLIGHT
TZOFFSETFROM:-0500
TZOFFSETTO:-0400
TZNAME:EDT
DTSTART:20310309T070000
END:DAYLIGHT
BEGIN:STANDARD
TZOFFSETFROM:-0400
TZOFFSETTO:-0500
TZNAME:EST
DTSTART:20311102T060000
END:STANDARD
BEGIN:DAYLIGHT
TZOFFSETFROM:-0500
TZOFFSETTO:-0400
TZNAME:EDT
DTSTART:20320314T070000
END:DAYLIGHT
BEGIN:STANDARD
TZOFFSETFROM:-0400
TZOFFSETTO:-0500
TZNAME:EST
DTSTART:20321107T060000
END:STANDARD
END:VTIMEZONE
BEGIN:VEVENT
DTSTART;TZID=America/New_York:20310215T073000
DTEND;TZID=America/New_York:20310215T143000
DTSTAMP:20260425T223649
CREATED:20251217T195441Z
LAST-MODIFIED:20260409T174040Z
UID:10005937-1928907000-1928932200@journalofantiques.com
SUMMARY:Woodbury Antiques and Flea Market
DESCRIPTION:April-November: Woodbury\, CT\n44 Sherman Hill Road (Jct 6 & 64)\nEvery Saturday\, 7:30am-2:30pm\nFree Admission & Free Parking\n203-263-6217\nthenewwoodburyfleamarket@gmail.com\nhttps://www.facebook.com/woodburyflea/
URL:https://journalofantiques.com/event/woodbury-antiques-and-flea-market/2031-02-15/
LOCATION:Woodbury Antiques and Flea Market\, 44 Sherman Hill Road (Jct 6 & 64)\, Woodbury\, CT\, United States
CATEGORIES:Antique Shows
END:VEVENT
BEGIN:VEVENT
DTSTART;TZID=America/New_York:20310222T073000
DTEND;TZID=America/New_York:20310222T143000
DTSTAMP:20260425T223649
CREATED:20251217T195441Z
LAST-MODIFIED:20260409T174040Z
UID:10005938-1929511800-1929537000@journalofantiques.com
SUMMARY:Woodbury Antiques and Flea Market
DESCRIPTION:April-November: Woodbury\, CT\n44 Sherman Hill Road (Jct 6 & 64)\nEvery Saturday\, 7:30am-2:30pm\nFree Admission & Free Parking\n203-263-6217\nthenewwoodburyfleamarket@gmail.com\nhttps://www.facebook.com/woodburyflea/
URL:https://journalofantiques.com/event/woodbury-antiques-and-flea-market/2031-02-22/
LOCATION:Woodbury Antiques and Flea Market\, 44 Sherman Hill Road (Jct 6 & 64)\, Woodbury\, CT\, United States
CATEGORIES:Antique Shows
END:VEVENT
BEGIN:VEVENT
DTSTART;TZID=America/New_York:20310301T073000
DTEND;TZID=America/New_York:20310301T143000
DTSTAMP:20260425T223649
CREATED:20251217T195441Z
LAST-MODIFIED:20260409T174040Z
UID:10005939-1930116600-1930141800@journalofantiques.com
SUMMARY:Woodbury Antiques and Flea Market
DESCRIPTION:April-November: Woodbury\, CT\n44 Sherman Hill Road (Jct 6 & 64)\nEvery Saturday\, 7:30am-2:30pm\nFree Admission & Free Parking\n203-263-6217\nthenewwoodburyfleamarket@gmail.com\nhttps://www.facebook.com/woodburyflea/
URL:https://journalofantiques.com/event/woodbury-antiques-and-flea-market/2031-03-01/
LOCATION:Woodbury Antiques and Flea Market\, 44 Sherman Hill Road (Jct 6 & 64)\, Woodbury\, CT\, United States
CATEGORIES:Antique Shows
END:VEVENT
BEGIN:VEVENT
DTSTART;TZID=America/New_York:20310308T073000
DTEND;TZID=America/New_York:20310308T143000
DTSTAMP:20260425T223649
CREATED:20251217T195441Z
LAST-MODIFIED:20260409T174040Z
UID:10005940-1930721400-1930746600@journalofantiques.com
SUMMARY:Woodbury Antiques and Flea Market
DESCRIPTION:April-November: Woodbury\, CT\n44 Sherman Hill Road (Jct 6 & 64)\nEvery Saturday\, 7:30am-2:30pm\nFree Admission & Free Parking\n203-263-6217\nthenewwoodburyfleamarket@gmail.com\nhttps://www.facebook.com/woodburyflea/
URL:https://journalofantiques.com/event/woodbury-antiques-and-flea-market/2031-03-08/
LOCATION:Woodbury Antiques and Flea Market\, 44 Sherman Hill Road (Jct 6 & 64)\, Woodbury\, CT\, United States
CATEGORIES:Antique Shows
END:VEVENT
BEGIN:VEVENT
DTSTART;TZID=America/New_York:20310315T073000
DTEND;TZID=America/New_York:20310315T143000
DTSTAMP:20260425T223649
CREATED:20251217T195441Z
LAST-MODIFIED:20260409T174040Z
UID:10005941-1931326200-1931351400@journalofantiques.com
SUMMARY:Woodbury Antiques and Flea Market
DESCRIPTION:April-November: Woodbury\, CT\n44 Sherman Hill Road (Jct 6 & 64)\nEvery Saturday\, 7:30am-2:30pm\nFree Admission & Free Parking\n203-263-6217\nthenewwoodburyfleamarket@gmail.com\nhttps://www.facebook.com/woodburyflea/
URL:https://journalofantiques.com/event/woodbury-antiques-and-flea-market/2031-03-15/
LOCATION:Woodbury Antiques and Flea Market\, 44 Sherman Hill Road (Jct 6 & 64)\, Woodbury\, CT\, United States
CATEGORIES:Antique Shows
END:VEVENT
BEGIN:VEVENT
DTSTART;TZID=America/New_York:20310322T073000
DTEND;TZID=America/New_York:20310322T143000
DTSTAMP:20260425T223649
CREATED:20251217T195441Z
LAST-MODIFIED:20260409T174040Z
UID:10005942-1931931000-1931956200@journalofantiques.com
SUMMARY:Woodbury Antiques and Flea Market
DESCRIPTION:April-November: Woodbury\, CT\n44 Sherman Hill Road (Jct 6 & 64)\nEvery Saturday\, 7:30am-2:30pm\nFree Admission & Free Parking\n203-263-6217\nthenewwoodburyfleamarket@gmail.com\nhttps://www.facebook.com/woodburyflea/
URL:https://journalofantiques.com/event/woodbury-antiques-and-flea-market/2031-03-22/
LOCATION:Woodbury Antiques and Flea Market\, 44 Sherman Hill Road (Jct 6 & 64)\, Woodbury\, CT\, United States
CATEGORIES:Antique Shows
END:VEVENT
BEGIN:VEVENT
DTSTART;TZID=America/New_York:20310329T073000
DTEND;TZID=America/New_York:20310329T143000
DTSTAMP:20260425T223649
CREATED:20251217T195441Z
LAST-MODIFIED:20260409T174040Z
UID:10005943-1932535800-1932561000@journalofantiques.com
SUMMARY:Woodbury Antiques and Flea Market
DESCRIPTION:April-November: Woodbury\, CT\n44 Sherman Hill Road (Jct 6 & 64)\nEvery Saturday\, 7:30am-2:30pm\nFree Admission & Free Parking\n203-263-6217\nthenewwoodburyfleamarket@gmail.com\nhttps://www.facebook.com/woodburyflea/
URL:https://journalofantiques.com/event/woodbury-antiques-and-flea-market/2031-03-29/
LOCATION:Woodbury Antiques and Flea Market\, 44 Sherman Hill Road (Jct 6 & 64)\, Woodbury\, CT\, United States
CATEGORIES:Antique Shows
END:VEVENT
BEGIN:VEVENT
DTSTART;TZID=America/New_York:20310405T073000
DTEND;TZID=America/New_York:20310405T143000
DTSTAMP:20260425T223649
CREATED:20251217T195441Z
LAST-MODIFIED:20260409T174040Z
UID:10005944-1933140600-1933165800@journalofantiques.com
SUMMARY:Woodbury Antiques and Flea Market
DESCRIPTION:April-November: Woodbury\, CT\n44 Sherman Hill Road (Jct 6 & 64)\nEvery Saturday\, 7:30am-2:30pm\nFree Admission & Free Parking\n203-263-6217\nthenewwoodburyfleamarket@gmail.com\nhttps://www.facebook.com/woodburyflea/
URL:https://journalofantiques.com/event/woodbury-antiques-and-flea-market/2031-04-05/
LOCATION:Woodbury Antiques and Flea Market\, 44 Sherman Hill Road (Jct 6 & 64)\, Woodbury\, CT\, United States
CATEGORIES:Antique Shows
END:VEVENT
END:VCALENDAR