    BEGIN:VCALENDAR
VERSION:2.0
PRODID:-//The Journal of Antiques and Collectibles - ECPv6.15.20//NONSGML v1.0//EN
CALSCALE:GREGORIAN
METHOD:PUBLISH
X-ORIGINAL-URL:https://journalofantiques.com
X-WR-CALDESC:Events for The Journal of Antiques and Collectibles
REFRESH-INTERVAL;VALUE=DURATION:PT1H
X-Robots-Tag:noindex
X-PUBLISHED-TTL:PT1H
BEGIN:VTIMEZONE
TZID:America/New_York
BEGIN:DAYLIGHT
TZOFFSETFROM:-0500
TZOFFSETTO:-0400
TZNAME:EDT
DTSTART:20250309T070000
END:DAYLIGHT
BEGIN:STANDARD
TZOFFSETFROM:-0400
TZOFFSETTO:-0500
TZNAME:EST
DTSTART:20251102T060000
END:STANDARD
BEGIN:DAYLIGHT
TZOFFSETFROM:-0500
TZOFFSETTO:-0400
TZNAME:EDT
DTSTART:20260308T070000
END:DAYLIGHT
BEGIN:STANDARD
TZOFFSETFROM:-0400
TZOFFSETTO:-0500
TZNAME:EST
DTSTART:20261101T060000
END:STANDARD
BEGIN:DAYLIGHT
TZOFFSETFROM:-0500
TZOFFSETTO:-0400
TZNAME:EDT
DTSTART:20270314T070000
END:DAYLIGHT
BEGIN:STANDARD
TZOFFSETFROM:-0400
TZOFFSETTO:-0500
TZNAME:EST
DTSTART:20271107T060000
END:STANDARD
BEGIN:DAYLIGHT
TZOFFSETFROM:-0500
TZOFFSETTO:-0400
TZNAME:EDT
DTSTART:20280312T070000
END:DAYLIGHT
BEGIN:STANDARD
TZOFFSETFROM:-0400
TZOFFSETTO:-0500
TZNAME:EST
DTSTART:20281105T060000
END:STANDARD
END:VTIMEZONE
BEGIN:VEVENT
DTSTART;TZID=America/New_York:20261121T073000
DTEND;TZID=America/New_York:20261121T143000
DTSTAMP:20260424T131501
CREATED:20251217T195441Z
LAST-MODIFIED:20260409T174040Z
UID:10004752-1795246200-1795271400@journalofantiques.com
SUMMARY:Woodbury Antiques and Flea Market
DESCRIPTION:April-November: Woodbury\, CT\n44 Sherman Hill Road (Jct 6 & 64)\nEvery Saturday\, 7:30am-2:30pm\nFree Admission & Free Parking\n203-263-6217\nthenewwoodburyfleamarket@gmail.com\nhttps://www.facebook.com/woodburyflea/
URL:https://journalofantiques.com/event/woodbury-antiques-and-flea-market/2026-11-21/
LOCATION:Woodbury Antiques and Flea Market\, 44 Sherman Hill Road (Jct 6 & 64)\, Woodbury\, CT\, United States
CATEGORIES:Antique Shows
END:VEVENT
BEGIN:VEVENT
DTSTART;TZID=America/New_York:20261128T073000
DTEND;TZID=America/New_York:20261128T143000
DTSTAMP:20260424T131501
CREATED:20251217T195441Z
LAST-MODIFIED:20260409T174040Z
UID:10004753-1795851000-1795876200@journalofantiques.com
SUMMARY:Woodbury Antiques and Flea Market
DESCRIPTION:April-November: Woodbury\, CT\n44 Sherman Hill Road (Jct 6 & 64)\nEvery Saturday\, 7:30am-2:30pm\nFree Admission & Free Parking\n203-263-6217\nthenewwoodburyfleamarket@gmail.com\nhttps://www.facebook.com/woodburyflea/
URL:https://journalofantiques.com/event/woodbury-antiques-and-flea-market/2026-11-28/
LOCATION:Woodbury Antiques and Flea Market\, 44 Sherman Hill Road (Jct 6 & 64)\, Woodbury\, CT\, United States
CATEGORIES:Antique Shows
END:VEVENT
BEGIN:VEVENT
DTSTART;TZID=America/New_York:20261205T073000
DTEND;TZID=America/New_York:20261205T143000
DTSTAMP:20260424T131501
CREATED:20251217T195441Z
LAST-MODIFIED:20260409T174040Z
UID:10004754-1796455800-1796481000@journalofantiques.com
SUMMARY:Woodbury Antiques and Flea Market
DESCRIPTION:April-November: Woodbury\, CT\n44 Sherman Hill Road (Jct 6 & 64)\nEvery Saturday\, 7:30am-2:30pm\nFree Admission & Free Parking\n203-263-6217\nthenewwoodburyfleamarket@gmail.com\nhttps://www.facebook.com/woodburyflea/
URL:https://journalofantiques.com/event/woodbury-antiques-and-flea-market/2026-12-05/
LOCATION:Woodbury Antiques and Flea Market\, 44 Sherman Hill Road (Jct 6 & 64)\, Woodbury\, CT\, United States
CATEGORIES:Antique Shows
END:VEVENT
BEGIN:VEVENT
DTSTART;TZID=America/New_York:20261212T073000
DTEND;TZID=America/New_York:20261212T143000
DTSTAMP:20260424T131501
CREATED:20251217T195441Z
LAST-MODIFIED:20260409T174040Z
UID:10004755-1797060600-1797085800@journalofantiques.com
SUMMARY:Woodbury Antiques and Flea Market
DESCRIPTION:April-November: Woodbury\, CT\n44 Sherman Hill Road (Jct 6 & 64)\nEvery Saturday\, 7:30am-2:30pm\nFree Admission & Free Parking\n203-263-6217\nthenewwoodburyfleamarket@gmail.com\nhttps://www.facebook.com/woodburyflea/
URL:https://journalofantiques.com/event/woodbury-antiques-and-flea-market/2026-12-12/
LOCATION:Woodbury Antiques and Flea Market\, 44 Sherman Hill Road (Jct 6 & 64)\, Woodbury\, CT\, United States
CATEGORIES:Antique Shows
END:VEVENT
BEGIN:VEVENT
DTSTART;TZID=America/New_York:20261219T073000
DTEND;TZID=America/New_York:20261219T143000
DTSTAMP:20260424T131501
CREATED:20251217T195441Z
LAST-MODIFIED:20260409T174040Z
UID:10004756-1797665400-1797690600@journalofantiques.com
SUMMARY:Woodbury Antiques and Flea Market
DESCRIPTION:April-November: Woodbury\, CT\n44 Sherman Hill Road (Jct 6 & 64)\nEvery Saturday\, 7:30am-2:30pm\nFree Admission & Free Parking\n203-263-6217\nthenewwoodburyfleamarket@gmail.com\nhttps://www.facebook.com/woodburyflea/
URL:https://journalofantiques.com/event/woodbury-antiques-and-flea-market/2026-12-19/
LOCATION:Woodbury Antiques and Flea Market\, 44 Sherman Hill Road (Jct 6 & 64)\, Woodbury\, CT\, United States
CATEGORIES:Antique Shows
END:VEVENT
BEGIN:VEVENT
DTSTART;TZID=America/New_York:20261226T073000
DTEND;TZID=America/New_York:20261226T143000
DTSTAMP:20260424T131501
CREATED:20251217T195441Z
LAST-MODIFIED:20260409T174040Z
UID:10004757-1798270200-1798295400@journalofantiques.com
SUMMARY:Woodbury Antiques and Flea Market
DESCRIPTION:April-November: Woodbury\, CT\n44 Sherman Hill Road (Jct 6 & 64)\nEvery Saturday\, 7:30am-2:30pm\nFree Admission & Free Parking\n203-263-6217\nthenewwoodburyfleamarket@gmail.com\nhttps://www.facebook.com/woodburyflea/
URL:https://journalofantiques.com/event/woodbury-antiques-and-flea-market/2026-12-26/
LOCATION:Woodbury Antiques and Flea Market\, 44 Sherman Hill Road (Jct 6 & 64)\, Woodbury\, CT\, United States
CATEGORIES:Antique Shows
END:VEVENT
BEGIN:VEVENT
DTSTART;TZID=America/New_York:20270102T073000
DTEND;TZID=America/New_York:20270102T143000
DTSTAMP:20260424T131501
CREATED:20251217T195441Z
LAST-MODIFIED:20260409T174040Z
UID:10004758-1798875000-1798900200@journalofantiques.com
SUMMARY:Woodbury Antiques and Flea Market
DESCRIPTION:April-November: Woodbury\, CT\n44 Sherman Hill Road (Jct 6 & 64)\nEvery Saturday\, 7:30am-2:30pm\nFree Admission & Free Parking\n203-263-6217\nthenewwoodburyfleamarket@gmail.com\nhttps://www.facebook.com/woodburyflea/
URL:https://journalofantiques.com/event/woodbury-antiques-and-flea-market/2027-01-02/
LOCATION:Woodbury Antiques and Flea Market\, 44 Sherman Hill Road (Jct 6 & 64)\, Woodbury\, CT\, United States
CATEGORIES:Antique Shows
END:VEVENT
BEGIN:VEVENT
DTSTART;TZID=America/New_York:20270109T073000
DTEND;TZID=America/New_York:20270109T143000
DTSTAMP:20260424T131501
CREATED:20251217T195441Z
LAST-MODIFIED:20260409T174040Z
UID:10004759-1799479800-1799505000@journalofantiques.com
SUMMARY:Woodbury Antiques and Flea Market
DESCRIPTION:April-November: Woodbury\, CT\n44 Sherman Hill Road (Jct 6 & 64)\nEvery Saturday\, 7:30am-2:30pm\nFree Admission & Free Parking\n203-263-6217\nthenewwoodburyfleamarket@gmail.com\nhttps://www.facebook.com/woodburyflea/
URL:https://journalofantiques.com/event/woodbury-antiques-and-flea-market/2027-01-09/
LOCATION:Woodbury Antiques and Flea Market\, 44 Sherman Hill Road (Jct 6 & 64)\, Woodbury\, CT\, United States
CATEGORIES:Antique Shows
END:VEVENT
BEGIN:VEVENT
DTSTART;TZID=America/New_York:20270116T073000
DTEND;TZID=America/New_York:20270116T143000
DTSTAMP:20260424T131501
CREATED:20251217T195441Z
LAST-MODIFIED:20260409T174040Z
UID:10004760-1800084600-1800109800@journalofantiques.com
SUMMARY:Woodbury Antiques and Flea Market
DESCRIPTION:April-November: Woodbury\, CT\n44 Sherman Hill Road (Jct 6 & 64)\nEvery Saturday\, 7:30am-2:30pm\nFree Admission & Free Parking\n203-263-6217\nthenewwoodburyfleamarket@gmail.com\nhttps://www.facebook.com/woodburyflea/
URL:https://journalofantiques.com/event/woodbury-antiques-and-flea-market/2027-01-16/
LOCATION:Woodbury Antiques and Flea Market\, 44 Sherman Hill Road (Jct 6 & 64)\, Woodbury\, CT\, United States
CATEGORIES:Antique Shows
END:VEVENT
BEGIN:VEVENT
DTSTART;TZID=America/New_York:20270123T073000
DTEND;TZID=America/New_York:20270123T143000
DTSTAMP:20260424T131501
CREATED:20251217T195441Z
LAST-MODIFIED:20260409T174040Z
UID:10004761-1800689400-1800714600@journalofantiques.com
SUMMARY:Woodbury Antiques and Flea Market
DESCRIPTION:April-November: Woodbury\, CT\n44 Sherman Hill Road (Jct 6 & 64)\nEvery Saturday\, 7:30am-2:30pm\nFree Admission & Free Parking\n203-263-6217\nthenewwoodburyfleamarket@gmail.com\nhttps://www.facebook.com/woodburyflea/
URL:https://journalofantiques.com/event/woodbury-antiques-and-flea-market/2027-01-23/
LOCATION:Woodbury Antiques and Flea Market\, 44 Sherman Hill Road (Jct 6 & 64)\, Woodbury\, CT\, United States
CATEGORIES:Antique Shows
END:VEVENT
BEGIN:VEVENT
DTSTART;TZID=America/New_York:20270130T073000
DTEND;TZID=America/New_York:20270130T143000
DTSTAMP:20260424T131501
CREATED:20251217T195441Z
LAST-MODIFIED:20260409T174040Z
UID:10004762-1801294200-1801319400@journalofantiques.com
SUMMARY:Woodbury Antiques and Flea Market
DESCRIPTION:April-November: Woodbury\, CT\n44 Sherman Hill Road (Jct 6 & 64)\nEvery Saturday\, 7:30am-2:30pm\nFree Admission & Free Parking\n203-263-6217\nthenewwoodburyfleamarket@gmail.com\nhttps://www.facebook.com/woodburyflea/
URL:https://journalofantiques.com/event/woodbury-antiques-and-flea-market/2027-01-30/
LOCATION:Woodbury Antiques and Flea Market\, 44 Sherman Hill Road (Jct 6 & 64)\, Woodbury\, CT\, United States
CATEGORIES:Antique Shows
END:VEVENT
BEGIN:VEVENT
DTSTART;TZID=America/New_York:20270206T073000
DTEND;TZID=America/New_York:20270206T143000
DTSTAMP:20260424T131501
CREATED:20251217T195441Z
LAST-MODIFIED:20260409T174040Z
UID:10004763-1801899000-1801924200@journalofantiques.com
SUMMARY:Woodbury Antiques and Flea Market
DESCRIPTION:April-November: Woodbury\, CT\n44 Sherman Hill Road (Jct 6 & 64)\nEvery Saturday\, 7:30am-2:30pm\nFree Admission & Free Parking\n203-263-6217\nthenewwoodburyfleamarket@gmail.com\nhttps://www.facebook.com/woodburyflea/
URL:https://journalofantiques.com/event/woodbury-antiques-and-flea-market/2027-02-06/
LOCATION:Woodbury Antiques and Flea Market\, 44 Sherman Hill Road (Jct 6 & 64)\, Woodbury\, CT\, United States
CATEGORIES:Antique Shows
END:VEVENT
BEGIN:VEVENT
DTSTART;TZID=America/New_York:20270213T073000
DTEND;TZID=America/New_York:20270213T143000
DTSTAMP:20260424T131501
CREATED:20251217T195441Z
LAST-MODIFIED:20260409T174040Z
UID:10004764-1802503800-1802529000@journalofantiques.com
SUMMARY:Woodbury Antiques and Flea Market
DESCRIPTION:April-November: Woodbury\, CT\n44 Sherman Hill Road (Jct 6 & 64)\nEvery Saturday\, 7:30am-2:30pm\nFree Admission & Free Parking\n203-263-6217\nthenewwoodburyfleamarket@gmail.com\nhttps://www.facebook.com/woodburyflea/
URL:https://journalofantiques.com/event/woodbury-antiques-and-flea-market/2027-02-13/
LOCATION:Woodbury Antiques and Flea Market\, 44 Sherman Hill Road (Jct 6 & 64)\, Woodbury\, CT\, United States
CATEGORIES:Antique Shows
END:VEVENT
BEGIN:VEVENT
DTSTART;TZID=America/New_York:20270220T073000
DTEND;TZID=America/New_York:20270220T143000
DTSTAMP:20260424T131501
CREATED:20251217T195441Z
LAST-MODIFIED:20260409T174040Z
UID:10004765-1803108600-1803133800@journalofantiques.com
SUMMARY:Woodbury Antiques and Flea Market
DESCRIPTION:April-November: Woodbury\, CT\n44 Sherman Hill Road (Jct 6 & 64)\nEvery Saturday\, 7:30am-2:30pm\nFree Admission & Free Parking\n203-263-6217\nthenewwoodburyfleamarket@gmail.com\nhttps://www.facebook.com/woodburyflea/
URL:https://journalofantiques.com/event/woodbury-antiques-and-flea-market/2027-02-20/
LOCATION:Woodbury Antiques and Flea Market\, 44 Sherman Hill Road (Jct 6 & 64)\, Woodbury\, CT\, United States
CATEGORIES:Antique Shows
END:VEVENT
BEGIN:VEVENT
DTSTART;TZID=America/New_York:20270227T073000
DTEND;TZID=America/New_York:20270227T143000
DTSTAMP:20260424T131501
CREATED:20251217T195441Z
LAST-MODIFIED:20260409T174040Z
UID:10004766-1803713400-1803738600@journalofantiques.com
SUMMARY:Woodbury Antiques and Flea Market
DESCRIPTION:April-November: Woodbury\, CT\n44 Sherman Hill Road (Jct 6 & 64)\nEvery Saturday\, 7:30am-2:30pm\nFree Admission & Free Parking\n203-263-6217\nthenewwoodburyfleamarket@gmail.com\nhttps://www.facebook.com/woodburyflea/
URL:https://journalofantiques.com/event/woodbury-antiques-and-flea-market/2027-02-27/
LOCATION:Woodbury Antiques and Flea Market\, 44 Sherman Hill Road (Jct 6 & 64)\, Woodbury\, CT\, United States
CATEGORIES:Antique Shows
END:VEVENT
BEGIN:VEVENT
DTSTART;TZID=America/New_York:20270306T073000
DTEND;TZID=America/New_York:20270306T143000
DTSTAMP:20260424T131501
CREATED:20251217T195441Z
LAST-MODIFIED:20260409T174040Z
UID:10004767-1804318200-1804343400@journalofantiques.com
SUMMARY:Woodbury Antiques and Flea Market
DESCRIPTION:April-November: Woodbury\, CT\n44 Sherman Hill Road (Jct 6 & 64)\nEvery Saturday\, 7:30am-2:30pm\nFree Admission & Free Parking\n203-263-6217\nthenewwoodburyfleamarket@gmail.com\nhttps://www.facebook.com/woodburyflea/
URL:https://journalofantiques.com/event/woodbury-antiques-and-flea-market/2027-03-06/
LOCATION:Woodbury Antiques and Flea Market\, 44 Sherman Hill Road (Jct 6 & 64)\, Woodbury\, CT\, United States
CATEGORIES:Antique Shows
END:VEVENT
BEGIN:VEVENT
DTSTART;TZID=America/New_York:20270313T073000
DTEND;TZID=America/New_York:20270313T143000
DTSTAMP:20260424T131501
CREATED:20251217T195441Z
LAST-MODIFIED:20260409T174040Z
UID:10004768-1804923000-1804948200@journalofantiques.com
SUMMARY:Woodbury Antiques and Flea Market
DESCRIPTION:April-November: Woodbury\, CT\n44 Sherman Hill Road (Jct 6 & 64)\nEvery Saturday\, 7:30am-2:30pm\nFree Admission & Free Parking\n203-263-6217\nthenewwoodburyfleamarket@gmail.com\nhttps://www.facebook.com/woodburyflea/
URL:https://journalofantiques.com/event/woodbury-antiques-and-flea-market/2027-03-13/
LOCATION:Woodbury Antiques and Flea Market\, 44 Sherman Hill Road (Jct 6 & 64)\, Woodbury\, CT\, United States
CATEGORIES:Antique Shows
END:VEVENT
BEGIN:VEVENT
DTSTART;TZID=America/New_York:20270320T073000
DTEND;TZID=America/New_York:20270320T143000
DTSTAMP:20260424T131501
CREATED:20251217T195441Z
LAST-MODIFIED:20260409T174040Z
UID:10004769-1805527800-1805553000@journalofantiques.com
SUMMARY:Woodbury Antiques and Flea Market
DESCRIPTION:April-November: Woodbury\, CT\n44 Sherman Hill Road (Jct 6 & 64)\nEvery Saturday\, 7:30am-2:30pm\nFree Admission & Free Parking\n203-263-6217\nthenewwoodburyfleamarket@gmail.com\nhttps://www.facebook.com/woodburyflea/
URL:https://journalofantiques.com/event/woodbury-antiques-and-flea-market/2027-03-20/
LOCATION:Woodbury Antiques and Flea Market\, 44 Sherman Hill Road (Jct 6 & 64)\, Woodbury\, CT\, United States
CATEGORIES:Antique Shows
END:VEVENT
BEGIN:VEVENT
DTSTART;TZID=America/New_York:20270327T073000
DTEND;TZID=America/New_York:20270327T143000
DTSTAMP:20260424T131501
CREATED:20251217T195441Z
LAST-MODIFIED:20260409T174040Z
UID:10004770-1806132600-1806157800@journalofantiques.com
SUMMARY:Woodbury Antiques and Flea Market
DESCRIPTION:April-November: Woodbury\, CT\n44 Sherman Hill Road (Jct 6 & 64)\nEvery Saturday\, 7:30am-2:30pm\nFree Admission & Free Parking\n203-263-6217\nthenewwoodburyfleamarket@gmail.com\nhttps://www.facebook.com/woodburyflea/
URL:https://journalofantiques.com/event/woodbury-antiques-and-flea-market/2027-03-27/
LOCATION:Woodbury Antiques and Flea Market\, 44 Sherman Hill Road (Jct 6 & 64)\, Woodbury\, CT\, United States
CATEGORIES:Antique Shows
END:VEVENT
BEGIN:VEVENT
DTSTART;TZID=America/New_York:20270403T073000
DTEND;TZID=America/New_York:20270403T143000
DTSTAMP:20260424T131501
CREATED:20251217T195441Z
LAST-MODIFIED:20260409T174040Z
UID:10004771-1806737400-1806762600@journalofantiques.com
SUMMARY:Woodbury Antiques and Flea Market
DESCRIPTION:April-November: Woodbury\, CT\n44 Sherman Hill Road (Jct 6 & 64)\nEvery Saturday\, 7:30am-2:30pm\nFree Admission & Free Parking\n203-263-6217\nthenewwoodburyfleamarket@gmail.com\nhttps://www.facebook.com/woodburyflea/
URL:https://journalofantiques.com/event/woodbury-antiques-and-flea-market/2027-04-03/
LOCATION:Woodbury Antiques and Flea Market\, 44 Sherman Hill Road (Jct 6 & 64)\, Woodbury\, CT\, United States
CATEGORIES:Antique Shows
END:VEVENT
BEGIN:VEVENT
DTSTART;TZID=America/New_York:20270410T073000
DTEND;TZID=America/New_York:20270410T143000
DTSTAMP:20260424T131501
CREATED:20251217T195441Z
LAST-MODIFIED:20260409T174040Z
UID:10004772-1807342200-1807367400@journalofantiques.com
SUMMARY:Woodbury Antiques and Flea Market
DESCRIPTION:April-November: Woodbury\, CT\n44 Sherman Hill Road (Jct 6 & 64)\nEvery Saturday\, 7:30am-2:30pm\nFree Admission & Free Parking\n203-263-6217\nthenewwoodburyfleamarket@gmail.com\nhttps://www.facebook.com/woodburyflea/
URL:https://journalofantiques.com/event/woodbury-antiques-and-flea-market/2027-04-10/
LOCATION:Woodbury Antiques and Flea Market\, 44 Sherman Hill Road (Jct 6 & 64)\, Woodbury\, CT\, United States
CATEGORIES:Antique Shows
END:VEVENT
BEGIN:VEVENT
DTSTART;TZID=America/New_York:20270417T073000
DTEND;TZID=America/New_York:20270417T143000
DTSTAMP:20260424T131501
CREATED:20251217T195441Z
LAST-MODIFIED:20260409T174040Z
UID:10004773-1807947000-1807972200@journalofantiques.com
SUMMARY:Woodbury Antiques and Flea Market
DESCRIPTION:April-November: Woodbury\, CT\n44 Sherman Hill Road (Jct 6 & 64)\nEvery Saturday\, 7:30am-2:30pm\nFree Admission & Free Parking\n203-263-6217\nthenewwoodburyfleamarket@gmail.com\nhttps://www.facebook.com/woodburyflea/
URL:https://journalofantiques.com/event/woodbury-antiques-and-flea-market/2027-04-17/
LOCATION:Woodbury Antiques and Flea Market\, 44 Sherman Hill Road (Jct 6 & 64)\, Woodbury\, CT\, United States
CATEGORIES:Antique Shows
END:VEVENT
BEGIN:VEVENT
DTSTART;TZID=America/New_York:20270424T073000
DTEND;TZID=America/New_York:20270424T143000
DTSTAMP:20260424T131501
CREATED:20251217T195441Z
LAST-MODIFIED:20260409T174040Z
UID:10004774-1808551800-1808577000@journalofantiques.com
SUMMARY:Woodbury Antiques and Flea Market
DESCRIPTION:April-November: Woodbury\, CT\n44 Sherman Hill Road (Jct 6 & 64)\nEvery Saturday\, 7:30am-2:30pm\nFree Admission & Free Parking\n203-263-6217\nthenewwoodburyfleamarket@gmail.com\nhttps://www.facebook.com/woodburyflea/
URL:https://journalofantiques.com/event/woodbury-antiques-and-flea-market/2027-04-24/
LOCATION:Woodbury Antiques and Flea Market\, 44 Sherman Hill Road (Jct 6 & 64)\, Woodbury\, CT\, United States
CATEGORIES:Antique Shows
END:VEVENT
BEGIN:VEVENT
DTSTART;TZID=America/New_York:20270501T073000
DTEND;TZID=America/New_York:20270501T143000
DTSTAMP:20260424T131501
CREATED:20251217T195441Z
LAST-MODIFIED:20260409T174040Z
UID:10004775-1809156600-1809181800@journalofantiques.com
SUMMARY:Woodbury Antiques and Flea Market
DESCRIPTION:April-November: Woodbury\, CT\n44 Sherman Hill Road (Jct 6 & 64)\nEvery Saturday\, 7:30am-2:30pm\nFree Admission & Free Parking\n203-263-6217\nthenewwoodburyfleamarket@gmail.com\nhttps://www.facebook.com/woodburyflea/
URL:https://journalofantiques.com/event/woodbury-antiques-and-flea-market/2027-05-01/
LOCATION:Woodbury Antiques and Flea Market\, 44 Sherman Hill Road (Jct 6 & 64)\, Woodbury\, CT\, United States
CATEGORIES:Antique Shows
END:VEVENT
BEGIN:VEVENT
DTSTART;TZID=America/New_York:20270508T073000
DTEND;TZID=America/New_York:20270508T143000
DTSTAMP:20260424T131501
CREATED:20251217T195441Z
LAST-MODIFIED:20260409T174040Z
UID:10004776-1809761400-1809786600@journalofantiques.com
SUMMARY:Woodbury Antiques and Flea Market
DESCRIPTION:April-November: Woodbury\, CT\n44 Sherman Hill Road (Jct 6 & 64)\nEvery Saturday\, 7:30am-2:30pm\nFree Admission & Free Parking\n203-263-6217\nthenewwoodburyfleamarket@gmail.com\nhttps://www.facebook.com/woodburyflea/
URL:https://journalofantiques.com/event/woodbury-antiques-and-flea-market/2027-05-08/
LOCATION:Woodbury Antiques and Flea Market\, 44 Sherman Hill Road (Jct 6 & 64)\, Woodbury\, CT\, United States
CATEGORIES:Antique Shows
END:VEVENT
BEGIN:VEVENT
DTSTART;TZID=America/New_York:20270515T073000
DTEND;TZID=America/New_York:20270515T143000
DTSTAMP:20260424T131501
CREATED:20251217T195441Z
LAST-MODIFIED:20260409T174040Z
UID:10004777-1810366200-1810391400@journalofantiques.com
SUMMARY:Woodbury Antiques and Flea Market
DESCRIPTION:April-November: Woodbury\, CT\n44 Sherman Hill Road (Jct 6 & 64)\nEvery Saturday\, 7:30am-2:30pm\nFree Admission & Free Parking\n203-263-6217\nthenewwoodburyfleamarket@gmail.com\nhttps://www.facebook.com/woodburyflea/
URL:https://journalofantiques.com/event/woodbury-antiques-and-flea-market/2027-05-15/
LOCATION:Woodbury Antiques and Flea Market\, 44 Sherman Hill Road (Jct 6 & 64)\, Woodbury\, CT\, United States
CATEGORIES:Antique Shows
END:VEVENT
BEGIN:VEVENT
DTSTART;TZID=America/New_York:20270522T073000
DTEND;TZID=America/New_York:20270522T143000
DTSTAMP:20260424T131501
CREATED:20251217T195441Z
LAST-MODIFIED:20260409T174040Z
UID:10004778-1810971000-1810996200@journalofantiques.com
SUMMARY:Woodbury Antiques and Flea Market
DESCRIPTION:April-November: Woodbury\, CT\n44 Sherman Hill Road (Jct 6 & 64)\nEvery Saturday\, 7:30am-2:30pm\nFree Admission & Free Parking\n203-263-6217\nthenewwoodburyfleamarket@gmail.com\nhttps://www.facebook.com/woodburyflea/
URL:https://journalofantiques.com/event/woodbury-antiques-and-flea-market/2027-05-22/
LOCATION:Woodbury Antiques and Flea Market\, 44 Sherman Hill Road (Jct 6 & 64)\, Woodbury\, CT\, United States
CATEGORIES:Antique Shows
END:VEVENT
BEGIN:VEVENT
DTSTART;TZID=America/New_York:20270529T073000
DTEND;TZID=America/New_York:20270529T143000
DTSTAMP:20260424T131501
CREATED:20251217T195441Z
LAST-MODIFIED:20260409T174040Z
UID:10004779-1811575800-1811601000@journalofantiques.com
SUMMARY:Woodbury Antiques and Flea Market
DESCRIPTION:April-November: Woodbury\, CT\n44 Sherman Hill Road (Jct 6 & 64)\nEvery Saturday\, 7:30am-2:30pm\nFree Admission & Free Parking\n203-263-6217\nthenewwoodburyfleamarket@gmail.com\nhttps://www.facebook.com/woodburyflea/
URL:https://journalofantiques.com/event/woodbury-antiques-and-flea-market/2027-05-29/
LOCATION:Woodbury Antiques and Flea Market\, 44 Sherman Hill Road (Jct 6 & 64)\, Woodbury\, CT\, United States
CATEGORIES:Antique Shows
END:VEVENT
BEGIN:VEVENT
DTSTART;TZID=America/New_York:20270605T073000
DTEND;TZID=America/New_York:20270605T143000
DTSTAMP:20260424T131501
CREATED:20251217T195441Z
LAST-MODIFIED:20260409T174040Z
UID:10004780-1812180600-1812205800@journalofantiques.com
SUMMARY:Woodbury Antiques and Flea Market
DESCRIPTION:April-November: Woodbury\, CT\n44 Sherman Hill Road (Jct 6 & 64)\nEvery Saturday\, 7:30am-2:30pm\nFree Admission & Free Parking\n203-263-6217\nthenewwoodburyfleamarket@gmail.com\nhttps://www.facebook.com/woodburyflea/
URL:https://journalofantiques.com/event/woodbury-antiques-and-flea-market/2027-06-05/
LOCATION:Woodbury Antiques and Flea Market\, 44 Sherman Hill Road (Jct 6 & 64)\, Woodbury\, CT\, United States
CATEGORIES:Antique Shows
END:VEVENT
BEGIN:VEVENT
DTSTART;TZID=America/New_York:20270612T073000
DTEND;TZID=America/New_York:20270612T143000
DTSTAMP:20260424T131501
CREATED:20251217T195441Z
LAST-MODIFIED:20260409T174040Z
UID:10004781-1812785400-1812810600@journalofantiques.com
SUMMARY:Woodbury Antiques and Flea Market
DESCRIPTION:April-November: Woodbury\, CT\n44 Sherman Hill Road (Jct 6 & 64)\nEvery Saturday\, 7:30am-2:30pm\nFree Admission & Free Parking\n203-263-6217\nthenewwoodburyfleamarket@gmail.com\nhttps://www.facebook.com/woodburyflea/
URL:https://journalofantiques.com/event/woodbury-antiques-and-flea-market/2027-06-12/
LOCATION:Woodbury Antiques and Flea Market\, 44 Sherman Hill Road (Jct 6 & 64)\, Woodbury\, CT\, United States
CATEGORIES:Antique Shows
END:VEVENT
END:VCALENDAR